| Back to Multiple platform build/check report for BioC 3.9 |
|
This page was generated on 2019-04-09 11:44:10 -0400 (Tue, 09 Apr 2019).
| Package 333/1703 | Hostname | OS / Arch | INSTALL | BUILD | CHECK | BUILD BIN | ||||||
| consensusSeekeR 1.11.0 Astrid Deschenes
| malbec2 | Linux (Ubuntu 18.04.2 LTS) / x86_64 | OK | OK | [ OK ] | |||||||
| tokay2 | Windows Server 2012 R2 Standard / x64 | OK | OK | OK | OK | |||||||
| celaya2 | OS X 10.11.6 El Capitan / x86_64 | OK | OK | OK | OK | |||||||
| merida2 | OS X 10.11.6 El Capitan / x86_64 | OK | OK | OK | OK |
| Package: consensusSeekeR |
| Version: 1.11.0 |
| Command: /home/biocbuild/bbs-3.9-bioc/R/bin/R CMD check --install=check:consensusSeekeR.install-out.txt --library=/home/biocbuild/bbs-3.9-bioc/R/library --no-vignettes --timings consensusSeekeR_1.11.0.tar.gz |
| StartedAt: 2019-04-08 23:41:33 -0400 (Mon, 08 Apr 2019) |
| EndedAt: 2019-04-08 23:45:02 -0400 (Mon, 08 Apr 2019) |
| EllapsedTime: 208.2 seconds |
| RetCode: 0 |
| Status: OK |
| CheckDir: consensusSeekeR.Rcheck |
| Warnings: 0 |
############################################################################## ############################################################################## ### ### Running command: ### ### /home/biocbuild/bbs-3.9-bioc/R/bin/R CMD check --install=check:consensusSeekeR.install-out.txt --library=/home/biocbuild/bbs-3.9-bioc/R/library --no-vignettes --timings consensusSeekeR_1.11.0.tar.gz ### ############################################################################## ############################################################################## * using log directory ‘/home/biocbuild/bbs-3.9-bioc/meat/consensusSeekeR.Rcheck’ * using R Under development (unstable) (2019-03-18 r76245) * using platform: x86_64-pc-linux-gnu (64-bit) * using session charset: UTF-8 * using option ‘--no-vignettes’ * checking for file ‘consensusSeekeR/DESCRIPTION’ ... OK * this is package ‘consensusSeekeR’ version ‘1.11.0’ * checking package namespace information ... OK * checking package dependencies ... OK * checking if this is a source package ... OK * checking if there is a namespace ... OK * checking for hidden files and directories ... OK * checking for portable file names ... OK * checking for sufficient/correct file permissions ... OK * checking whether package ‘consensusSeekeR’ can be installed ... OK * checking installed package size ... OK * checking package directory ... OK * checking ‘build’ directory ... OK * checking DESCRIPTION meta-information ... OK * checking top-level files ... OK * checking for left-over files ... OK * checking index information ... OK * checking package subdirectories ... OK * checking R files for non-ASCII characters ... OK * checking R files for syntax errors ... OK * checking whether the package can be loaded ... OK * checking whether the package can be loaded with stated dependencies ... OK * checking whether the package can be unloaded cleanly ... OK * checking whether the namespace can be loaded with stated dependencies ... OK * checking whether the namespace can be unloaded cleanly ... OK * checking dependencies in R code ... OK * checking S3 generic/method consistency ... OK * checking replacement functions ... OK * checking foreign function calls ... OK * checking R code for possible problems ... OK * checking Rd files ... OK * checking Rd metadata ... OK * checking Rd cross-references ... OK * checking for missing documentation entries ... OK * checking for code/documentation mismatches ... OK * checking Rd \usage sections ... OK * checking Rd contents ... OK * checking for unstated dependencies in examples ... OK * checking contents of ‘data’ directory ... OK * checking data for non-ASCII characters ... OK * checking data for ASCII and uncompressed saves ... OK * checking files in ‘vignettes’ ... OK * checking examples ... OK * checking for unstated dependencies in ‘tests’ ... OK * checking tests ... Running ‘runTests.R’ OK * checking for unstated dependencies in vignettes ... OK * checking package vignettes in ‘inst/doc’ ... OK * checking running R code from vignettes ... SKIPPED * checking re-building of vignette outputs ... SKIPPED * checking PDF version of manual ... OK * DONE Status: OK
consensusSeekeR.Rcheck/00install.out
############################################################################## ############################################################################## ### ### Running command: ### ### /home/biocbuild/bbs-3.9-bioc/R/bin/R CMD INSTALL consensusSeekeR ### ############################################################################## ############################################################################## * installing to library ‘/home/biocbuild/bbs-3.9-bioc/R/library’ * installing *source* package ‘consensusSeekeR’ ... ** using staged installation ** R ** data ** inst ** byte-compile and prepare package for lazy loading ** help *** installing help indices ** building package indices ** installing vignettes ** testing if installed package can be loaded from temporary location ** testing if installed package can be loaded from final location ** testing if installed package keeps a record of temporary installation path * DONE (consensusSeekeR)
consensusSeekeR.Rcheck/tests/runTests.Rout
R Under development (unstable) (2019-03-18 r76245) -- "Unsuffered Consequences"
Copyright (C) 2019 The R Foundation for Statistical Computing
Platform: x86_64-pc-linux-gnu (64-bit)
R is free software and comes with ABSOLUTELY NO WARRANTY.
You are welcome to redistribute it under certain conditions.
Type 'license()' or 'licence()' for distribution details.
R is a collaborative project with many contributors.
Type 'contributors()' for more information and
'citation()' on how to cite R or R packages in publications.
Type 'demo()' for some demos, 'help()' for on-line help, or
'help.start()' for an HTML browser interface to help.
Type 'q()' to quit R.
> ## Run all tests present in the package
> BiocGenerics:::testPackage("consensusSeekeR")
Attaching package: 'BiocGenerics'
The following objects are masked from 'package:parallel':
clusterApply, clusterApplyLB, clusterCall, clusterEvalQ,
clusterExport, clusterMap, parApply, parCapply, parLapply,
parLapplyLB, parRapply, parSapply, parSapplyLB
The following objects are masked from 'package:stats':
IQR, mad, sd, var, xtabs
The following objects are masked from 'package:base':
Filter, Find, Map, Position, Reduce, anyDuplicated, append,
as.data.frame, basename, cbind, colMeans, colSums, colnames,
dirname, do.call, duplicated, eval, evalq, get, grep, grepl,
intersect, is.unsorted, lapply, mapply, match, mget, order, paste,
pmax, pmax.int, pmin, pmin.int, rank, rbind, rowMeans, rowSums,
rownames, sapply, setdiff, sort, table, tapply, union, unique,
unsplit, which, which.max, which.min
Attaching package: 'S4Vectors'
The following object is masked from 'package:base':
expand.grid
RUNIT TEST PROTOCOL -- Mon Apr 8 23:44:58 2019
***********************************************
Number of test functions: 56
Number of errors: 0
Number of failures: 0
1 Test Suite :
consensusSeekeR RUnit Tests - 56 test functions, 0 errors, 0 failures
Number of test functions: 56
Number of errors: 0
Number of failures: 0
>
> proc.time()
user system elapsed
13.997 0.443 14.438
consensusSeekeR.Rcheck/consensusSeekeR-Ex.timings
| name | user | system | elapsed | |
| A549_CTCF_MYJ_NarrowPeaks_partial | 1.469 | 0.032 | 1.500 | |
| A549_CTCF_MYJ_Peaks_partial | 0.405 | 0.028 | 0.433 | |
| A549_CTCF_MYN_NarrowPeaks_partial | 0.353 | 0.024 | 0.376 | |
| A549_CTCF_MYN_Peaks_partial | 0.353 | 0.036 | 0.389 | |
| A549_FOSL2_01_NarrowPeaks_partial | 0.165 | 0.000 | 0.164 | |
| A549_FOSL2_01_Peaks_partial | 0.225 | 0.004 | 0.230 | |
| A549_FOXA1_01_NarrowPeaks_partial | 0.338 | 0.004 | 0.342 | |
| A549_FOXA1_01_Peaks_partial | 0.587 | 0.000 | 0.588 | |
| A549_NR3C1_CFQ_NarrowPeaks_partial | 0.341 | 0.004 | 0.346 | |
| A549_NR3C1_CFQ_Peaks_partial | 0.451 | 0.008 | 0.458 | |
| A549_NR3C1_CFR_NarrowPeaks_partial | 0.329 | 0.004 | 0.333 | |
| A549_NR3C1_CFR_Peaks_partial | 0.383 | 0.004 | 0.387 | |
| A549_NR3C1_CFS_NarrowPeaks_partial | 0.986 | 0.012 | 0.998 | |
| A549_NR3C1_CFS_Peaks_partial | 1.007 | 0.012 | 1.020 | |
| NOrMAL_nucleosome_positions | 0.687 | 0.016 | 0.704 | |
| NOrMAL_nucleosome_ranges | 0.482 | 0.008 | 0.490 | |
| NucPosSimulator_nucleosome_positions | 0.735 | 0.004 | 0.743 | |
| NucPosSimulator_nucleosome_ranges | 0.644 | 0.008 | 0.652 | |
| PING_nucleosome_positions | 0.466 | 0.004 | 0.470 | |
| PING_nucleosome_ranges | 0.412 | 0.008 | 0.420 | |
| findConsensusPeakRegions | 0.828 | 0.000 | 0.828 | |
| findConsensusPeakRegionsValidation | 0.085 | 0.004 | 0.089 | |
| readNarrowPeakFile | 0.105 | 0.000 | 0.105 | |