| Back to Multiple platform build/check report for BioC 3.9 |
|
This page was generated on 2019-04-09 11:36:55 -0400 (Tue, 09 Apr 2019).
| Package 728/1703 | Hostname | OS / Arch | INSTALL | BUILD | CHECK | BUILD BIN | ||||||
| h5vc 2.17.1 Paul Theodor Pyl
| malbec2 | Linux (Ubuntu 18.04.2 LTS) / x86_64 | [ OK ] | OK | OK | |||||||
| tokay2 | Windows Server 2012 R2 Standard / x64 | OK | OK | WARNINGS | OK | |||||||
| celaya2 | OS X 10.11.6 El Capitan / x86_64 | OK | ERROR | skipped | skipped | |||||||
| merida2 | OS X 10.11.6 El Capitan / x86_64 | OK | OK | OK | OK |
| Package: h5vc |
| Version: 2.17.1 |
| Command: /home/biocbuild/bbs-3.9-bioc/R/bin/R CMD INSTALL h5vc |
| StartedAt: 2019-04-08 18:29:37 -0400 (Mon, 08 Apr 2019) |
| EndedAt: 2019-04-08 18:30:06 -0400 (Mon, 08 Apr 2019) |
| EllapsedTime: 28.8 seconds |
| RetCode: 0 |
| Status: OK |
##############################################################################
##############################################################################
###
### Running command:
###
### /home/biocbuild/bbs-3.9-bioc/R/bin/R CMD INSTALL h5vc
###
##############################################################################
##############################################################################
* installing to library ‘/home/biocbuild/bbs-3.9-bioc/R/library’
* installing *source* package ‘h5vc’ ...
** using staged installation
** libs
gcc -I"/home/biocbuild/bbs-3.9-bioc/R/include" -DNDEBUG `echo 'Rhtslib::pkgconfig("PKG_CPPFLAGS")'| "/home/biocbuild/bbs-3.9-bioc/R/bin/R" --vanilla --slave` -I"/home/biocbuild/bbs-3.9-bioc/R/library/Rhtslib/include" -I/usr/local/include -fpic -g -O2 -Wall -c bam.c -o bam.o
gcc -I"/home/biocbuild/bbs-3.9-bioc/R/include" -DNDEBUG `echo 'Rhtslib::pkgconfig("PKG_CPPFLAGS")'| "/home/biocbuild/bbs-3.9-bioc/R/bin/R" --vanilla --slave` -I"/home/biocbuild/bbs-3.9-bioc/R/library/Rhtslib/include" -I/usr/local/include -fpic -g -O2 -Wall -c bam_plbuf.c -o bam_plbuf.o
gcc -I"/home/biocbuild/bbs-3.9-bioc/R/include" -DNDEBUG `echo 'Rhtslib::pkgconfig("PKG_CPPFLAGS")'| "/home/biocbuild/bbs-3.9-bioc/R/bin/R" --vanilla --slave` -I"/home/biocbuild/bbs-3.9-bioc/R/library/Rhtslib/include" -I/usr/local/include -fpic -g -O2 -Wall -c sam.c -o sam.o
g++ -std=gnu++11 -I"/home/biocbuild/bbs-3.9-bioc/R/include" -DNDEBUG `echo 'Rhtslib::pkgconfig("PKG_CPPFLAGS")'| "/home/biocbuild/bbs-3.9-bioc/R/bin/R" --vanilla --slave` -I"/home/biocbuild/bbs-3.9-bioc/R/library/Rhtslib/include" -I/usr/local/include -fpic -g -O2 -Wall -c tallyBAM.cpp -o tallyBAM.o
tallyBAM.cpp: In function ‘int pileup_func_old(uint32_t, uint32_t, int, const bam_pileup1_t*, void*)’:
tallyBAM.cpp:47:7: warning: unused variable ‘len’ [-Wunused-variable]
int len = nttable->end - nttable->beg;
^˜˜
tallyBAM.cpp: In function ‘int pileup_func(uint32_t, uint32_t, int, const bam_pileup1_t*, void*)’:
tallyBAM.cpp:96:7: warning: unused variable ‘len’ [-Wunused-variable]
int len = nttable->end - nttable->beg;
^˜˜
tallyBAM.cpp: In function ‘int _tallyBAM(char**, char**, int*, int*, int*, int*, int*, int*, int*, int*)’:
tallyBAM.cpp:140:6: warning: unused variable ‘c’ [-Wunused-variable]
int c = 0;
^
tallyBAM.cpp: At global scope:
tallyBAM.cpp:43:12: warning: ‘int pileup_func_old(uint32_t, uint32_t, int, const bam_pileup1_t*, void*)’ defined but not used [-Wunused-function]
static int pileup_func_old(uint32_t tid, uint32_t pos, int n, const bam_pileup1_t *pl, void *data)
^˜˜˜˜˜˜˜˜˜˜˜˜˜˜
g++ -std=gnu++11 -shared -L/home/biocbuild/bbs-3.9-bioc/R/lib -L/usr/local/lib -o h5vc.so bam.o bam_plbuf.o sam.o tallyBAM.o -L/home/biocbuild/bbs-3.9-bioc/R/library/Rhtslib/usrlib -Wl,-rpath,/home/biocbuild/bbs-3.9-bioc/R/library/Rhtslib/usrlib -lhts -lz -lm -lbz2 -llzma -lpthread -L/home/biocbuild/bbs-3.9-bioc/R/lib -lR
installing to /home/biocbuild/bbs-3.9-bioc/R/library/00LOCK-h5vc/00new/h5vc/libs
** R
** data
** inst
** byte-compile and prepare package for lazy loading
** help
*** installing help indices
** building package indices
** installing vignettes
‘h5vc.simple.genome.browser.Rmd’
‘h5vc.tour.Rmd’
** testing if installed package can be loaded from temporary location
** checking absolute paths in shared objects and dynamic libraries
** testing if installed package can be loaded from final location
** testing if installed package keeps a record of temporary installation path
* DONE (h5vc)