| Back to Multiple platform build/check report for BioC 3.9 | 
 | 
This page was generated on 2019-04-09 11:49:03 -0400 (Tue, 09 Apr 2019).
| Package 995/1703 | Hostname | OS / Arch | INSTALL | BUILD | CHECK | BUILD BIN | ||||||
| miRmine 1.5.0 Dusan Randjelovic 
 | malbec2 | Linux (Ubuntu 18.04.2 LTS) / x86_64 | OK | [ OK ] | OK |  | ||||||
| tokay2 | Windows Server 2012 R2 Standard / x64 | OK | OK | OK | OK |  | ||||||
| celaya2 | OS X 10.11.6 El Capitan / x86_64 | OK | OK | OK | OK |  | ||||||
| merida2 | OS X 10.11.6 El Capitan / x86_64 | OK | OK | OK | OK | 
| Package: miRmine | 
| Version: 1.5.0 | 
| Command: /home/biocbuild/bbs-3.9-bioc/R/bin/R CMD build --keep-empty-dirs --no-resave-data miRmine | 
| StartedAt: 2019-04-08 21:47:32 -0400 (Mon, 08 Apr 2019) | 
| EndedAt: 2019-04-08 21:48:21 -0400 (Mon, 08 Apr 2019) | 
| EllapsedTime: 48.4 seconds | 
| RetCode: 0 | 
| Status: OK | 
| PackageFile: miRmine_1.5.0.tar.gz | 
| PackageFileSize: 2.245 MiB | 
############################################################################## ############################################################################## ### ### Running command: ### ### /home/biocbuild/bbs-3.9-bioc/R/bin/R CMD build --keep-empty-dirs --no-resave-data miRmine ### ############################################################################## ############################################################################## * checking for file ‘miRmine/DESCRIPTION’ ... OK * preparing ‘miRmine’: * checking DESCRIPTION meta-information ... OK * installing the package to build vignettes * creating vignettes ... OK * checking for LF line-endings in source and make files and shell scripts * checking for empty or unneeded directories * looking to see if a ‘data/datalist’ file should be added * building ‘miRmine_1.5.0.tar.gz’