| GLYPH TABLE - These are the glyphs used in this report to indicate the following package status: |
| - TIMEOUT |
BUILD, CHECK or BUILD BIN of package took more than 40 minutes |
| - ERROR |
BUILD, CHECK or BUILD BIN of package returned an error |
| - WARNINGS |
CHECK of package produced warnings |
| - OK |
BUILD, CHECK or BUILD BIN of package was OK |
| - skipped |
CHECK or BUILD BIN of package was skipped because the BUILD step failed (or because something bad happened with the Build System itself) |
| Click on any glyph in the report below to see the status details (command output). |
| lamb1 |
Linux (SUSE 10.1) | x86_64 | | | |
| wellington |
Linux (SUSE 9.2) | i686 | | | |
| [liverpool] |
Windows Server 2003 R2 (32-bit) | x64 | | | |
| pitt |
Mac OS X (10.4.10) | i386 | | | |
|
| ABarray 1.5.1 | Yongming Andrew Sun | OK | WARNINGS | OK |
| aCGH 1.11.0 | Jane Fridlyand | OK | WARNINGS | OK |
| ACME 1.3.2 | Sean Davis | ERROR | skipped | skipped |
| adSplit 1.7.0 | Claudio Lottaz | OK | OK | OK |
| affxparser 1.9.4 | Kasper Daniel Hansen | OK | ERROR | ERROR |
| affy 1.15.7 | Rafael A. Irizarry | OK | OK | OK |
| affycomp 1.13.1 | Rafael A. Irizarry | OK | OK | OK |
| affycoretools 1.9.4 | James W. MacDonald | OK | WARNINGS | OK |
| AffyExpress 1.1.2 | Xuejun Arthur Li | OK | OK | OK |
| affyio 1.5.8 | Benjamin Milo Bolstad | OK | OK | OK |
| affylmGUI 1.11.4 | Keith Satterley | OK | OK | OK |
| affypdnn 1.11.0 | Laurent Gautier | OK | OK | OK |
| affyPLM 1.13.9 | Ben Bolstad | ERROR | skipped | skipped |
| affyQCReport 1.15.3 | Craig Parman | OK | OK | OK |
| altcdfenvs 1.11.0 | Laurent Gautier | OK | OK | OK |
| annaffy 1.9.1 | Colin A. Smith | ERROR | skipped | skipped |
| AnnBuilder 1.15.7 | J. Zhang | OK | OK | OK |
| annotate 1.15.6 | Biocore Team c/o BioC user list | OK | OK | OK |
| AnnotationDbi 0.1.3 | Biocore Team c/o BioC user list | ERROR | skipped | skipped |
| annotationTools 1.7.1 | Alexandre Kuhn | OK | OK | OK |
| apComplex 2.3.0 | Denise Scholtens | OK | OK | OK |
| arji 0.3.16 | Vince Carey | ERROR | skipped | skipped |
| aroma.light 1.5.2 | Henrik Bengtsson | OK | OK | OK |
| arrayMagic 1.15.0 | Andreas Buness | OK | OK | OK |
| arrayQCplot 2.5.0 | Eun-kyung Lee | OK | ERROR | ERROR |
| arrayQuality 1.13.0 | Agnes Paquet | OK | OK | OK |
| arrayQualityMetrics 1.0.17 | Audrey Kauffmann | OK | WARNINGS | OK |
| beadarray 1.5.8 | Mark Dunning | OK | OK | OK |
| beadarraySNP 1.3.7 | Jan Oosting | OK | WARNINGS | OK |
| BeadExplorer 1.3.0 | Gareth Elvidge | OK | OK | OK |
| bgx 1.1.4 | Ernest Turro | OK | ERROR | OK |
| bim 1.9.0 | Brian S. Yandell | ERROR | skipped | skipped |
| Biobase 1.15.27 | Biocore Team c/o BioC user list | OK | OK | OK |
| biocGraph 0.0.2 | Li Long | OK | OK | OK |
| biocViews 1.5.3 | Seth Falcon | OK | OK | OK |
| bioDist 1.9.1 | Biocore Team c/o BioC user list | OK | OK | OK |
| biomaRt 1.11.4 | Steffen Durinck | OK | WARNINGS | OK |
| BioMVCClass 1.5.0 | Elizabeth Whalen | OK | OK | OK |
| Biostrings 2.5.19 | H. Pages | OK | OK | OK |
| bridge 1.9.0 | Raphael Gottardo | OK | OK | OK |
| BSgenome 1.5.2 | H. Pages | OK | OK | OK |
| BufferedMatrix 1.1.4 | Benjamin Milo Bolstad | OK | OK | OK |
| BufferedMatrixMethods 1.1.4 | B. M. Bolstad | OK | OK | OK |
| CALIB 1.3.1 | Hui Zhao | OK | WARNINGS | OK |
| Category 2.3.28 | S. Falcon | OK | OK | OK |
| cellHTS 1.7.13 | Ligia Bras | OK | OK | OK |
| cellHTS2 2.0.7 | Ligia Bras | OK | OK | OK |
| CGHcall 0.99.0 | Sjoerd Vosse | OK | OK | OK |
| cghMCR 1.7.2 | J. Zhang | OK | WARNINGS | OK |
| ChromoViz 1.9.0 | Jihoon Kim | OK | WARNINGS | OK |
| clusterStab 1.9.0 | James W. MacDonald | OK | OK | OK |
| CoCiteStats 1.9.3 | R. Gentleman | OK | OK | OK |
| codelink 1.5.15 | Diego Diez | OK | OK | OK |
| convert 1.11.0 | Yee Hwa (Jean) Yang | OK | OK | OK |
| copa 1.5.0 | James W. MacDonald | OK | OK | OK |
| CORREP 1.3.0 | Dongxiao Zhu | OK | OK | OK |
| cosmo 1.3.0 | Oliver Bembom | OK | OK | OK |
| cosmoGUI 1.3.0 | Oliver Bembom | OK | OK | OK |
| ctc 1.11.0 | Antoine Lucas | OK | OK | OK |
| daMA 1.9.0 | Jobst Landgrebe | OK | OK | OK |
| DEDS 1.9.0 | Yuanyuan Xiao | OK | WARNINGS | OK |
| diffGeneAnalysis 1.19.0 | Choudary Jagarlamudi | OK | OK | OK |
| DNAcopy 1.11.1 | Venkatraman E. Seshan | OK | OK | OK |
| DynDoc 1.15.0 | Biocore Team c/o BioC user list | OK | OK | OK |
| EBarrays 1.9.2 | Deepayan Sarkar | OK | OK | OK |
| EBImage 2.1.20 | Oleg Sklyar | OK | WARNINGS | OK |
| ecolitk 1.9.0 | Laurent | ERROR | skipped | skipped |
| edd 1.15.0 | Vince Carey | OK | OK | OK |
| exonmap 1.1.15 | Michal Okoniewski | OK | ERROR | ERROR |
| explorase 1.1.3 | Michael Lawrence | ERROR | skipped | skipped |
| externalVector 1.5.2 | Biocore Team c/o BioC user list | OK | ERROR | ERROR |
| factDesign 1.11.0 | Denise Scholtens | OK | OK | OK |
| fbat 1.1.2 | Weiliang Qiu | OK | WARNINGS | OK |
| fdrame 1.9.0 | Effi Kenigsberg | OK | WARNINGS | OK |
| flowCore 1.2.0 | Nolwenn Le Meur | OK | WARNINGS | OK |
| flowQ 0.2.3 | N. Le Meur | OK | WARNINGS | OK |
| flowUtils 0.2.7 | Florian Hahne | OK | ERROR | OK |
| flowViz 1.1.4 | Florian Hahne | OK | WARNINGS | OK |
| gaggle 1.5.0 | Paul Shannon | OK | ERROR | OK |
| gcrma 2.9.1 | Z. Wu | OK | OK | OK |
| genArise 1.13.0 | IFC Development Team | OK | OK | OK |
| genefilter 1.15.10 | Biocore Team c/o BioC user list | OK | OK | OK |
| GeneMeta 1.9.1 | Biocore Team c/o BioC user list | OK | OK | OK |
| geneplotter 1.15.6 | Biocore Team c/o BioC user list | OK | OK | OK |
| GeneR 2.7.1 | Y. d'Aubenton-Carafa | OK | WARNINGS | OK |
| geneRecommender 1.9.0 | Greg Hather | OK | OK | OK |
| GeneRfold 0.1.3 | Antoine Lucas | ERROR | skipped | skipped |
| GeneSpring 2.11.0 | Thon de Boer | OK | OK | OK |
| GeneticsBase 0.99.0 | Gregory Warnes | ERROR | skipped | skipped |
| GeneticsDesign 1.1.0 | Weiliang Qiu | OK | OK | OK |
| GeneticsPed 1.1.0 | Gregor Gorjanc | OK | OK | OK |
| GeneTraffic 1.9.0 | Daniel Iordan | OK | OK | OK |
| GeneTS 2.15.0 | Korbinian Strimmer | OK | OK | OK |
| GEOquery 2.1.8 | Sean Davis | N O T S U P P O R T E D |
| gff3Plotter 1.9.0 | Oleg Sklyar | OK | WARNINGS | OK |
| GGtools 1.5.3 | Vince Carey | OK | TIMEOUT | OK |
| GLAD 1.11.0 | Philippe Hupe | OK | OK | OK |
| GlobalAncova 3.3.1 | R. Meister | OK | WARNINGS | OK |
| globaltest 4.7.3 | Jelle Goeman | ERROR | skipped | skipped |
| GOstats 2.3.15 | S. Falcon | ERROR | skipped | skipped |
| goTools 1.9.0 | Agnes Paquet | ERROR | skipped | skipped |
| gpls 1.9.0 | Biocore Team c/o BioC user list | OK | OK | OK |
| graph 1.15.12 | Seth Falcon | OK | WARNINGS | OK |
| GraphAT 1.9.0 | Thomas LaFramboise | OK | OK | OK |
| GSEABase 0.2.27 | Biocore Team c/o BioC user list | OK | WARNINGS | OK |
| gtkWidgets 0.11.0 | Jianhua Zhang | OK | ERROR | OK |
| Harshlight 1.5.0 | Maurizio Pellegrino | OK | WARNINGS | OK |
| Heatplus 1.7.0 | Alexander Ploner | OK | OK | OK |
| HEM 1.9.0 | HyungJun Cho | OK | OK | OK |
| hexbin 1.11.0 | Nicholas Lewin-Koh | OK | OK | OK |
| hopach 1.11.1 | Katherine S. Pollard | OK | OK | OK |
| hypergraph 1.9.1 | Seth Falcon | OK | OK | OK |
| Icens 1.9.0 | Biocore Team c/o BioC user list | OK | OK | OK |
| idiogram 1.11.3 | Karl J. Dykema | OK | WARNINGS | OK |
| impute 1.9.0 | Balasubramanian Narasimhan | OK | OK | OK |
| iSNetwork 1.7.0 | Elizabeth Whalen | N O T S U P P O R T E D |
| iSPlot 1.11.0 | Elizabeth Whalen | N O T S U P P O R T E D |
| keggorth 0.0-4 | VJ Carey | OK | WARNINGS | OK |
| KEGGSOAP 1.11.0 | J. Zhang | OK | ERROR | OK |
| lapmix 1.3.0 | Yann Ruffieux | OK | OK | OK |
| LBE 1.5.0 | Cyril Dalmasso | OK | OK | OK |
| limma 2.11.10 | Gordon Smyth | OK | WARNINGS | OK |
| limmaGUI 1.13.0 | Keith Satterley | OK | OK | OK |
| LMGene 1.7.0 | John Tillinghast | OK | OK | OK |
| logicFS 1.7.6 | Holger Schwender | OK | OK | OK |
| LPE 1.11.0 | Nitin Jain | OK | OK | OK |
| lumi 1.3.26 | Pan Du | ERROR | skipped | skipped |
| maanova 1.7.0 | Lei Wu | OK | WARNINGS | OK |
| macat 1.11.3 | Joern Toedling | OK | OK | OK |
| maCorrPlot 1.7.0 | Alexander Ploner | OK | OK | OK |
| maDB 1.9.4 | Johannes Rainer | OK | ERROR | ERROR |
| made4 1.11.1 | Aedin Culhane | OK | ERROR | OK |
| makecdfenv 1.15.3 | James W. MacDonald | OK | OK | OK |
| makePlatformDesign 1.1.3 | Benilton Carvalho | OK | OK | OK |
| MANOR 1.9.4 | Pierre Neuvial | OK | OK | OK |
| MantelCorr 1.7.0 | Brian Steinmeyer | OK | OK | OK |
| marray 1.15.1 | Yee Hwa (Jean) Yang | OK | OK | OK |
| maSigPro 1.9.1 | Ana Conesa | OK | WARNINGS | OK |
| MassSpecWavelet 1.3.1 | Pan Du | OK | OK | OK |
| matchprobes 1.9.10 | Biocore Team c/o BioC user list | OK | OK | OK |
| MCRestimate 1.9.5 | Markus Ruschhaupt | OK | OK | OK |
| MeasurementError.cor 1.9.1 | Beiying Ding | OK | OK | OK |
| MergeMaid 2.9.0 | Xiaogang Zhong | OK | OK | OK |
| metaArray 1.11.0 | Hyungwon Choi | OK | OK | OK |
| Mfuzz 1.7.1 | Matthias Futschik | OK | OK | OK |
| MiPP 1.9.0 | Sukwoo Kim | OK | OK | OK |
| MLInterfaces 1.11.4 | V. Carey | OK | OK | OK |
| mmgmos 1.7.0 | Xuejun Liu | OK | ERROR | OK |
| multtest 1.16.1 | Katherine S. Pollard | OK | OK | OK |
| MVCClass 1.11.0 | Elizabeth Whalen | OK | OK | OK |
| nem 1.7.0 | Florian Markowetz | OK | OK | OK |
| nnNorm 2.1.0 | Adi Laurentiu Tarca | OK | OK | OK |
| nudge 1.5.1 | N. Dean | OK | ERROR | OK |
| occugene 0.1.0 | Oliver Will | OK | WARNINGS | OK |
| OCplus 1.11.0 | Alexander Ploner | OK | OK | OK |
| oligo 1.1.13 | Benilton Carvalho | OK | WARNINGS | OK |
| oligoClasses 0.0.2 | Benilton Carvalho | OK | WARNINGS | OK |
| OLIN 1.13.0 | Matthias Futschik | OK | OK | OK |
| OLINgui 1.11.0 | Matthias Futschik | OK | OK | OK |
| oneChannelGUI 1.3.27 | Raffaele A Calogero | OK | OK | OK |
| ontoTools 1.13.2 | Vince Carey | OK | OK | OK |
| OrderedList 1.9.0 | Claudio Lottaz | ERROR | skipped | skipped |
| pairseqsim 1.9.3 | Witold Wolski | ERROR | skipped | skipped |
| pamr 1.35.0 | Rob Tibshirani | OK | OK | OK |
| panp 1.7.1 | Peter Warren | OK | OK | OK |
| pathRender 1.5.0 | Li Long | OK | OK | OK |
| pcaMethods 1.13.2 | Wolfram Stacklies | OK | OK | OK |
| pcot2 1.5.1 | Sarah Song | OK | OK | OK |
| pdInfoBuilder 1.1.9 | Seth Falcon | OK | WARNINGS | OK |
| pdmclass 1.9.0 | James W. MacDonald | OK | OK | OK |
| PGSEA 1.3.2 | Karl Dykema | OK | OK | OK |
| pgUtils 1.9.0 | Johannes Rainer | N O T S U P P O R T E D |
| pickgene 1.9.0 | Brian S. Yandell | OK | OK | OK |
| pkgDepTools 1.3.1 | Seth Falcon | TIMEOUT | skipped | skipped |
| plgem 1.9.0 | Mattia Pelizzola | ERROR | skipped | skipped |
| plier 1.7.0 | Crispin Miller | OK | OK | OK |
| ppiStats 1.3.8 | Tony Chiang | OK | WARNINGS | OK |
| prada 1.13.2 | Florian Hahne | OK | ERROR | OK |
| preprocessCore 0.99.12 | Benjamin Milo Bolstad | OK | OK | OK |
| prism 0.1.1 | Raphael Gottardo | OK | WARNINGS | OK |
| PROcess 1.13.0 | Xiaochun Li | OK | OK | OK |
| puma 1.3.2 | Richard Pearson | OK | WARNINGS | OK |
| quantsmooth 1.3.2 | Jan Oosting | OK | OK | OK |
| qvalue 1.11.0 | John D. Storey | OK | WARNINGS | OK |
| rama 1.9.0 | Raphael Gottardo | OK | OK | OK |
| RankProd 2.9.0 | Fangxin Hong | OK | OK | OK |
| RbcBook1 1.5.1 | Vince Carey | OK | OK | OK |
| RBGL 1.13.5 | Li Long | OK | OK | OK |
| rbsurv 1.3.0 | Sukwoo Kim | OK | OK | OK |
| Rdbi 1.11.0 | Jianhua Zhang | OK | OK | OK |
| RdbiPgSQL 1.11.0 | Jianhua Zhang | N O T S U P P O R T E D |
| reb 1.11.1 | Karl J. Dykema | OK | WARNINGS | OK |
| RefPlus 1.5.0 | Kai-Ming Chang | OK | OK | OK |
| Resourcerer 1.11.0 | Jianhua Zhang | OK | OK | OK |
| rflowcyt 1.9.1 | N. LeMeur | OK | ERROR | OK |
| Rgraphviz 1.15.8 | Li Long | N O T S U P P O R T E D |
| rhdf5 1.7.1 | Biocore Team c/o BioC user list | ERROR | skipped | skipped |
| rHVDM 1.3.0 | Martino Barenco | OK | OK | OK |
| Ringo 1.1.16 | J. Toedling | OK | OK | OK |
| Rintact 0.3.29 | Tony Chiang | OK | WARNINGS | OK |
| RLMM 0.11.0 | Nusrat Rabbee | OK | OK | OK |
| RMAGEML 2.11.1 | Steffen Durinck | ERROR | skipped | skipped |
| RMAPPER 1.7.0 | VJ Carey | OK | OK | OK |
| ROC 1.11.0 | Vince Carey | OK | OK | OK |
| RPostgreSQL 0.0.0 | M. Dalphin | OK | WARNINGS | OK |
| Rredland 1.5.1 | VJ Carey | N O T S U P P O R T E D |
| RSNPper 1.11.0 | VJ Carey | ERROR | skipped | skipped |
| Ruuid 1.15.1 | Biocore Team c/o BioC user list | OK | WARNINGS | OK |
| RWebServices 1.1.2 | Biocore Team c/o BioC user list | ERROR | skipped | skipped |
| safe 1.9.0 | William T. Barry | OK | OK | OK |
| SAGElyzer 1.15.0 | Jianhua Zhang | OK | ERROR | OK |
| sagenhaft 1.7.2 | Tim Beissbarth | ERROR | skipped | skipped |
| SAGx 1.11.3 | Per Broberg | OK | OK | OK |
| SBMLR 1.31.0 | Tomas Radivoyevitch | OK | WARNINGS | OK |
| ScISI 1.9.7 | Tony Chiang | ERROR | skipped | skipped |
| SemSim 1.3.0 | Xiang Guo | OK | OK | OK |
| seqLogo 1.3.1 | Oliver Bembom | OK | OK | OK |
| siggenes 1.11.13 | Holger Schwender | OK | OK | OK |
| sigPathway 1.5.2 | Weil Lai | OK | WARNINGS | OK |
| simpleaffy 2.11.22 | Crispin Miller | OK | WARNINGS | OK |
| simulatorAPMS 1.9.0 | Tony Chiang | OK | OK | OK |
| sizepower 1.7.0 | Weiliang Qiu | OK | OK | OK |
| SLqPCR 1.3.0 | Matthias Kohl | OK | OK | OK |
| SMAP 1.1.7 | Robin Andersson | OK | OK | OK |
| snapCGH 1.5.0 | John Marioni | OK | WARNINGS | OK |
| SNPchip 1.1.22 | Robert Scharpf | OK | OK | OK |
| spikeLI 1.5.0 | Enrico Carlon | OK | OK | OK |
| splicegear 1.9.0 | Laurent | OK | WARNINGS | OK |
| splots 1.3.1 | Oleg Sklyar | OK | OK | OK |
| spotSegmentation 1.11.0 | Chris Fraley | OK | OK | OK |
| sscore 1.9.0 | Richard Kennedy | OK | OK | OK |
| ssize 1.9.0 | Gregory R. Warnes | OK | OK | OK |
| stam 1.7.0 | Claudio Lottaz | ERROR | skipped | skipped |
| stepNorm 1.9.0 | Yuanyuan Xiao | OK | OK | OK |
| tilingArray 1.15.2 | W. Huber | OK | WARNINGS | OK |
| timecourse 1.8.1 | Yu Chuan Tai | OK | OK | OK |
| tkWidgets 1.15.0 | J. Zhang | OK | WARNINGS | OK |
| topGO 1.3.0 | Adrian Alexa | ERROR | skipped | skipped |
| twilight 1.13.0 | Stefanie Scheid | OK | OK | OK |
| TypeInfo 1.3.0 | Duncan Temple Lang | OK | OK | OK |
| vbmp 1.5.2 | Nicola Lama | OK | OK | OK |
| vsn 3.0.12 | Wolfgang Huber | OK | OK | OK |
| weaver 1.3.0 | Seth Falcon | OK | OK | OK |
| webbioc 1.9.0 | Colin A. Smith | OK | OK | OK |
| widgetInvoke 1.9.1 | Jeff Gentry | N O T S U P P O R T E D |
| widgetTools 1.13.1 | Jianhua Zhang | OK | OK | OK |
| xcms 1.9.4 | Colin A. Smith | OK | OK | OK |