Back to the "Multiple platform build/check report"
| IMPORTANT NOTE: R was configured with --enable-strict-barrier on lamb1 | 
| Package 199/247 | Hostname | OS | Arch | BUILD | CHECK | BUILD BIN | 
Ringo1.1.16J. ToedlingLast Changed Date: 2007-08-22 02:45:05 -0700 Last Changed Rev: 26582  | lamb1 | Linux (SUSE 10.1) | x86_64 | OK | OK | |
| wellington | Linux (SUSE 9.2) | i686 | OK | OK | ||
| liverpool | Windows Server 2003 R2 (32-bit) | x64 | OK | OK | [ OK ] | |
| pitt | Mac OS X (10.4.10) | i386 | OK | OK | OK | 
| Package: Ringo | 
| Version: 1.1.16 | 
| Command: E:\biocbld\bbs-2.1-bioc\R\bin\R.exe CMD INSTALL --build --library=Ringo.buildbin-libdir Ringo_1.1.16.tar.gz | 
| RetCode: 0 | 
| Time: 25.4 seconds | 
| Status: OK | 
| PackageFile: Ringo_1.1.16.zip | 
installing R.css in E:/biocbld/bbs-2.1-bioc/meat/Ringo.buildbin-libdir
Using auto-selected zip options ' Ringo-HELP=ziponly'
---------- Making package Ringo ------------
  adding build stamp to DESCRIPTION
  installing NAMESPACE file and metadata
  making DLL ...
making mmedian.d from mmedian.cpp
g++   -IE:/biocbld/bbs-2.1-bioc/R/include  -Wall -O2   -c mmedian.cpp -o mmedian.o
windres -I E:/biocbld/bbs-2.1-bioc/R/include  -i Ringo_res.rc -o Ringo_res.o
g++  -shared -s  -o Ringo.dll Ringo.def mmedian.o Ringo_res.o  -LE:/biocbld/bbs-2.1-bioc/R/bin    -lR
  ... DLL made
  installing DLL
  installing R files
  installing inst files
  preparing package Ringo for lazy loading
Loading required package: Biobase
Loading required package: tools
Welcome to Bioconductor
  Vignettes contain introductory material. To view, type
  'openVignette()'. To cite Bioconductor, see
  'citation("Biobase")' and for packages 'citation(pkgname)'.
Loading required package: geneplotter
Loading required package: annotate
Loading required package: AnnotationDbi
Loading required package: DBI
Loading required package: RSQLite
Loading required package: lattice
KernSmooth 2.22 installed
Copyright M. P. Wand 1997
Loading required package: limma
Loading required package: vsn
Loading required package: affy
Loading required package: affyio
Loading required package: preprocessCore
Loading required package: RColorBrewer
  installing man source files
  installing indices
  installing help
 >>> Building/Updating help pages for package 'Ringo'
     Formats: text html latex example chm 
  Ringo-internal                    text    html    latex           chm
  arrayImage                        text    html    latex   example chm
  asExprSet                         text    html    latex   example chm
  autocorr                          text    html    latex   example chm
  chipAlongChrom                    text    html    latex   example chm
  computeRunningMedians             text    html    latex   example chm
  compute_gc                        text    html    latex   example chm
  corrPlot                          text    html    latex   example chm
  findPeaksOnSmoothed               text    html    latex   example chm
  ftr2xys                           text    html    latex   example chm
  newPeak                           text    html    latex   example chm
  nimblegenNorm                     text    html    latex           chm
  peakByThreshold                   text    html    latex   example chm
  peakClass                         text    html    latex   example chm
  plotAutocorr                      text    html    latex   example chm
  plot_peak                         text    html    latex   example chm
  preprocess                        text    html    latex   example chm
  readNimblegen                     text    html    latex   example chm
  relatePeaks                       text    html    latex   example chm
  sliding_median                    text    html    latex   example chm
  sliding_quantile                  text    html    latex   example chm
  zipping help files
Microsoft HTML Help Compiler 4.74.8702
Compiling e:\biocbld\bbs-2.1-bioc\meat\R.INSTALL.704\Ringo\chm\Ringo.chm
Compile time: 0 minutes, 0 seconds
22	Topics
74	Local links
0	Internet links
1	Graphic
Created e:\biocbld\bbs-2.1-bioc\meat\R.INSTALL.704\Ringo\chm\Ringo.chm, 49,274 bytes
Compression decreased file by 43,865 bytes.
  adding MD5 sums
packaged installation of package 'Ringo' as Ringo_1.1.16.zip
* DONE (Ringo)