Back to the "Multiple platform build/check report"
| IMPORTANT NOTE: R was configured with --enable-strict-barrier on lamb1 |
| Package 220/247 | Hostname | OS | Arch | BUILD | CHECK | BUILD BIN |
simpleaffy2.11.22Crispin MillerLast Changed Date: 2007-08-12 10:26:17 -0700 Last Changed Rev: 26348 | lamb1 | Linux (SUSE 10.1) | x86_64 | OK | WARNINGS | |
| wellington | Linux (SUSE 9.2) | i686 | OK | WARNINGS | ||
| liverpool | Windows Server 2003 R2 (32-bit) | x64 | [ OK ] | WARNINGS | OK | |
| pitt | Mac OS X (10.4.10) | i386 | OK | WARNINGS | OK |
| Package: simpleaffy |
| Version: 2.11.22 |
| Command: E:\biocbld\bbs-2.1-bioc\R\bin\R.exe CMD build simpleaffy |
| RetCode: 0 |
| Time: 31.7 seconds |
| Status: OK |
| PackageFile: simpleaffy_2.11.22.tar.gz |
* checking for file 'simpleaffy/DESCRIPTION' ... OK
* preparing 'simpleaffy':
* checking DESCRIPTION meta-information ... OK
* cleaning src
* installing the package to re-build vignettes
installing R.css in E:/biocbld/bbs-2.1-bioc/tmpdir/Rinst76826095
---------- Making package simpleaffy ------------
adding build stamp to DESCRIPTION
installing NAMESPACE file and metadata
making DLL ...
making simpleaffy.d from simpleaffy.c
gcc -Ie:/biocbld/bbs-2.1-bioc/R/include -Wall -O3 -std=gnu99 -c simpleaffy.c -o simpleaffy.o
windres -I e:/biocbld/bbs-2.1-bioc/R/include -i simpleaffy_res.rc -o simpleaffy_res.o
gcc -shared -s -o simpleaffy.dll simpleaffy.def simpleaffy.o simpleaffy_res.o -Le:/biocbld/bbs-2.1-bioc/R/bin -lR
... DLL made
installing DLL
installing R files
installing inst files
installing data files
preparing package simpleaffy for lazy loading
Loading required package: affy
Loading required package: Biobase
Loading required package: tools
Welcome to Bioconductor
Vignettes contain introductory material. To view, type
'openVignette()'. To cite Bioconductor, see
'citation("Biobase")' and for packages 'citation(pkgname)'.
Loading required package: affyio
Loading required package: preprocessCore
Loading required package: genefilter
Loading required package: survival
Loading required package: splines
Loading required package: gcrma
Loading required package: matchprobes
installing man source files
installing indices
not zipping data
installing help
Warning: \alias{getTao} already in getAlpha2.Rd -- skipping the one in getTao.Rd
>>> Building/Updating help pages for package 'simpleaffy'
Formats: text html latex example chm
PairComp-class text html latex chm
QCStats-accessor text html latex chm
QCStats-class text html latex chm
all.present text html latex example chm
all.present.in.group text html latex example chm
alpha text html latex chm
bg.correct.sa text html latex example chm
call.exprs text html latex example chm
detection.p.val text html latex example chm
get.annotation text html latex example chm
get.array.indices text html latex example chm
get.array.subset text html latex example chm
get.array.subset.affy text html latex example chm
get.fold.change.and.t.test text html latex example chm
getActin3 text html latex example chm
getActin5 text html latex example chm
getActinM text html latex example chm
getAllQCProbes text html latex example chm
getAllSpikeProbes text html latex example chm
getAlpha1 text html latex example chm
getAlpha2 text html latex example chm
getBioB text html latex example chm
getBioC text html latex example chm
getBioD text html latex example chm
getCreX text html latex example chm
getGapdh3 text html latex example chm
getGapdh5 text html latex example chm
getGapdhM text html latex example chm
getQCParams-methods text html latex chm
getTao text html latex example chm
haveQCParams text html latex example chm
hmap.colors text html latex example chm
hmap.eset text html latex example chm
hmap.pc text html latex example chm
journalpng text html latex example chm
justMAS text html latex example chm
pairwise.comparison text html latex example chm
pairwise.filter text html latex example chm
plot.pairwise.comparison text html latex example chm
plot.qc.stats text html latex example chm
qc text html latex example chm
qc.affy text html latex example chm
qc.probes text html latex chm
read.affy text html latex example chm
read.affy.mixed text html latex example chm
spikes text html latex chm
standard.pearson text html latex example chm
trad.scatter.plot text html latex example chm
Microsoft HTML Help Compiler 4.74.8702
Compiling e:\biocbld\bbs-2.1-bioc\meat\simpleaffy\chm\simpleaffy.chm
Compile time: 0 minutes, 1 second
49 Topics
189 Local links
11 Internet links
1 Graphic
Created e:\biocbld\bbs-2.1-bioc\meat\simpleaffy\chm\simpleaffy.chm, 62,559 bytes
Compression decreased file by 97,339 bytes.
adding MD5 sums
* DONE (simpleaffy)
* creating vignettes ... OK
* cleaning src
* removing junk files
* checking for LF line-endings in source files
* checking for empty or unneeded directories
* building 'simpleaffy_2.11.22.tar.gz'