Back to the "Multiple platform build/check report"
| IMPORTANT NOTE: R was configured with --enable-strict-barrier on lamb1 |
| Package 205/247 | Hostname | OS | Arch | BUILD | CHECK | BUILD BIN |
RPostgreSQL0.0.0M. DalphinLast Changed Date: 2007-01-08 18:28:57 -0800 Last Changed Rev: 21881 | lamb1 | Linux (SUSE 10.1) | x86_64 | OK | WARNINGS | |
| wellington | Linux (SUSE 9.2) | i686 | OK | WARNINGS | ||
| liverpool | Windows Server 2003 R2 (32-bit) | x64 | OK | WARNINGS | [ OK ] | |
| pitt | Mac OS X (10.4.10) | i386 | OK | WARNINGS | OK |
| Package: RPostgreSQL |
| Version: 0.0.0 |
| Command: E:\biocbld\bbs-2.1-bioc\R\bin\R.exe CMD INSTALL --build --library=RPostgreSQL.buildbin-libdir RPostgreSQL_0.0.0.tar.gz |
| RetCode: 0 |
| Time: 15.0 seconds |
| Status: OK |
| PackageFile: RPostgreSQL_0.0.0.zip |
installing R.css in E:/biocbld/bbs-2.1-bioc/meat/RPostgreSQL.buildbin-libdir
Using auto-selected zip options ''
---------- Making package RPostgreSQL ------------
adding build stamp to DESCRIPTION
no R files in this package
installing inst files
no man files in this package
installing indices
installing help
>>> Building/Updating help pages for package 'RPostgreSQL'
Formats: text html latex example chm
Microsoft HTML Help Compiler 4.74.8702
Compiling e:\biocbld\bbs-2.1-bioc\meat\R.INSTALL.4896\RPostgreSQL\chm\RPostgreSQL.chm
Compile time: 0 minutes, 0 seconds
1 Topic
0 Local links
0 Internet links
1 Graphic
Created e:\biocbld\bbs-2.1-bioc\meat\R.INSTALL.4896\RPostgreSQL\chm\RPostgreSQL.chm, 14,512 bytes
Compression increased file by 9,638 bytes.
adding MD5 sums
packaged installation of package 'RPostgreSQL' as RPostgreSQL_0.0.0.zip
* DONE (RPostgreSQL)