Back to the "Multiple platform build/check report"
| IMPORTANT NOTE: R was configured with --enable-strict-barrier on lamb1 |
| Package 83/247 | Hostname | OS | Arch | BUILD | CHECK | BUILD BIN |
GeneMeta1.9.1Biocore Team c/o BioC user listLast Changed Date: 2007-08-20 09:33:20 -0700 Last Changed Rev: 26527 | lamb1 | Linux (SUSE 10.1) | x86_64 | OK | OK | |
| wellington | Linux (SUSE 9.2) | i686 | OK | OK | ||
| liverpool | Windows Server 2003 R2 (32-bit) | x64 | [ OK ] | OK | OK | |
| pitt | Mac OS X (10.4.10) | i386 | OK | OK | OK |
| Package: GeneMeta |
| Version: 1.9.1 |
| Command: E:\biocbld\bbs-2.1-bioc\R\bin\R.exe CMD build GeneMeta |
| RetCode: 0 |
| Time: 60.8 seconds |
| Status: OK |
| PackageFile: GeneMeta_1.9.1.tar.gz |
* checking for file 'GeneMeta/DESCRIPTION' ... OK
* preparing 'GeneMeta':
* checking DESCRIPTION meta-information ... OK
* installing the package to re-build vignettes
installing R.css in E:/biocbld/bbs-2.1-bioc/tmpdir/Rinst184477743
---------- Making package GeneMeta ------------
adding build stamp to DESCRIPTION
installing NAMESPACE file and metadata
installing R files
installing inst files
installing data files
preparing package GeneMeta for lazy loading
Loading required package: Biobase
Loading required package: tools
Welcome to Bioconductor
Vignettes contain introductory material. To view, type
'openVignette()'. To cite Bioconductor, see
'citation("Biobase")' and for packages 'citation(pkgname)'.
Loading required package: genefilter
Loading required package: survival
Loading required package: splines
installing man source files
installing indices
not zipping data
installing help
>>> Building/Updating help pages for package 'GeneMeta'
Formats: text html latex example chm
CountPlot text html latex example chm
Nevins text html latex example chm
dstar text html latex example chm
f.Q text html latex example chm
tau text html latex example chm
zscore text html latex example chm
Microsoft HTML Help Compiler 4.74.8702
Compiling e:\biocbld\bbs-2.1-bioc\meat\GeneMeta\chm\GeneMeta.chm
Compile time: 0 minutes, 1 second
7 Topics
27 Local links
1 Internet link
1 Graphic
Created e:\biocbld\bbs-2.1-bioc\meat\GeneMeta\chm\GeneMeta.chm, 25,303 bytes
Compression decreased file by 2,887 bytes.
adding MD5 sums
* DONE (GeneMeta)
* creating vignettes ... OK
* removing junk files
* checking for LF line-endings in source files
* checking for empty or unneeded directories
* building 'GeneMeta_1.9.1.tar.gz'