Back to the "Multiple platform build/check report"
| IMPORTANT NOTE: R was configured with --enable-strict-barrier on lamb1 |
| Package 186/247 | Hostname | OS | Arch | BUILD | CHECK | BUILD BIN |
RankProd2.9.0Fangxin HongLast Changed Date: 2007-04-24 11:31:42 -0700 Last Changed Rev: 24217 | lamb1 | Linux (SUSE 10.1) | x86_64 | OK | OK | |
| wellington | Linux (SUSE 9.2) | i686 | OK | OK | ||
| liverpool | Windows Server 2003 R2 (32-bit) | x64 | [ OK ] | OK | OK | |
| pitt | Mac OS X (10.4.10) | i386 | OK | OK | OK |
| Package: RankProd |
| Version: 2.9.0 |
| Command: E:\biocbld\bbs-2.1-bioc\R\bin\R.exe CMD build RankProd |
| RetCode: 0 |
| Time: 38.5 seconds |
| Status: OK |
| PackageFile: RankProd_2.9.0.tar.gz |
* checking for file 'RankProd/DESCRIPTION' ... OK
* preparing 'RankProd':
* checking DESCRIPTION meta-information ... OK
* installing the package to re-build vignettes
installing R.css in E:/biocbld/bbs-2.1-bioc/tmpdir/Rinst73262692
---------- Making package RankProd ------------
adding build stamp to DESCRIPTION
installing R files
installing inst files
installing data files
installing man source files
installing indices
not zipping data
installing help
Note: unmatched right brace in 'topGene' on or after line 74
Note: unmatched right brace in 'topGene.Rd' on or after line 74
>>> Building/Updating help pages for package 'RankProd'
Formats: text html latex example chm
RP text html latex example chm
RPadvance text html latex example chm
RSadvance text html latex example chm
RankProd-internal text html latex chm
arab text html latex chm
golub text html latex chm
lymphoma text html latex chm
plotGene text html latex example chm
plotRP text html latex example chm
topGene text html latex example chm
Microsoft HTML Help Compiler 4.74.8702
Compiling e:\biocbld\bbs-2.1-bioc\meat\RankProd\chm\RankProd.chm
Compile time: 0 minutes, 0 seconds
11 Topics
42 Local links
1 Internet link
1 Graphic
Created e:\biocbld\bbs-2.1-bioc\meat\RankProd\chm\RankProd.chm, 33,893 bytes
Compression decreased file by 16,443 bytes.
preparing package RankProd for lazy loading
adding MD5 sums
* DONE (RankProd)
* creating vignettes ... OK
* removing junk files
* checking for LF line-endings in source files
* checking for empty or unneeded directories
* building 'RankProd_2.9.0.tar.gz'