Back to the "Multiple platform build/check report"
| IMPORTANT NOTE: R was configured with --enable-strict-barrier on lamb1 |
| Package 123/247 | Hostname | OS | Arch | BUILD | CHECK | BUILD BIN |
limmaGUI1.13.0Keith SatterleyLast Changed Date: 2007-04-24 11:31:42 -0700 Last Changed Rev: 24217 | lamb1 | Linux (SUSE 10.1) | x86_64 | OK | OK | |
| wellington | Linux (SUSE 9.2) | i686 | OK | OK | ||
| liverpool | Windows Server 2003 R2 (32-bit) | x64 | [ OK ] | OK | OK | |
| pitt | Mac OS X (10.4.10) | i386 | OK | OK | OK |
| Package: limmaGUI |
| Version: 1.13.0 |
| Command: E:\biocbld\bbs-2.1-bioc\R\bin\R.exe CMD build limmaGUI |
| RetCode: 0 |
| Time: 31.8 seconds |
| Status: OK |
| PackageFile: limmaGUI_1.13.0.tar.gz |
* checking for file 'limmaGUI/DESCRIPTION' ... OK
* preparing 'limmaGUI':
* checking DESCRIPTION meta-information ... OK
* installing the package to re-build vignettes
installing R.css in E:/biocbld/bbs-2.1-bioc/tmpdir/Rinst576841827
---------- Making package limmaGUI ------------
adding build stamp to DESCRIPTION
installing R files
installing inst files
installing man source files
installing indices
installing help
Note: unmatched right brace in 'limmaGUI' on or after line 139
Note: unmatched right brace in 'limmaGUI.Rd' on or after line 139
>>> Building/Updating help pages for package 'limmaGUI'
Formats: text html latex example chm
LGchangelog text html latex chm
limmaGUI text html latex chm
Microsoft HTML Help Compiler 4.74.8702
Compiling e:\biocbld\bbs-2.1-bioc\meat\limmaGUI\chm\limmaGUI.chm
Compile time: 0 minutes, 0 seconds
3 Topics
137 Local links
0 Internet links
1 Graphic
Created e:\biocbld\bbs-2.1-bioc\meat\limmaGUI\chm\limmaGUI.chm, 26,541 bytes
Compression decreased file by 36,972 bytes.
preparing package limmaGUI for lazy loading
Loading required package: limma
Loading required package: tcltk
Loading Tcl/Tk interface ... done
adding MD5 sums
* DONE (limmaGUI)
* creating vignettes ... OK
* removing junk files
* checking for LF line-endings in source files
* checking for empty or unneeded directories
* building 'limmaGUI_1.13.0.tar.gz'