Back to the "Multiple platform build/check report"
| IMPORTANT NOTE: R was configured with --enable-strict-barrier on lamb1 | 
| Package 241/247 | Hostname | OS | Arch | BUILD | CHECK | BUILD BIN | 
| vbmp1.5.2Nicola LamaLast Changed Date: 2007-08-17 06:42:37 -0700 Last Changed Rev: 26476 | lamb1 | Linux (SUSE 10.1) | x86_64 | OK | OK | |
| wellington | Linux (SUSE 9.2) | i686 | OK | OK | ||
| liverpool | Windows Server 2003 R2 (32-bit) | x64 | OK | OK | [ OK ] | |
| pitt | Mac OS X (10.4.10) | i386 | OK | OK | OK | 
| Package: vbmp | 
| Version: 1.5.2 | 
| Command: E:\biocbld\bbs-2.1-bioc\R\bin\R.exe CMD INSTALL --build --library=vbmp.buildbin-libdir vbmp_1.5.2.tar.gz | 
| RetCode: 0 | 
| Time: 18.3 seconds | 
| Status: OK | 
| PackageFile: vbmp_1.5.2.zip | 
installing R.css in E:/biocbld/bbs-2.1-bioc/meat/vbmp.buildbin-libdir
Using auto-selected zip options 'vbmp-ZIPDATA=zip'
---------- Making package vbmp ------------
  adding build stamp to DESCRIPTION
  installing NAMESPACE file and metadata
  installing R files
  installing inst files
  installing data files
  preparing package vbmp for lazy loading
  installing man source files
  installing indices
  zipping data
  installing help
 >>> Building/Updating help pages for package 'vbmp'
     Formats: text html latex example chm 
  BRCA12                            text    html    latex           chm
  covParams                         text    html    latex           chm
  lowerBound                        text    html    latex           chm
  plotDiagnostics                   text    html    latex           chm
  predClass                         text    html    latex           chm
  predError                         text    html    latex           chm
  predLik                           text    html    latex           chm
  vbmp                              text    html    latex   example chm
Microsoft HTML Help Compiler 4.74.8702
Compiling e:\biocbld\bbs-2.1-bioc\meat\R.INSTALL.752\vbmp\chm\vbmp.chm
Compile time: 0 minutes, 0 seconds
9	Topics
26	Local links
1	Internet link
1	Graphic
Created e:\biocbld\bbs-2.1-bioc\meat\R.INSTALL.752\vbmp\chm\vbmp.chm, 26,015 bytes
Compression decreased file by 1,071 bytes.
  adding MD5 sums
packaged installation of package 'vbmp' as vbmp_1.5.2.zip
* DONE (vbmp)