Back to the "Multiple platform build/check report"
| IMPORTANT NOTE: R was configured with --enable-strict-barrier on lamb1 | 
| Package 161/247 | Hostname | OS | Arch | BUILD | CHECK | BUILD BIN | 
| ontoTools1.13.2Vince CareyLast Changed Date: 2007-08-22 08:48:51 -0700 Last Changed Rev: 26588 | lamb1 | Linux (SUSE 10.1) | x86_64 | OK | OK | |
| wellington | Linux (SUSE 9.2) | i686 | OK | OK | ||
| liverpool | Windows Server 2003 R2 (32-bit) | x64 | OK | OK | [ OK ] | |
| pitt | Mac OS X (10.4.10) | i386 | OK | OK | OK | 
| Package: ontoTools | 
| Version: 1.13.2 | 
| Command: E:\biocbld\bbs-2.1-bioc\R\bin\R.exe CMD INSTALL --build --library=ontoTools.buildbin-libdir ontoTools_1.13.2.tar.gz | 
| RetCode: 0 | 
| Time: 24.5 seconds | 
| Status: OK | 
| PackageFile: ontoTools_1.13.2.zip | 
installing R.css in E:/biocbld/bbs-2.1-bioc/meat/ontoTools.buildbin-libdir
Using auto-selected zip options 'ontoTools-ZIPDATA=zip'
---------- Making package ontoTools ------------
  adding build stamp to DESCRIPTION
  installing R files
  installing inst files
  installing data files
  preparing package ontoTools for lazy loading
Loading required package: graph
Loading required package: SparseM
Loading required package: GO
Loading required package: Biobase
Loading required package: tools
Welcome to Bioconductor
  Vignettes contain introductory material. To view, type
  'openVignette()'. To cite Bioconductor, see
  'citation("Biobase")' and for packages 'citation(pkgname)'.
Loading required package: annotate
Loading required package: AnnotationDbi
Loading required package: DBI
Loading required package: RSQLite
Creating a new generic function for "grep" in "ontoTools"
  installing man source files
  installing indices
  zipping data
  installing help
 >>> Building/Updating help pages for package 'ontoTools'
     Formats: text html latex example chm 
  A.csr                             text    html    latex           chm
  GDI                               text    html    latex   example chm
  LLGOMFcp                          text    html    latex           chm
  OOC-class                         text    html    latex   example chm
  SGDIvocab                         text    html    latex   example chm
  STMA                              text    html    latex   example chm
  accessMat                         text    html    latex   example chm
  buildGOgraph                      text    html    latex   example chm
  compoundGraph-class               text    html    latex   example chm
  depthStruct                       text    html    latex   example chm
  gomfAmat                          text    html    latex           chm
  litOnto                           text    html    latex           chm
  namedSparse-class                 text    html    latex   example chm
  ontology-class                    text    html    latex   example chm
  ooMapLL2GOMFdemo                  text    html    latex           chm
  otkvEnv2namedSparse               text    html    latex   example chm
  rootedDAG-class                   text    html    latex   example chm
  semsim                            text    html    latex   example chm
  taggedHierNomenclature-class      text    html    latex   example chm
  toDot-methods                     text    html    latex   example chm
Microsoft HTML Help Compiler 4.74.8702
Compiling e:\biocbld\bbs-2.1-bioc\meat\R.INSTALL.1004\ontoTools\chm\ontoTools.chm
Compile time: 0 minutes, 1 second
21	Topics
179	Local links
0	Internet links
1	Graphic
Created e:\biocbld\bbs-2.1-bioc\meat\R.INSTALL.1004\ontoTools\chm\ontoTools.chm, 43,942 bytes
Compression decreased file by 62,391 bytes.
  adding MD5 sums
packaged installation of package 'ontoTools' as ontoTools_1.13.2.zip
* DONE (ontoTools)