Back to the "Multiple platform build/check report"
| IMPORTANT NOTE: R was configured with --enable-strict-barrier on lamb1 | 
| Package 59/247 | Hostname | OS | Arch | BUILD | CHECK | BUILD BIN | 
| ctc1.11.0Antoine LucasLast Changed Date: 2007-04-24 11:31:42 -0700 Last Changed Rev: 24217 | lamb1 | Linux (SUSE 10.1) | x86_64 | OK | OK | |
| wellington | Linux (SUSE 9.2) | i686 | OK | OK | ||
| liverpool | Windows Server 2003 R2 (32-bit) | x64 | OK | OK | [ OK ] | |
| pitt | Mac OS X (10.4.10) | i386 | OK | OK | OK | 
| Package: ctc | 
| Version: 1.11.0 | 
| Command: E:\biocbld\bbs-2.1-bioc\R\bin\R.exe CMD INSTALL --build --library=ctc.buildbin-libdir ctc_1.11.0.tar.gz | 
| RetCode: 0 | 
| Time: 17.0 seconds | 
| Status: OK | 
| PackageFile: ctc_1.11.0.zip | 
installing R.css in E:/biocbld/bbs-2.1-bioc/meat/ctc.buildbin-libdir
Using auto-selected zip options ''
---------- Making package ctc ------------
  adding build stamp to DESCRIPTION
  installing NAMESPACE file and metadata
  installing R files
  installing demos
  installing exec files
  installing inst files
  installing man source files
  installing indices
  installing help
 >>> Building/Updating help pages for package 'ctc'
     Formats: text html latex example chm 
  hc2Newick                         text    html    latex   example chm
  hclust2treeview                   text    html    latex   example chm
  r2cluster                         text    html    latex   example chm
  r2gtr                             text    html    latex   example chm
  r2xcluster                        text    html    latex   example chm
  read.eisen                        text    html    latex           chm
  xcluster                          text    html    latex   example chm
  xcluster2r                        text    html    latex   example chm
Microsoft HTML Help Compiler 4.74.8702
Compiling e:\biocbld\bbs-2.1-bioc\meat\R.INSTALL.5364\ctc\chm\ctc.chm
Compile time: 0 minutes, 1 second
9	Topics
29	Local links
15	Internet links
1	Graphic
Created e:\biocbld\bbs-2.1-bioc\meat\R.INSTALL.5364\ctc\chm\ctc.chm, 30,926 bytes
Compression decreased file by 10,421 bytes.
  adding MD5 sums
packaged installation of package 'ctc' as ctc_1.11.0.zip
* DONE (ctc)