Back to the "Multiple platform build/check report"
| IMPORTANT NOTE: R was configured with --enable-strict-barrier on lamb1 | 
| Package 90/247 | Hostname | OS | Arch | BUILD | CHECK | BUILD BIN | 
| GeneticsDesign1.1.0Weiliang QiuLast Changed Date: 2007-04-24 11:31:42 -0700 Last Changed Rev: 24217 | lamb1 | Linux (SUSE 10.1) | x86_64 | OK | OK | |
| wellington | Linux (SUSE 9.2) | i686 | OK | OK | ||
| liverpool | Windows Server 2003 R2 (32-bit) | x64 | OK | OK | [ OK ] | |
| pitt | Mac OS X (10.4.10) | i386 | OK | OK | OK | 
| Package: GeneticsDesign | 
| Version: 1.1.0 | 
| Command: E:\biocbld\bbs-2.1-bioc\R\bin\R.exe CMD INSTALL --build --library=GeneticsDesign.buildbin-libdir GeneticsDesign_1.1.0.tar.gz | 
| RetCode: 0 | 
| Time: 17.5 seconds | 
| Status: OK | 
| PackageFile: GeneticsDesign_1.1.0.zip | 
installing R.css in E:/biocbld/bbs-2.1-bioc/meat/GeneticsDesign.buildbin-libdir
Using auto-selected zip options ''
---------- Making package GeneticsDesign ------------
  adding build stamp to DESCRIPTION
  installing NAMESPACE file and metadata
  installing R files
  installing inst files
  installing man source files
  installing indices
  installing help
 >>> Building/Updating help pages for package 'GeneticsDesign'
     Formats: text html latex example chm 
  GPC                               text    html    latex   example chm
  gregorius                         text    html    latex   example chm
  power.casectl                     text    html    latex   example chm
Microsoft HTML Help Compiler 4.74.8702
Compiling e:\biocbld\bbs-2.1-bioc\meat\R.INSTALL.4568\GeneticsDesign\chm\GeneticsDesign.chm
Compile time: 0 minutes, 0 seconds
4	Topics
6	Local links
0	Internet links
1	Graphic
Created e:\biocbld\bbs-2.1-bioc\meat\R.INSTALL.4568\GeneticsDesign\chm\GeneticsDesign.chm, 23,457 bytes
Compression increased file by 3,605 bytes.
  preparing package GeneticsDesign for lazy loading
Loading required package: combinat
Attaching package: 'combinat'
	The following object(s) are masked from package:utils :
	 combn 
Loading required package: gdata
Loading required package: mvtnorm
  adding MD5 sums
packaged installation of package 'GeneticsDesign' as GeneticsDesign_1.1.0.zip
* DONE (GeneticsDesign)