Back to the "Multiple platform build/check report"
| IMPORTANT NOTE: R was configured with --enable-strict-barrier on lamb1 |
| Package 147/247 | Hostname | OS | Arch | BUILD | CHECK | BUILD BIN |
MLInterfaces1.11.4V. CareyLast Changed Date: 2007-08-20 20:49:55 -0700 Last Changed Rev: 26543 | lamb1 | Linux (SUSE 10.1) | x86_64 | OK | OK | |
| wellington | Linux (SUSE 9.2) | i686 | OK | OK | ||
| liverpool | Windows Server 2003 R2 (32-bit) | x64 | [ OK ] | OK | OK | |
| pitt | Mac OS X (10.4.10) | i386 | OK | OK | OK |
| Package: MLInterfaces |
| Version: 1.11.4 |
| Command: E:\biocbld\bbs-2.1-bioc\R\bin\R.exe CMD build MLInterfaces |
| RetCode: 0 |
| Time: 50.8 seconds |
| Status: OK |
| PackageFile: MLInterfaces_1.11.4.tar.gz |
* checking for file 'MLInterfaces/DESCRIPTION' ... OK
* preparing 'MLInterfaces':
* checking DESCRIPTION meta-information ... OK
* installing the package to re-build vignettes
installing R.css in E:/biocbld/bbs-2.1-bioc/tmpdir/Rinst574889840
---------- Making package MLInterfaces ------------
adding build stamp to DESCRIPTION
installing R files
installing inst files
preparing package MLInterfaces for lazy loading
Loading required package: Biobase
Loading required package: tools
Welcome to Bioconductor
Vignettes contain introductory material. To view, type
'openVignette()'. To cite Bioconductor, see
'citation("Biobase")' and for packages 'citation(pkgname)'.
Loading required package: genefilter
Loading required package: survival
Loading required package: splines
Loading required package: rpart
Loading required package: rda
installing man source files
installing indices
installing help
>>> Building/Updating help pages for package 'MLInterfaces'
Formats: text html latex example chm
MLIclust text html latex example chm
MLIntInternals text html latex example chm
MLearn-methods text html latex example chm
RAB text html latex example chm
SOMB text html latex example chm
classifOutput-class text html latex example chm
clustOutput-class text html latex example chm
confuMat-methods text html latex example chm
knnB text html latex example chm
planarPlot-methods text html latex example chm
raboostCont-class text html latex example chm
varImpStruct-class text html latex example chm
xval-methods text html latex example chm
xvalLoop-methods text html latex chm
xvalLoop text html latex example chm
Microsoft HTML Help Compiler 4.74.8702
Compiling e:\biocbld\bbs-2.1-bioc\meat\MLInterfaces\chm\MLInterfaces.chm
Compile time: 0 minutes, 1 second
16 Topics
245 Local links
0 Internet links
1 Graphic
Created e:\biocbld\bbs-2.1-bioc\meat\MLInterfaces\chm\MLInterfaces.chm, 48,053 bytes
Compression decreased file by 87,745 bytes.
adding MD5 sums
* DONE (MLInterfaces)
* creating vignettes ... OK
* removing junk files
* checking for LF line-endings in source files
* checking for empty or unneeded directories
* building 'MLInterfaces_1.11.4.tar.gz'