Back to the "Multiple platform build/check report"
| IMPORTANT NOTE: R was configured with --enable-strict-barrier on lamb1 | 
| Package 136/247 | Hostname | OS | Arch | BUILD | CHECK | BUILD BIN | 
| MantelCorr1.7.0Brian SteinmeyerLast Changed Date: 2007-04-24 11:31:42 -0700 Last Changed Rev: 24217 | lamb1 | Linux (SUSE 10.1) | x86_64 | OK | OK | |
| wellington | Linux (SUSE 9.2) | i686 | OK | OK | ||
| liverpool | Windows Server 2003 R2 (32-bit) | x64 | OK | OK | [ OK ] | |
| pitt | Mac OS X (10.4.10) | i386 | OK | OK | OK | 
| Package: MantelCorr | 
| Version: 1.7.0 | 
| Command: E:\biocbld\bbs-2.1-bioc\R\bin\R.exe CMD INSTALL --build --library=MantelCorr.buildbin-libdir MantelCorr_1.7.0.tar.gz | 
| RetCode: 0 | 
| Time: 18.2 seconds | 
| Status: OK | 
| PackageFile: MantelCorr_1.7.0.zip | 
installing R.css in E:/biocbld/bbs-2.1-bioc/meat/MantelCorr.buildbin-libdir
Using auto-selected zip options 'MantelCorr-ZIPDATA=zip'
---------- Making package MantelCorr ------------
  adding build stamp to DESCRIPTION
  installing R files
  installing inst files
  installing data files
  installing man source files
  installing indices
  zipping data
  installing help
 >>> Building/Updating help pages for package 'MantelCorr'
     Formats: text html latex example chm 
  ClusterGeneList                   text    html    latex   example chm
  ClusterList                       text    html    latex   example chm
  DistMatrices                      text    html    latex   example chm
  GetClusters                       text    html    latex   example chm
  GolubTrain                        text    html    latex   example chm
  MantelCorrs                       text    html    latex   example chm
  PermutationTest                   text    html    latex   example chm
Microsoft HTML Help Compiler 4.74.8702
Compiling e:\biocbld\bbs-2.1-bioc\meat\R.INSTALL.4792\MantelCorr\chm\MantelCorr.chm
Compile time: 0 minutes, 0 seconds
8	Topics
14	Local links
0	Internet links
1	Graphic
Created e:\biocbld\bbs-2.1-bioc\meat\R.INSTALL.4792\MantelCorr\chm\MantelCorr.chm, 23,507 bytes
Compression decreased file by 3,449 bytes.
  adding MD5 sums
packaged installation of package 'MantelCorr' as MantelCorr_1.7.0.zip
* DONE (MantelCorr)