Back to the "Multiple platform build/check report"
| IMPORTANT NOTE: R was configured with --enable-strict-barrier on lamb1 | 
| Package 174/247 | Hostname | OS | Arch | BUILD | CHECK | BUILD BIN | 
| pkgDepTools1.3.1Seth FalconLast Changed Date: 2007-08-12 19:42:48 -0700 Last Changed Rev: 26357 | lamb1 | Linux (SUSE 10.1) | x86_64 | OK | OK | |
| wellington | Linux (SUSE 9.2) | i686 | OK | OK | ||
| liverpool | Windows Server 2003 R2 (32-bit) | x64 | [ TIMEOUT ] | skipped | skipped | |
| pitt | Mac OS X (10.4.10) | i386 | ERROR | skipped | skipped | 
| Package: pkgDepTools | 
| Version: 1.3.1 | 
| Command: E:\biocbld\bbs-2.1-bioc\R\bin\R.exe CMD build pkgDepTools | 
| RetCode: None | 
| Time: 2400.1 seconds | 
| Status: TIMEOUT | 
| PackageFile: None | 
* checking for file 'pkgDepTools/DESCRIPTION' ... OK
* preparing 'pkgDepTools':
* checking DESCRIPTION meta-information ... OK
* installing the package to re-build vignettes
installing R.css in E:/biocbld/bbs-2.1-bioc/tmpdir/Rinst131634655
---------- Making package pkgDepTools ------------
  adding build stamp to DESCRIPTION
  installing NAMESPACE file and metadata
  installing R files
  installing inst files
  preparing package pkgDepTools for lazy loading
Loading required package: graph
Loading required package: RBGL
  installing man source files
  installing indices
  installing help
 >>> Building/Updating help pages for package 'pkgDepTools'
     Formats: text html latex example chm 
  basicInstallOrder                 text    html    latex           chm
  cleanPkgField                     text    html    latex           chm
  getDownloadSize                   text    html    latex           chm
  getInstallOrder                   text    html    latex           chm
  makeDepGraph                      text    html    latex   example chm
  makePkgUrl                        text    html    latex           chm
  parseContentLength                text    html    latex           chm
  pkgDepTools-package               text    html    latex           chm
Microsoft HTML Help Compiler 4.74.8702
Compiling e:\biocbld\bbs-2.1-bioc\meat\pkgDepTools\chm\pkgDepTools.chm
Compile time: 0 minutes, 0 seconds
9	Topics
17	Local links
0	Internet links
1	Graphic
Created e:\biocbld\bbs-2.1-bioc\meat\pkgDepTools\chm\pkgDepTools.chm, 22,008 bytes
Compression decreased file by 800 bytes.
  adding MD5 sums
* DONE (pkgDepTools)
* creating vignettes ...