Back to the "Multiple platform build/check report"
| IMPORTANT NOTE: R was configured with --enable-strict-barrier on lamb1 |
| Package 78/247 | Hostname | OS | Arch | BUILD | CHECK | BUILD BIN |
flowViz1.1.4Florian HahneLast Changed Date: 2007-07-19 11:59:13 -0700 Last Changed Rev: 25894 | lamb1 | Linux (SUSE 10.1) | x86_64 | OK | WARNINGS | |
| wellington | Linux (SUSE 9.2) | i686 | ERROR | skipped | ||
| liverpool | Windows Server 2003 R2 (32-bit) | x64 | [ OK ] | WARNINGS | OK | |
| pitt | Mac OS X (10.4.10) | i386 | OK | WARNINGS | OK |
| Package: flowViz |
| Version: 1.1.4 |
| Command: E:\biocbld\bbs-2.1-bioc\R\bin\R.exe CMD build flowViz |
| RetCode: 0 |
| Time: 94.9 seconds |
| Status: OK |
| PackageFile: flowViz_1.1.4.tar.gz |
* checking for file 'flowViz/DESCRIPTION' ... OK
* preparing 'flowViz':
* checking DESCRIPTION meta-information ... OK
* installing the package to re-build vignettes
installing R.css in E:/biocbld/bbs-2.1-bioc/tmpdir/Rinst466826922
---------- Making package flowViz ------------
adding build stamp to DESCRIPTION
installing NAMESPACE file and metadata
installing R files
installing inst files
installing man source files
installing indices
installing help
Note: unmatched right brace in 'flowPlot' on or after line 57
Note: unmatched right brace in 'flowPlot.Rd' on or after line 57
>>> Building/Updating help pages for package 'flowViz'
Formats: text html latex example chm
ecdfplot text html latex example chm
flowPlot text html latex example chm
flowViz-package text html latex example chm
latticeMethods-flowSet text html latex example chm
xyplot text html latex example chm
Microsoft HTML Help Compiler 4.74.8702
Compiling e:\biocbld\bbs-2.1-bioc\meat\flowViz\chm\flowViz.chm
Compile time: 0 minutes, 0 seconds
6 Topics
26 Local links
0 Internet links
1 Graphic
Created e:\biocbld\bbs-2.1-bioc\meat\flowViz\chm\flowViz.chm, 29,438 bytes
Compression decreased file by 10,497 bytes.
preparing package flowViz for lazy loading
Loading required package: flowCore
Loading required package: Biobase
Loading required package: tools
Welcome to Bioconductor
Vignettes contain introductory material. To view, type
'openVignette()'. To cite Bioconductor, see
'citation("Biobase")' and for packages 'citation(pkgname)'.
Loading required package: rrcov
KernSmooth 2.22 installed
Copyright M. P. Wand 1997
Loading required package: rgl
Loading required package: geneplotter
Loading required package: annotate
Loading required package: AnnotationDbi
Loading required package: DBI
Loading required package: RSQLite
Loading required package: lattice
Loading required package: MASS
Creating a new generic function for "ecdfplot" in "flowViz"
Creating a new generic function for "densityplot" in "flowViz"
Creating a new generic function for "levelplot" in "flowViz"
Creating a new generic function for "qqmath" in "flowViz"
Creating a new generic function for "splom" in "flowViz"
Creating a new generic function for "parallel" in "flowViz"
Creating a new generic function for "xyplot" in "flowViz"
adding MD5 sums
* DONE (flowViz)
* creating vignettes ... OK
* removing junk files
* checking for LF line-endings in source files
* checking for empty or unneeded directories
* building 'flowViz_1.1.4.tar.gz'