Back to the "Multiple platform build/check report"
| IMPORTANT NOTE: R was configured with --enable-strict-barrier on lamb1 |
| Package 95/247 | Hostname | OS | Arch | BUILD | CHECK | BUILD BIN |
gff3Plotter1.9.0Oleg SklyarLast Changed Date: 2007-05-11 21:56:41 -0700 Last Changed Rev: 24616 | lamb1 | Linux (SUSE 10.1) | x86_64 | OK | WARNINGS | |
| wellington | Linux (SUSE 9.2) | i686 | OK | WARNINGS | ||
| liverpool | Windows Server 2003 R2 (32-bit) | x64 | [ OK ] | WARNINGS | OK | |
| pitt | Mac OS X (10.4.10) | i386 | OK | WARNINGS | OK |
| Package: gff3Plotter |
| Version: 1.9.0 |
| Command: E:\biocbld\bbs-2.1-bioc\R\bin\R.exe CMD build gff3Plotter |
| RetCode: 0 |
| Time: 20.0 seconds |
| Status: OK |
| PackageFile: gff3Plotter_1.9.0.tar.gz |
* checking for file 'gff3Plotter/DESCRIPTION' ... OK
* preparing 'gff3Plotter':
* checking DESCRIPTION meta-information ... OK
* installing the package to re-build vignettes
installing R.css in E:/biocbld/bbs-2.1-bioc/tmpdir/Rinst257246646
---------- Making package gff3Plotter ------------
adding build stamp to DESCRIPTION
installing R files
installing inst files
preparing package gff3Plotter for lazy loading
installing man source files
installing indices
installing help
Note: unmatched right brace in 'getTickCoords' on or after line 19
Note: unmatched right brace in 'getTickCoords.Rd' on or after line 19
Note: unmatched right brace in 'plot.gff' on or after line 34
Note: unmatched right brace in 'plot.gff.Rd' on or after line 34
Note: unmatched right brace in 'plot.gff.toFile' on or after line 25
Note: unmatched right brace in 'plot.gff.toFile.Rd' on or after line 25
>>> Building/Updating help pages for package 'gff3Plotter'
Formats: text html latex example chm
getAttr text html latex example chm
getTickCoords text html latex example chm
internals text html latex chm
plot.gff text html latex example chm
plot.gff.toFile text html latex example chm
read.gff text html latex example chm
Microsoft HTML Help Compiler 4.74.8702
Compiling e:\biocbld\bbs-2.1-bioc\meat\gff3Plotter\chm\gff3Plotter.chm
Compile time: 0 minutes, 0 seconds
7 Topics
27 Local links
1 Internet link
1 Graphic
Created e:\biocbld\bbs-2.1-bioc\meat\gff3Plotter\chm\gff3Plotter.chm, 24,608 bytes
Compression decreased file by 1,424 bytes.
adding MD5 sums
* DONE (gff3Plotter)
* creating vignettes ... OK
* removing junk files
* checking for LF line-endings in source files
* checking for empty or unneeded directories
* building 'gff3Plotter_1.9.0.tar.gz'