Back to the "Multiple platform build/check report"
| IMPORTANT NOTE: R was configured with --enable-strict-barrier on lamb1 |
| Package 201/247 | Hostname | OS | Arch | BUILD | CHECK | BUILD BIN |
RLMM0.11.0Nusrat RabbeeLast Changed Date: 2007-01-09 17:06:56 -0800 Last Changed Rev: 21912 | lamb1 | Linux (SUSE 10.1) | x86_64 | OK | OK | |
| wellington | Linux (SUSE 9.2) | i686 | OK | OK | ||
| liverpool | Windows Server 2003 R2 (32-bit) | x64 | [ OK ] | OK | OK | |
| pitt | Mac OS X (10.4.10) | i386 | OK | OK | OK |
| Package: RLMM |
| Version: 0.11.0 |
| Command: E:\biocbld\bbs-2.1-bioc\R\bin\R.exe CMD build RLMM |
| RetCode: 0 |
| Time: 21.2 seconds |
| Status: OK |
| PackageFile: RLMM_0.11.0.tar.gz |
* checking for file 'RLMM/DESCRIPTION' ... OK
* preparing 'RLMM':
* checking DESCRIPTION meta-information ... OK
* installing the package to re-build vignettes
installing R.css in E:/biocbld/bbs-2.1-bioc/tmpdir/Rinst545266412
---------- Making package RLMM ------------
adding build stamp to DESCRIPTION
installing R files
installing inst files
installing man source files
installing indices
installing help
>>> Building/Updating help pages for package 'RLMM'
Formats: text html latex example chm
Classify text html latex chm
create_Thetafile text html latex chm
normalize_Rawfiles text html latex chm
plot_theta text html latex chm
Microsoft HTML Help Compiler 4.74.8702
Compiling e:\biocbld\bbs-2.1-bioc\meat\RLMM\chm\RLMM.chm
Compile time: 0 minutes, 0 seconds
5 Topics
8 Local links
0 Internet links
1 Graphic
Created e:\biocbld\bbs-2.1-bioc\meat\RLMM\chm\RLMM.chm, 19,833 bytes
Compression increased file by 4,928 bytes.
adding MD5 sums
* DONE (RLMM)
* creating vignettes ... OK
* removing junk files
* checking for LF line-endings in source files
* checking for empty or unneeded directories
* building 'RLMM_0.11.0.tar.gz'