Back to the "Multiple platform build/check report"
| IMPORTANT NOTE: R was configured with --enable-strict-barrier on lamb1 |
| Package 147/247 | Hostname | OS | Arch | BUILD | CHECK | BUILD BIN |
MLInterfaces1.11.4V. CareyLast Changed Date: 2007-08-20 20:49:55 -0700 Last Changed Rev: 26543 | lamb1 | Linux (SUSE 10.1) | x86_64 | OK | OK | |
| wellington | Linux (SUSE 9.2) | i686 | OK | OK | ||
| liverpool | Windows Server 2003 R2 (32-bit) | x64 | OK | [ OK ] | OK | |
| pitt | Mac OS X (10.4.10) | i386 | OK | OK | OK |
| Package: MLInterfaces |
| Version: 1.11.4 |
| Command: E:\biocbld\bbs-2.1-bioc\R\bin\R.exe CMD check MLInterfaces_1.11.4.tar.gz |
| RetCode: 0 |
| Time: 151.3 seconds |
| Status: OK |
| CheckDir: MLInterfaces.Rcheck |
| Warnings: 0 |
* checking for working latex ... OK * using log directory 'E:/biocbld/bbs-2.1-bioc/meat/MLInterfaces.Rcheck' * using R version 2.6.0 Under development (unstable) (2007-08-06 r42439) * checking for file 'MLInterfaces/DESCRIPTION' ... OK * this is package 'MLInterfaces' version '1.11.4' * checking package dependencies ... OK * checking if this is a source package ... OK * checking whether package 'MLInterfaces' can be installed ... OK * checking package directory ... OK * checking for portable file names ... OK * checking DESCRIPTION meta-information ... OK * checking top-level files ... OK * checking index information ... OK * checking package subdirectories ... OK * checking R files for non-ASCII characters ... OK * checking R files for syntax errors ... OK * checking whether the package can be loaded ... OK * checking whether the package can be loaded with stated dependencies ... OK * checking for unstated dependencies in R code ... OK * checking S3 generic/method consistency ... OK * checking replacement functions ... OK * checking foreign function calls ... OK * checking R code for possible problems ... NOTE makeCVFunc: multiple local function definitions for 'resfunc' with different formal arguments * checking Rd files ... OK * checking Rd cross-references ... OK * checking for missing documentation entries ... OK * checking for code/documentation mismatches ... OK * checking Rd \usage sections ... NOTE S3 methods shown with full name in documentation object 'MLIntInternals': predict.knnP print.knnP The \usage entries for S3 methods should use the \method markup and not their full name. See the chapter 'Writing R documentation files' in manual 'Writing R Extensions'. * creating MLInterfaces-Ex.R ... OK * checking examples ... OK * checking package vignettes in 'inst/doc' ... OK * creating MLInterfaces-manual.tex ... OK * checking MLInterfaces-manual.tex ... OK
MLInterfaces.Rcheck/00install.out:
installing R.css in E:/biocbld/bbs-2.1-bioc/meat/MLInterfaces.Rcheck
---------- Making package MLInterfaces ------------
adding build stamp to DESCRIPTION
installing R files
installing inst files
preparing package MLInterfaces for lazy loading
Loading required package: Biobase
Loading required package: tools
Welcome to Bioconductor
Vignettes contain introductory material. To view, type
'openVignette()'. To cite Bioconductor, see
'citation("Biobase")' and for packages 'citation(pkgname)'.
Loading required package: genefilter
Loading required package: survival
Loading required package: splines
Loading required package: rpart
Loading required package: rda
installing man source files
installing indices
installing help
>>> Building/Updating help pages for package 'MLInterfaces'
Formats: text html latex example chm
MLIclust text html latex example chm
MLIntInternals text html latex example chm
MLearn-methods text html latex example chm
RAB text html latex example chm
SOMB text html latex example chm
classifOutput-class text html latex example chm
clustOutput-class text html latex example chm
confuMat-methods text html latex example chm
knnB text html latex example chm
planarPlot-methods text html latex example chm
raboostCont-class text html latex example chm
varImpStruct-class text html latex example chm
xval-methods text html latex example chm
xvalLoop-methods text html latex chm
xvalLoop text html latex example chm
Microsoft HTML Help Compiler 4.74.8702
Compiling e:\biocbld\bbs-2.1-bioc\meat\MLInterfaces.Rcheck\00_pkg_src\MLInterfaces\chm\MLInterfaces.chm
Compile time: 0 minutes, 0 seconds
16 Topics
245 Local links
0 Internet links
1 Graphic
Created e:\biocbld\bbs-2.1-bioc\meat\MLInterfaces.Rcheck\00_pkg_src\MLInterfaces\chm\MLInterfaces.chm, 48,051 bytes
Compression decreased file by 87,747 bytes.
adding MD5 sums
* DONE (MLInterfaces)