Back to the "Multiple platform build/check report"
| IMPORTANT NOTE: R was configured with --enable-strict-barrier on lamb1 | 
| Package 4/247 | Hostname | OS | Arch | BUILD | CHECK | BUILD BIN | 
| adSplit1.7.0Claudio LottazLast Changed Date: 2007-05-11 21:56:41 -0700 Last Changed Rev: 24616 | lamb1 | Linux (SUSE 10.1) | x86_64 | OK | OK | |
| wellington | Linux (SUSE 9.2) | i686 | OK | OK | ||
| liverpool | Windows Server 2003 R2 (32-bit) | x64 | OK | OK | [ OK ] | |
| pitt | Mac OS X (10.4.10) | i386 | OK | OK | OK | 
| Package: adSplit | 
| Version: 1.7.0 | 
| Command: E:\biocbld\bbs-2.1-bioc\R\bin\R.exe CMD INSTALL --build --library=adSplit.buildbin-libdir adSplit_1.7.0.tar.gz | 
| RetCode: 0 | 
| Time: 24.2 seconds | 
| Status: OK | 
| PackageFile: adSplit_1.7.0.zip | 
installing R.css in E:/biocbld/bbs-2.1-bioc/meat/adSplit.buildbin-libdir
Using auto-selected zip options ''
---------- Making package adSplit ------------
  adding build stamp to DESCRIPTION
  installing NAMESPACE file and metadata
  making DLL ...
making adSplit.d from adSplit.cpp
g++   -IE:/biocbld/bbs-2.1-bioc/R/include  -Wall -O2   -c adSplit.cpp -o adSplit.o
adSplit.cpp: In function `void isis(char**, double*, int*, int*, int*, int*, int*, double*, int*)':
adSplit.cpp:437: warning: 's' might be used uninitialized in this function
windres -I E:/biocbld/bbs-2.1-bioc/R/include  -i adSplit_res.rc -o adSplit_res.o
g++  -shared -s  -o adSplit.dll adSplit.def adSplit.o adSplit_res.o  -LE:/biocbld/bbs-2.1-bioc/R/bin    -lR
  ... DLL made
  installing DLL
  installing R files
  installing inst files
  installing data files
  preparing package adSplit for lazy loading
Loading required package: cluster
Loading required package: multtest
Loading required package: Biobase
Loading required package: tools
Welcome to Bioconductor
  Vignettes contain introductory material. To view, type
  'openVignette()'. To cite Bioconductor, see
  'citation("Biobase")' and for packages 'citation(pkgname)'.
Loading required package: survival
Loading required package: splines
Loading required package: affy
Loading required package: affyio
Loading required package: preprocessCore
Loading required package: GO
Loading required package: KEGG
  installing man source files
  installing indices
  not zipping data
  installing help
 >>> Building/Updating help pages for package 'adSplit'
     Formats: text html latex example chm 
  adSplit-internal                  text    html    latex           chm
  adSplit                           text    html    latex   example chm
  diana2means                       text    html    latex   example chm
  drawRandomPS                      text    html    latex   example chm
  golubKEGGSplits                   text    html    latex   example chm
  hist.splitSet                     text    html    latex   example chm
  image.splitSet                    text    html    latex   example chm
  makeEID2PROBESenv                 text    html    latex   example chm
  print.split                       text    html    latex           chm
  print.splitSet                    text    html    latex   example chm
  randomDiana2means                 text    html    latex   example chm
Microsoft HTML Help Compiler 4.74.8702
Compiling e:\biocbld\bbs-2.1-bioc\meat\R.INSTALL.856\adSplit\chm\adSplit.chm
Compile time: 0 minutes, 0 seconds
12	Topics
28	Local links
0	Internet links
1	Graphic
Created e:\biocbld\bbs-2.1-bioc\meat\R.INSTALL.856\adSplit\chm\adSplit.chm, 28,380 bytes
Compression decreased file by 7,002 bytes.
  adding MD5 sums
packaged installation of package 'adSplit' as adSplit_1.7.0.zip
* DONE (adSplit)