Back to the "Multiple platform build/check report"
| IMPORTANT NOTE: R was configured with --enable-strict-barrier on lamb1 |
| Package 148/247 | Hostname | OS | Arch | BUILD | CHECK | BUILD BIN |
mmgmos1.7.0Xuejun LiuLast Changed Date: 2007-06-10 10:22:32 -0700 Last Changed Rev: 25301 | lamb1 | Linux (SUSE 10.1) | x86_64 | OK | ERROR | |
| wellington | Linux (SUSE 9.2) | i686 | OK | ERROR | ||
| liverpool | Windows Server 2003 R2 (32-bit) | x64 | [ OK ] | ERROR | OK | |
| pitt | Mac OS X (10.4.10) | i386 | OK | ERROR | OK |
| Package: mmgmos |
| Version: 1.7.0 |
| Command: E:\biocbld\bbs-2.1-bioc\R\bin\R.exe CMD build mmgmos |
| RetCode: 0 |
| Time: 30.7 seconds |
| Status: OK |
| PackageFile: mmgmos_1.7.0.tar.gz |
* checking for file 'mmgmos/DESCRIPTION' ... OK
* preparing 'mmgmos':
* checking DESCRIPTION meta-information ... OK
* cleaning src
* installing the package to re-build vignettes
installing R.css in E:/biocbld/bbs-2.1-bioc/tmpdir/Rinst64458016
---------- Making package mmgmos ------------
adding build stamp to DESCRIPTION
making DLL ...
making donlp2.d from donlp2.c
making multimgmos.d from multimgmos.c
making newx.d from newx.c
making user_eval.d from user_eval.c
gcc -Ie:/biocbld/bbs-2.1-bioc/R/include -Wall -O3 -std=gnu99 -c donlp2.c -o donlp2.o
donlp2.c:242:5: warning: "/*" within comment
donlp2.c: In function `o8st':
donlp2.c:439: warning: unused variable `k'
donlp2.c:440: warning: unused variable `bd0'
donlp2.c:440: warning: unused variable `gxi'
donlp2.c:440: warning: unused variable `hxi'
donlp2.c:2003:1: warning: "/*" within comment
donlp2.c:2672:1: warning: "/*" within comment
donlp2.c: In function `o8opti':
donlp2.c:2045: warning: unused variable `l'
donlp2.c:2058: warning: unused variable `eval_err'
donlp2.c: In function `o8dird':
donlp2.c:4087: warning: unused variable `term1'
donlp2.c:4091: warning: label `L100' defined but not used
donlp2.c: In function `o8eval':
donlp2.c:4376: warning: unused variable `j'
donlp2.c: In function `o8elim':
donlp2.c:4991: warning: unused variable `l'
donlp2.c: In function `o8qpdu':
donlp2.c:5719: warning: unused variable `term2'
donlp2.c:6382: warning: label `L500' defined but not used
donlp2.c: In function `o8dlcd':
donlp2.c:7117: warning: label `L20' defined but not used
donlp2.c: In function `i1_malloc':
donlp2.c:7837: warning: unused variable `j'
donlp2.c: In function `i1_free':
donlp2.c:7874: warning: unused variable `i'
donlp2.c: In function `d1_malloc':
donlp2.c:7967: warning: unused variable `j'
donlp2.c: In function `d1_free':
donlp2.c:8002: warning: unused variable `i'
donlp2.c: In function `l1_malloc':
donlp2.c:8096: warning: unused variable `j'
donlp2.c: In function `l1_free':
donlp2.c:8131: warning: unused variable `i'
donlp2.c: At top level:
o8gene.h:23: warning: 'fcount' defined but not used
gcc -Ie:/biocbld/bbs-2.1-bioc/R/include -Wall -O3 -std=gnu99 -c multimgmos.c -o multimgmos.o
multimgmos.c: In function `calparameters':
o8fuco.h:5: warning: unused variable `val'
o8fuco.h:5: warning: unused variable `llow'
o8fuco.h:5: warning: unused variable `lup'
o8fuco.h:7: warning: unused variable `n'
o8fuco.h:7: warning: unused variable `nr'
o8fuco.h:7: warning: unused variable `nres'
o8fuco.h:7: warning: unused variable `nlin'
o8fuco.h:7: warning: unused variable `nonlin'
o8fuco.h:7: warning: unused variable `nstep'
o8fuco.h:7: warning: unused variable `ndualm'
o8fuco.h:7: warning: unused variable `mdualm'
o8fuco.h:9: warning: unused variable `epsmac'
o8fuco.h:9: warning: unused variable `tolmac'
o8fuco.h:9: warning: unused variable `deldif'
o8fuco.h:11: warning: unused variable `name'
o8fuco.h:13: warning: unused variable `epsdif'
o8fuco.h:15: warning: unused variable `intakt'
o8fuco.h:15: warning: unused variable `te0'
o8fuco.h:15: warning: unused variable `te1'
o8fuco.h:15: warning: unused variable `te2'
o8fuco.h:15: warning: unused variable `te3'
o8fuco.h:15: warning: unused variable `singul'
o8fuco.h:16: warning: unused variable `ident'
o8fuco.h:16: warning: unused variable `eqres'
o8fuco.h:16: warning: unused variable `silent'
o8fuco.h:16: warning: unused variable `analyt'
o8fuco.h:16: warning: unused variable `cold'
o8fuco.h:18: warning: unused variable `icf'
o8fuco.h:18: warning: unused variable `icgf'
o8fuco.h:18: warning: unused variable `cfincr'
o8fuco.h:18: warning: unused variable `cres'
o8fuco.h:18: warning: unused variable `cgres'
o8fuco.h:20: warning: unused variable `ffuerr'
o8fuco.h:20: warning: unused variable `confuerr'
o8fuco.h:25: warning: unused variable `nh'
o8fuco.h:25: warning: unused variable `ng'
o8fuco.h:27: warning: unused variable `nonlinlist'
o8fuco.h:29: warning: unused variable `gunit'
o8fuco.h:31: warning: unused variable `gconst'
o8fuco.h:33: warning: unused variable `cfuerr'
o8comm.h:7: warning: unused variable `runtim'
o8comm.h:8: warning: unused variable `optite'
o8comm.h:9: warning: unused variable `accinf'
o8comm.h:10: warning: unused variable `itstep'
o8comm.h:10: warning: unused variable `phase'
o8comm.h:12: warning: unused variable `upsi'
o8comm.h:12: warning: unused variable `upsi0'
o8comm.h:12: warning: unused variable `upsi1'
o8comm.h:12: warning: unused variable `upsist'
o8comm.h:12: warning: unused variable `psi'
o8comm.h:12: warning: unused variable `psi0'
o8comm.h:13: warning: unused variable `psi1'
o8comm.h:13: warning: unused variable `psist'
o8comm.h:13: warning: unused variable `psimin'
o8comm.h:14: warning: unused variable `phi'
o8comm.h:14: warning: unused variable `phi0'
o8comm.h:14: warning: unused variable `phi1'
o8comm.h:14: warning: unused variable `phimin'
o8comm.h:14: warning: unused variable `fx0'
o8comm.h:14: warning: unused variable `fx1'
o8comm.h:15: warning: unused variable `fxst'
o8comm.h:15: warning: unused variable `donlp2_fmin'
o8comm.h:15: warning: unused variable `b2n'
o8comm.h:15: warning: unused variable `b2n0'
o8comm.h:15: warning: unused variable `xnorm'
o8comm.h:15: warning: unused variable `x0norm'
o8comm.h:15: warning: unused variable `sig0'
o8comm.h:15: warning: unused variable `dscal'
o8comm.h:15: warning: unused variable `ddnorm'
o8comm.h:15: warning: unused variable `d0norm'
o8comm.h:16: warning: unused variable `sig'
o8comm.h:16: warning: unused variable `sigmin'
o8comm.h:16: warning: unused variable `dirder'
o8comm.h:16: warning: unused variable `cosphi'
o8comm.h:16: warning: unused variable `upsim'
o8comm.h:17: warning: unused variable `donlp2_x'
o8comm.h:17: warning: unused variable `x0'
o8comm.h:17: warning: unused variable `x1'
o8comm.h:17: warning: unused variable `xmin'
o8comm.h:17: warning: unused variable `d'
o8comm.h:17: warning: unused variable `d0'
o8comm.h:18: warning: unused variable `dd'
o8comm.h:18: warning: unused variable `difx'
o8comm.h:18: warning: unused variable `resmin'
o8comm.h:20: warning: unused variable `gradf'
o8comm.h:20: warning: unused variable `gfn'
o8comm.h:20: warning: unused variable `qgf'
o8comm.h:20: warning: unused variable `gphi0'
o8comm.h:20: warning: unused variable `gphi1'
o8comm.h:21: warning: unused variable `gres'
o8comm.h:21: warning: unused variable `gresn'
o8comm.h:23: warning: unused variable `perm'
o8comm.h:23: warning: unused variable `perm1'
o8comm.h:23: warning: unused variable `colno'
o8comm.h:23: warning: unused variable `rank'
o8comm.h:24: warning: unused variable `qr'
o8comm.h:24: warning: unused variable `betaq'
o8comm.h:24: warning: unused variable `diag'
o8comm.h:25: warning: unused variable `cscal'
o8comm.h:26: warning: unused variable `colle'
o8comm.h:30: warning: unused variable `a'
o8comm.h:30: warning: unused variable `scalm'
o8comm.h:30: warning: unused variable `scalm2'
o8comm.h:30: warning: unused variable `diag0'
o8comm.h:30: warning: unused variable `matsc'
o8comm.h:32: warning: unused variable `violis'
o8comm.h:32: warning: unused variable `alist'
o8comm.h:32: warning: unused variable `o8bind'
o8comm.h:33: warning: unused variable `o8bind0'
o8comm.h:33: warning: unused variable `aalist'
o8comm.h:33: warning: unused variable `clist'
o8comm.h:35: warning: unused variable `u'
o8comm.h:35: warning: unused variable `u0'
o8comm.h:36: warning: unused variable `w'
o8comm.h:36: warning: unused variable `w1'
o8comm.h:36: warning: unused variable `res'
o8comm.h:37: warning: unused variable `res0'
o8comm.h:37: warning: unused variable `res1'
o8comm.h:38: warning: unused variable `resst'
o8comm.h:38: warning: unused variable `scf'
o8comm.h:38: warning: unused variable `scf0'
o8comm.h:39: warning: unused variable `yu'
o8comm.h:39: warning: unused variable `slack'
o8comm.h:39: warning: unused variable `infeas'
o8comm.h:39: warning: unused variable `work'
o8comm.h:41: warning: unused variable `iterma'
o8comm.h:42: warning: unused variable `del'
o8comm.h:42: warning: unused variable `del0'
o8comm.h:42: warning: unused variable `del01'
o8comm.h:42: warning: unused variable `delmin'
o8comm.h:42: warning: unused variable `tau0'
o8comm.h:42: warning: unused variable `tau'
o8comm.h:42: warning: unused variable `ny'
o8comm.h:43: warning: unused variable `smalld'
o8comm.h:43: warning: unused variable `smallw'
o8comm.h:43: warning: unused variable `rho'
o8comm.h:43: warning: unused variable `rho1'
o8comm.h:43: warning: unused variable `eta'
o8comm.h:43: warning: unused variable `epsx'
o8comm.h:43: warning: unused variable `c1d'
o8comm.h:44: warning: unused variable `scfmax'
o8comm.h:44: warning: unused variable `updmy0'
o8comm.h:44: warning: unused variable `tauqp'
o8comm.h:44: warning: unused variable `taufac'
o8comm.h:44: warning: unused variable `taumax'
o8comm.h:46: warning: unused variable `alpha'
o8comm.h:46: warning: unused variable `bbeta'
o8comm.h:46: warning: unused variable `theta'
o8comm.h:46: warning: unused variable `sigsm'
o8comm.h:46: warning: unused variable `sigla'
o8comm.h:46: warning: unused variable `delta'
o8comm.h:46: warning: unused variable `stptrm'
o8comm.h:47: warning: unused variable `delta1'
o8comm.h:47: warning: unused variable `stmaxl'
o8comm.h:49: warning: unused variable `level'
o8comm.h:50: warning: unused variable `clow'
o8comm.h:50: warning: unused variable `lastdw'
o8comm.h:50: warning: unused variable `lastup'
o8comm.h:50: warning: unused variable `lastch'
o8comm.h:52: warning: unused variable `prou'
o8comm.h:52: warning: unused variable `meu'
o8comm.h:54: warning: unused variable `ug'
o8comm.h:54: warning: unused variable `og'
o8comm.h:56: warning: unused variable `low'
o8comm.h:56: warning: unused variable `up'
o8comm.h:56: warning: unused variable `big'
o8comm.h:58: warning: unused variable `nreset'
o8comm.h:60: warning: unused variable `xst'
o8cons.h:4: warning: unused variable `zero'
o8cons.h:4: warning: unused variable `one'
o8cons.h:4: warning: unused variable `two'
o8cons.h:4: warning: unused variable `three'
o8cons.h:4: warning: unused variable `four'
o8cons.h:5: warning: unused variable `five'
o8cons.h:5: warning: unused variable `six'
o8cons.h:5: warning: unused variable `seven'
o8cons.h:6: warning: unused variable `twom2'
o8cons.h:6: warning: unused variable `twop4'
o8cons.h:6: warning: unused variable `twop11'
o8cons.h:6: warning: unused variable `onep3'
o8cons.h:7: warning: unused variable `onep5'
o8cons.h:7: warning: unused variable `p2'
o8cons.h:7: warning: unused variable `p4'
o8cons.h:7: warning: unused variable `p5'
o8cons.h:7: warning: unused variable `p7'
o8cons.h:7: warning: unused variable `p8'
o8cons.h:7: warning: unused variable `p9'
o8cons.h:8: warning: unused variable `c45'
o8cons.h:8: warning: unused variable `tm12'
o8cons.h:9: warning: unused variable `tm10'
o8cons.h:9: warning: unused variable `tm9'
o8cons.h:9: warning: unused variable `tm8'
o8cons.h:9: warning: unused variable `tm7'
o8cons.h:9: warning: unused variable `tm6'
o8cons.h:9: warning: unused variable `tm5'
o8cons.h:10: warning: unused variable `tm4'
o8cons.h:10: warning: unused variable `tm3'
o8cons.h:10: warning: unused variable `tm2'
o8cons.h:10: warning: unused variable `tm1'
o8cons.h:10: warning: unused variable `tp1'
o8cons.h:10: warning: unused variable `tp2'
o8cons.h:11: warning: unused variable `tp3'
o8cons.h:11: warning: unused variable `tp4'
multimgmos.c: In function `calexpression':
multimgmos.c:194: warning: unused variable `Rf_pf'
multimgmos.c: In function `workout_mgmos':
o8fuco.h:5: warning: unused variable `val'
o8fuco.h:5: warning: unused variable `llow'
o8fuco.h:5: warning: unused variable `lup'
o8fuco.h:7: warning: unused variable `n'
o8fuco.h:7: warning: unused variable `nr'
o8fuco.h:7: warning: unused variable `nres'
o8fuco.h:7: warning: unused variable `nlin'
o8fuco.h:7: warning: unused variable `nonlin'
o8fuco.h:7: warning: unused variable `nstep'
o8fuco.h:7: warning: unused variable `ndualm'
o8fuco.h:7: warning: unused variable `mdualm'
o8fuco.h:9: warning: unused variable `epsmac'
o8fuco.h:9: warning: unused variable `tolmac'
o8fuco.h:9: warning: unused variable `deldif'
o8fuco.h:11: warning: unused variable `name'
o8fuco.h:13: warning: unused variable `epsdif'
o8fuco.h:15: warning: unused variable `intakt'
o8fuco.h:15: warning: unused variable `te0'
o8fuco.h:15: warning: unused variable `te1'
o8fuco.h:15: warning: unused variable `te2'
o8fuco.h:15: warning: unused variable `te3'
o8fuco.h:15: warning: unused variable `singul'
o8fuco.h:16: warning: unused variable `ident'
o8fuco.h:16: warning: unused variable `eqres'
o8fuco.h:16: warning: unused variable `silent'
o8fuco.h:16: warning: unused variable `analyt'
o8fuco.h:16: warning: unused variable `cold'
o8fuco.h:18: warning: unused variable `icf'
o8fuco.h:18: warning: unused variable `icgf'
o8fuco.h:18: warning: unused variable `cfincr'
o8fuco.h:18: warning: unused variable `cres'
o8fuco.h:18: warning: unused variable `cgres'
o8fuco.h:20: warning: unused variable `ffuerr'
o8fuco.h:20: warning: unused variable `confuerr'
o8fuco.h:25: warning: unused variable `nh'
o8fuco.h:25: warning: unused variable `ng'
o8fuco.h:27: warning: unused variable `nonlinlist'
o8fuco.h:29: warning: unused variable `gunit'
o8fuco.h:31: warning: unused variable `gconst'
o8fuco.h:33: warning: unused variable `cfuerr'
o8comm.h:7: warning: unused variable `runtim'
o8comm.h:8: warning: unused variable `optite'
o8comm.h:9: warning: unused variable `accinf'
o8comm.h:10: warning: unused variable `itstep'
o8comm.h:10: warning: unused variable `phase'
o8comm.h:12: warning: unused variable `upsi'
o8comm.h:12: warning: unused variable `upsi0'
o8comm.h:12: warning: unused variable `upsi1'
o8comm.h:12: warning: unused variable `upsist'
o8comm.h:12: warning: unused variable `psi'
o8comm.h:12: warning: unused variable `psi0'
o8comm.h:13: warning: unused variable `psi1'
o8comm.h:13: warning: unused variable `psist'
o8comm.h:13: warning: unused variable `psimin'
o8comm.h:14: warning: unused variable `phi'
o8comm.h:14: warning: unused variable `phi0'
o8comm.h:14: warning: unused variable `phi1'
o8comm.h:14: warning: unused variable `phimin'
o8comm.h:14: warning: unused variable `fx0'
o8comm.h:14: warning: unused variable `fx1'
o8comm.h:15: warning: unused variable `fxst'
o8comm.h:15: warning: unused variable `donlp2_fmin'
o8comm.h:15: warning: unused variable `b2n'
o8comm.h:15: warning: unused variable `b2n0'
o8comm.h:15: warning: unused variable `xnorm'
o8comm.h:15: warning: unused variable `x0norm'
o8comm.h:15: warning: unused variable `sig0'
o8comm.h:15: warning: unused variable `dscal'
o8comm.h:15: warning: unused variable `ddnorm'
o8comm.h:15: warning: unused variable `d0norm'
o8comm.h:16: warning: unused variable `sig'
o8comm.h:16: warning: unused variable `sigmin'
o8comm.h:16: warning: unused variable `dirder'
o8comm.h:16: warning: unused variable `cosphi'
o8comm.h:16: warning: unused variable `upsim'
o8comm.h:17: warning: unused variable `donlp2_x'
o8comm.h:17: warning: unused variable `x0'
o8comm.h:17: warning: unused variable `x1'
o8comm.h:17: warning: unused variable `xmin'
o8comm.h:17: warning: unused variable `d'
o8comm.h:17: warning: unused variable `d0'
o8comm.h:18: warning: unused variable `dd'
o8comm.h:18: warning: unused variable `difx'
o8comm.h:18: warning: unused variable `resmin'
o8comm.h:20: warning: unused variable `gradf'
o8comm.h:20: warning: unused variable `gfn'
o8comm.h:20: warning: unused variable `qgf'
o8comm.h:20: warning: unused variable `gphi0'
o8comm.h:20: warning: unused variable `gphi1'
o8comm.h:21: warning: unused variable `gres'
o8comm.h:21: warning: unused variable `gresn'
o8comm.h:23: warning: unused variable `perm'
o8comm.h:23: warning: unused variable `perm1'
o8comm.h:23: warning: unused variable `colno'
o8comm.h:23: warning: unused variable `rank'
o8comm.h:24: warning: unused variable `qr'
o8comm.h:24: warning: unused variable `betaq'
o8comm.h:24: warning: unused variable `diag'
o8comm.h:25: warning: unused variable `cscal'
o8comm.h:26: warning: unused variable `colle'
o8comm.h:30: warning: unused variable `a'
o8comm.h:30: warning: unused variable `scalm'
o8comm.h:30: warning: unused variable `scalm2'
o8comm.h:30: warning: unused variable `diag0'
o8comm.h:30: warning: unused variable `matsc'
o8comm.h:32: warning: unused variable `violis'
o8comm.h:32: warning: unused variable `alist'
o8comm.h:32: warning: unused variable `o8bind'
o8comm.h:33: warning: unused variable `o8bind0'
o8comm.h:33: warning: unused variable `aalist'
o8comm.h:33: warning: unused variable `clist'
o8comm.h:35: warning: unused variable `u'
o8comm.h:35: warning: unused variable `u0'
o8comm.h:36: warning: unused variable `w'
o8comm.h:36: warning: unused variable `w1'
o8comm.h:36: warning: unused variable `res'
o8comm.h:37: warning: unused variable `res0'
o8comm.h:37: warning: unused variable `res1'
o8comm.h:38: warning: unused variable `resst'
o8comm.h:38: warning: unused variable `scf'
o8comm.h:38: warning: unused variable `scf0'
o8comm.h:39: warning: unused variable `yu'
o8comm.h:39: warning: unused variable `slack'
o8comm.h:39: warning: unused variable `infeas'
o8comm.h:39: warning: unused variable `work'
o8comm.h:41: warning: unused variable `iterma'
o8comm.h:42: warning: unused variable `del'
o8comm.h:42: warning: unused variable `del0'
o8comm.h:42: warning: unused variable `del01'
o8comm.h:42: warning: unused variable `delmin'
o8comm.h:42: warning: unused variable `tau0'
o8comm.h:42: warning: unused variable `tau'
o8comm.h:42: warning: unused variable `ny'
o8comm.h:43: warning: unused variable `smalld'
o8comm.h:43: warning: unused variable `smallw'
o8comm.h:43: warning: unused variable `rho'
o8comm.h:43: warning: unused variable `rho1'
o8comm.h:43: warning: unused variable `eta'
o8comm.h:43: warning: unused variable `epsx'
o8comm.h:43: warning: unused variable `c1d'
o8comm.h:44: warning: unused variable `scfmax'
o8comm.h:44: warning: unused variable `updmy0'
o8comm.h:44: warning: unused variable `tauqp'
o8comm.h:44: warning: unused variable `taufac'
o8comm.h:44: warning: unused variable `taumax'
o8comm.h:46: warning: unused variable `alpha'
o8comm.h:46: warning: unused variable `bbeta'
o8comm.h:46: warning: unused variable `theta'
o8comm.h:46: warning: unused variable `sigsm'
o8comm.h:46: warning: unused variable `sigla'
o8comm.h:46: warning: unused variable `delta'
o8comm.h:46: warning: unused variable `stptrm'
o8comm.h:47: warning: unused variable `delta1'
o8comm.h:47: warning: unused variable `stmaxl'
o8comm.h:49: warning: unused variable `level'
o8comm.h:50: warning: unused variable `clow'
o8comm.h:50: warning: unused variable `lastdw'
o8comm.h:50: warning: unused variable `lastup'
o8comm.h:50: warning: unused variable `lastch'
o8comm.h:52: warning: unused variable `prou'
o8comm.h:52: warning: unused variable `meu'
o8comm.h:54: warning: unused variable `ug'
o8comm.h:54: warning: unused variable `og'
o8comm.h:56: warning: unused variable `low'
o8comm.h:56: warning: unused variable `up'
o8comm.h:56: warning: unused variable `big'
o8comm.h:58: warning: unused variable `nreset'
o8comm.h:60: warning: unused variable `xst'
o8cons.h:4: warning: unused variable `zero'
o8cons.h:4: warning: unused variable `one'
o8cons.h:4: warning: unused variable `two'
o8cons.h:4: warning: unused variable `three'
o8cons.h:4: warning: unused variable `four'
o8cons.h:5: warning: unused variable `five'
o8cons.h:5: warning: unused variable `six'
o8cons.h:5: warning: unused variable `seven'
o8cons.h:6: warning: unused variable `twom2'
o8cons.h:6: warning: unused variable `twop4'
o8cons.h:6: warning: unused variable `twop11'
o8cons.h:6: warning: unused variable `onep3'
o8cons.h:7: warning: unused variable `onep5'
o8cons.h:7: warning: unused variable `p2'
o8cons.h:7: warning: unused variable `p4'
o8cons.h:7: warning: unused variable `p5'
o8cons.h:7: warning: unused variable `p7'
o8cons.h:7: warning: unused variable `p8'
o8cons.h:7: warning: unused variable `p9'
o8cons.h:8: warning: unused variable `c45'
o8cons.h:8: warning: unused variable `tm12'
o8cons.h:9: warning: unused variable `tm10'
o8cons.h:9: warning: unused variable `tm9'
o8cons.h:9: warning: unused variable `tm8'
o8cons.h:9: warning: unused variable `tm7'
o8cons.h:9: warning: unused variable `tm6'
o8cons.h:9: warning: unused variable `tm5'
o8cons.h:10: warning: unused variable `tm4'
o8cons.h:10: warning: unused variable `tm3'
o8cons.h:10: warning: unused variable `tm2'
o8cons.h:10: warning: unused variable `tm1'
o8cons.h:10: warning: unused variable `tp1'
o8cons.h:10: warning: unused variable `tp2'
o8cons.h:11: warning: unused variable `tp3'
o8cons.h:11: warning: unused variable `tp4'
multimgmos.c: In function `user_init_size':
o8fuco.h:5: warning: unused variable `val'
o8fuco.h:5: warning: unused variable `llow'
o8fuco.h:5: warning: unused variable `lup'
o8fuco.h:7: warning: unused variable `nr'
o8fuco.h:7: warning: unused variable `nres'
o8fuco.h:7: warning: unused variable `ndualm'
o8fuco.h:7: warning: unused variable `mdualm'
o8fuco.h:9: warning: unused variable `epsmac'
o8fuco.h:9: warning: unused variable `tolmac'
o8fuco.h:9: warning: unused variable `deldif'
o8fuco.h:11: warning: unused variable `name'
o8fuco.h:13: warning: unused variable `epsdif'
o8fuco.h:15: warning: unused variable `intakt'
o8fuco.h:15: warning: unused variable `te0'
o8fuco.h:15: warning: unused variable `te1'
o8fuco.h:15: warning: unused variable `te2'
o8fuco.h:15: warning: unused variable `te3'
o8fuco.h:15: warning: unused variable `singul'
o8fuco.h:16: warning: unused variable `ident'
o8fuco.h:16: warning: unused variable `eqres'
o8fuco.h:16: warning: unused variable `silent'
o8fuco.h:16: warning: unused variable `analyt'
o8fuco.h:16: warning: unused variable `cold'
o8fuco.h:18: warning: unused variable `icf'
o8fuco.h:18: warning: unused variable `icgf'
o8fuco.h:18: warning: unused variable `cfincr'
o8fuco.h:18: warning: unused variable `cres'
o8fuco.h:18: warning: unused variable `cgres'
o8fuco.h:20: warning: unused variable `ffuerr'
o8fuco.h:20: warning: unused variable `confuerr'
o8fuco.h:25: warning: unused variable `nh'
o8fuco.h:25: warning: unused variable `ng'
o8fuco.h:27: warning: unused variable `nonlinlist'
o8fuco.h:29: warning: unused variable `gunit'
o8fuco.h:31: warning: unused variable `gconst'
o8fuco.h:33: warning: unused variable `cfuerr'
o8comm.h:7: warning: unused variable `runtim'
o8comm.h:8: warning: unused variable `optite'
o8comm.h:9: warning: unused variable `accinf'
o8comm.h:10: warning: unused variable `itstep'
o8comm.h:10: warning: unused variable `phase'
o8comm.h:12: warning: unused variable `upsi'
o8comm.h:12: warning: unused variable `upsi0'
o8comm.h:12: warning: unused variable `upsi1'
o8comm.h:12: warning: unused variable `upsist'
o8comm.h:12: warning: unused variable `psi'
o8comm.h:12: warning: unused variable `psi0'
o8comm.h:13: warning: unused variable `psi1'
o8comm.h:13: warning: unused variable `psist'
o8comm.h:13: warning: unused variable `psimin'
o8comm.h:14: warning: unused variable `phi'
o8comm.h:14: warning: unused variable `phi0'
o8comm.h:14: warning: unused variable `phi1'
o8comm.h:14: warning: unused variable `phimin'
o8comm.h:14: warning: unused variable `fx0'
o8comm.h:14: warning: unused variable `fx1'
o8comm.h:15: warning: unused variable `fxst'
o8comm.h:15: warning: unused variable `donlp2_fmin'
o8comm.h:15: warning: unused variable `b2n'
o8comm.h:15: warning: unused variable `b2n0'
o8comm.h:15: warning: unused variable `xnorm'
o8comm.h:15: warning: unused variable `x0norm'
o8comm.h:15: warning: unused variable `sig0'
o8comm.h:15: warning: unused variable `dscal'
o8comm.h:15: warning: unused variable `ddnorm'
o8comm.h:15: warning: unused variable `d0norm'
o8comm.h:16: warning: unused variable `sig'
o8comm.h:16: warning: unused variable `sigmin'
o8comm.h:16: warning: unused variable `dirder'
o8comm.h:16: warning: unused variable `cosphi'
o8comm.h:16: warning: unused variable `upsim'
o8comm.h:17: warning: unused variable `donlp2_x'
o8comm.h:17: warning: unused variable `x0'
o8comm.h:17: warning: unused variable `x1'
o8comm.h:17: warning: unused variable `xmin'
o8comm.h:17: warning: unused variable `d'
o8comm.h:17: warning: unused variable `d0'
o8comm.h:18: warning: unused variable `dd'
o8comm.h:18: warning: unused variable `difx'
o8comm.h:18: warning: unused variable `resmin'
o8comm.h:20: warning: unused variable `gradf'
o8comm.h:20: warning: unused variable `gfn'
o8comm.h:20: warning: unused variable `qgf'
o8comm.h:20: warning: unused variable `gphi0'
o8comm.h:20: warning: unused variable `gphi1'
o8comm.h:21: warning: unused variable `gres'
o8comm.h:21: warning: unused variable `gresn'
o8comm.h:23: warning: unused variable `perm'
o8comm.h:23: warning: unused variable `perm1'
o8comm.h:23: warning: unused variable `colno'
o8comm.h:23: warning: unused variable `rank'
o8comm.h:24: warning: unused variable `qr'
o8comm.h:24: warning: unused variable `betaq'
o8comm.h:24: warning: unused variable `diag'
o8comm.h:25: warning: unused variable `cscal'
o8comm.h:26: warning: unused variable `colle'
o8comm.h:30: warning: unused variable `a'
o8comm.h:30: warning: unused variable `scalm'
o8comm.h:30: warning: unused variable `scalm2'
o8comm.h:30: warning: unused variable `diag0'
o8comm.h:30: warning: unused variable `matsc'
o8comm.h:32: warning: unused variable `violis'
o8comm.h:32: warning: unused variable `alist'
o8comm.h:32: warning: unused variable `o8bind'
o8comm.h:33: warning: unused variable `o8bind0'
o8comm.h:33: warning: unused variable `aalist'
o8comm.h:33: warning: unused variable `clist'
o8comm.h:35: warning: unused variable `u'
o8comm.h:35: warning: unused variable `u0'
o8comm.h:36: warning: unused variable `w'
o8comm.h:36: warning: unused variable `w1'
o8comm.h:36: warning: unused variable `res'
o8comm.h:37: warning: unused variable `res0'
o8comm.h:37: warning: unused variable `res1'
o8comm.h:38: warning: unused variable `resst'
o8comm.h:38: warning: unused variable `scf'
o8comm.h:38: warning: unused variable `scf0'
o8comm.h:39: warning: unused variable `yu'
o8comm.h:39: warning: unused variable `slack'
o8comm.h:39: warning: unused variable `infeas'
o8comm.h:39: warning: unused variable `work'
o8comm.h:42: warning: unused variable `del'
o8comm.h:42: warning: unused variable `del0'
o8comm.h:42: warning: unused variable `del01'
o8comm.h:42: warning: unused variable `delmin'
o8comm.h:42: warning: unused variable `tau0'
o8comm.h:42: warning: unused variable `tau'
o8comm.h:42: warning: unused variable `ny'
o8comm.h:43: warning: unused variable `smalld'
o8comm.h:43: warning: unused variable `smallw'
o8comm.h:43: warning: unused variable `rho'
o8comm.h:43: warning: unused variable `rho1'
o8comm.h:43: warning: unused variable `eta'
o8comm.h:43: warning: unused variable `epsx'
o8comm.h:43: warning: unused variable `c1d'
o8comm.h:44: warning: unused variable `scfmax'
o8comm.h:44: warning: unused variable `updmy0'
o8comm.h:44: warning: unused variable `tauqp'
o8comm.h:44: warning: unused variable `taufac'
o8comm.h:44: warning: unused variable `taumax'
o8comm.h:46: warning: unused variable `alpha'
o8comm.h:46: warning: unused variable `bbeta'
o8comm.h:46: warning: unused variable `theta'
o8comm.h:46: warning: unused variable `sigsm'
o8comm.h:46: warning: unused variable `sigla'
o8comm.h:46: warning: unused variable `delta'
o8comm.h:46: warning: unused variable `stptrm'
o8comm.h:47: warning: unused variable `delta1'
o8comm.h:47: warning: unused variable `stmaxl'
o8comm.h:49: warning: unused variable `level'
o8comm.h:50: warning: unused variable `clow'
o8comm.h:50: warning: unused variable `lastdw'
o8comm.h:50: warning: unused variable `lastup'
o8comm.h:50: warning: unused variable `lastch'
o8comm.h:52: warning: unused variable `prou'
o8comm.h:52: warning: unused variable `meu'
o8comm.h:54: warning: unused variable `ug'
o8comm.h:54: warning: unused variable `og'
o8comm.h:56: warning: unused variable `low'
o8comm.h:56: warning: unused variable `up'
o8comm.h:56: warning: unused variable `big'
o8comm.h:58: warning: unused variable `nreset'
o8comm.h:60: warning: unused variable `xst'
o8fint.h:23: warning: unused variable `bloc'
o8fint.h:23: warning: unused variable `valid'
o8fint.h:23: warning: unused variable `corr'
o8fint.h:24: warning: unused variable `difftype'
o8fint.h:25: warning: unused variable `xtr'
o8fint.h:25: warning: unused variable `xsc'
o8fint.h:25: warning: unused variable `fu'
o8fint.h:25: warning: unused variable `fugrad'
o8fint.h:26: warning: unused variable `fud'
o8fint.h:26: warning: unused variable `epsfcn'
o8fint.h:26: warning: unused variable `taubnd'
o8cons.h:4: warning: unused variable `zero'
o8cons.h:4: warning: unused variable `one'
o8cons.h:4: warning: unused variable `two'
o8cons.h:4: warning: unused variable `three'
o8cons.h:4: warning: unused variable `four'
o8cons.h:5: warning: unused variable `five'
o8cons.h:5: warning: unused variable `six'
o8cons.h:5: warning: unused variable `seven'
o8cons.h:6: warning: unused variable `twom2'
o8cons.h:6: warning: unused variable `twop4'
o8cons.h:6: warning: unused variable `twop11'
o8cons.h:6: warning: unused variable `onep3'
o8cons.h:7: warning: unused variable `onep5'
o8cons.h:7: warning: unused variable `p2'
o8cons.h:7: warning: unused variable `p4'
o8cons.h:7: warning: unused variable `p5'
o8cons.h:7: warning: unused variable `p7'
o8cons.h:7: warning: unused variable `p8'
o8cons.h:7: warning: unused variable `p9'
o8cons.h:8: warning: unused variable `c45'
o8cons.h:8: warning: unused variable `tm12'
o8cons.h:9: warning: unused variable `tm10'
o8cons.h:9: warning: unused variable `tm9'
o8cons.h:9: warning: unused variable `tm8'
o8cons.h:9: warning: unused variable `tm7'
o8cons.h:9: warning: unused variable `tm6'
o8cons.h:9: warning: unused variable `tm5'
o8cons.h:10: warning: unused variable `tm4'
o8cons.h:10: warning: unused variable `tm3'
o8cons.h:10: warning: unused variable `tm2'
o8cons.h:10: warning: unused variable `tm1'
o8cons.h:10: warning: unused variable `tp1'
o8cons.h:10: warning: unused variable `tp2'
o8cons.h:11: warning: unused variable `tp3'
o8cons.h:11: warning: unused variable `tp4'
multimgmos.c: In function `user_init':
o8fuco.h:5: warning: unused variable `val'
o8fuco.h:5: warning: unused variable `llow'
o8fuco.h:5: warning: unused variable `lup'
o8fuco.h:7: warning: unused variable `nr'
o8fuco.h:7: warning: unused variable `nres'
o8fuco.h:7: warning: unused variable `ndualm'
o8fuco.h:7: warning: unused variable `mdualm'
o8fuco.h:9: warning: unused variable `epsmac'
o8fuco.h:9: warning: unused variable `tolmac'
o8fuco.h:9: warning: unused variable `deldif'
o8fuco.h:11: warning: unused variable `name'
o8fuco.h:15: warning: unused variable `intakt'
o8fuco.h:15: warning: unused variable `te0'
o8fuco.h:15: warning: unused variable `te1'
o8fuco.h:15: warning: unused variable `te2'
o8fuco.h:15: warning: unused variable `te3'
o8fuco.h:15: warning: unused variable `singul'
o8fuco.h:16: warning: unused variable `ident'
o8fuco.h:16: warning: unused variable `eqres'
o8fuco.h:16: warning: unused variable `cold'
o8fuco.h:18: warning: unused variable `icf'
o8fuco.h:18: warning: unused variable `icgf'
o8fuco.h:18: warning: unused variable `cfincr'
o8fuco.h:18: warning: unused variable `cres'
o8fuco.h:18: warning: unused variable `cgres'
o8fuco.h:20: warning: unused variable `ffuerr'
o8fuco.h:20: warning: unused variable `confuerr'
o8fuco.h:25: warning: unused variable `nh'
o8fuco.h:25: warning: unused variable `ng'
o8fuco.h:27: warning: unused variable `nonlinlist'
o8fuco.h:29: warning: unused variable `gunit'
o8fuco.h:31: warning: unused variable `gconst'
o8fuco.h:33: warning: unused variable `cfuerr'
o8comm.h:7: warning: unused variable `runtim'
o8comm.h:8: warning: unused variable `optite'
o8comm.h:9: warning: unused variable `accinf'
o8comm.h:10: warning: unused variable `itstep'
o8comm.h:10: warning: unused variable `phase'
o8comm.h:12: warning: unused variable `upsi'
o8comm.h:12: warning: unused variable `upsi0'
o8comm.h:12: warning: unused variable `upsi1'
o8comm.h:12: warning: unused variable `upsist'
o8comm.h:12: warning: unused variable `psi'
o8comm.h:12: warning: unused variable `psi0'
o8comm.h:13: warning: unused variable `psi1'
o8comm.h:13: warning: unused variable `psist'
o8comm.h:13: warning: unused variable `psimin'
o8comm.h:14: warning: unused variable `phi'
o8comm.h:14: warning: unused variable `phi0'
o8comm.h:14: warning: unused variable `phi1'
o8comm.h:14: warning: unused variable `phimin'
o8comm.h:14: warning: unused variable `fx0'
o8comm.h:14: warning: unused variable `fx1'
o8comm.h:15: warning: unused variable `fxst'
o8comm.h:15: warning: unused variable `donlp2_fmin'
o8comm.h:15: warning: unused variable `b2n'
o8comm.h:15: warning: unused variable `b2n0'
o8comm.h:15: warning: unused variable `xnorm'
o8comm.h:15: warning: unused variable `x0norm'
o8comm.h:15: warning: unused variable `sig0'
o8comm.h:15: warning: unused variable `dscal'
o8comm.h:15: warning: unused variable `ddnorm'
o8comm.h:15: warning: unused variable `d0norm'
o8comm.h:16: warning: unused variable `sig'
o8comm.h:16: warning: unused variable `sigmin'
o8comm.h:16: warning: unused variable `dirder'
o8comm.h:16: warning: unused variable `cosphi'
o8comm.h:16: warning: unused variable `upsim'
o8comm.h:17: warning: unused variable `x0'
o8comm.h:17: warning: unused variable `x1'
o8comm.h:17: warning: unused variable `xmin'
o8comm.h:17: warning: unused variable `d'
o8comm.h:17: warning: unused variable `d0'
o8comm.h:18: warning: unused variable `dd'
o8comm.h:18: warning: unused variable `difx'
o8comm.h:18: warning: unused variable `resmin'
o8comm.h:20: warning: unused variable `gradf'
o8comm.h:20: warning: unused variable `gfn'
o8comm.h:20: warning: unused variable `qgf'
o8comm.h:20: warning: unused variable `gphi0'
o8comm.h:20: warning: unused variable `gphi1'
o8comm.h:21: warning: unused variable `gres'
o8comm.h:21: warning: unused variable `gresn'
o8comm.h:23: warning: unused variable `perm'
o8comm.h:23: warning: unused variable `perm1'
o8comm.h:23: warning: unused variable `colno'
o8comm.h:23: warning: unused variable `rank'
o8comm.h:24: warning: unused variable `qr'
o8comm.h:24: warning: unused variable `betaq'
o8comm.h:24: warning: unused variable `diag'
o8comm.h:25: warning: unused variable `cscal'
o8comm.h:26: warning: unused variable `colle'
o8comm.h:30: warning: unused variable `a'
o8comm.h:30: warning: unused variable `scalm'
o8comm.h:30: warning: unused variable `scalm2'
o8comm.h:30: warning: unused variable `diag0'
o8comm.h:30: warning: unused variable `matsc'
o8comm.h:32: warning: unused variable `violis'
o8comm.h:32: warning: unused variable `alist'
o8comm.h:32: warning: unused variable `o8bind'
o8comm.h:33: warning: unused variable `o8bind0'
o8comm.h:33: warning: unused variable `aalist'
o8comm.h:33: warning: unused variable `clist'
o8comm.h:35: warning: unused variable `u'
o8comm.h:35: warning: unused variable `u0'
o8comm.h:36: warning: unused variable `w'
o8comm.h:36: warning: unused variable `w1'
o8comm.h:36: warning: unused variable `res'
o8comm.h:37: warning: unused variable `res0'
o8comm.h:37: warning: unused variable `res1'
o8comm.h:38: warning: unused variable `resst'
o8comm.h:38: warning: unused variable `scf'
o8comm.h:38: warning: unused variable `scf0'
o8comm.h:39: warning: unused variable `yu'
o8comm.h:39: warning: unused variable `slack'
o8comm.h:39: warning: unused variable `infeas'
o8comm.h:39: warning: unused variable `work'
o8comm.h:42: warning: unused variable `del'
o8comm.h:42: warning: unused variable `del01'
o8comm.h:42: warning: unused variable `delmin'
o8comm.h:42: warning: unused variable `ny'
o8comm.h:43: warning: unused variable `smalld'
o8comm.h:43: warning: unused variable `smallw'
o8comm.h:43: warning: unused variable `rho'
o8comm.h:43: warning: unused variable `rho1'
o8comm.h:43: warning: unused variable `eta'
o8comm.h:43: warning: unused variable `epsx'
o8comm.h:43: warning: unused variable `c1d'
o8comm.h:44: warning: unused variable `scfmax'
o8comm.h:44: warning: unused variable `updmy0'
o8comm.h:44: warning: unused variable `tauqp'
o8comm.h:44: warning: unused variable `taufac'
o8comm.h:44: warning: unused variable `taumax'
o8comm.h:46: warning: unused variable `alpha'
o8comm.h:46: warning: unused variable `bbeta'
o8comm.h:46: warning: unused variable `theta'
o8comm.h:46: warning: unused variable `sigsm'
o8comm.h:46: warning: unused variable `sigla'
o8comm.h:46: warning: unused variable `delta'
o8comm.h:46: warning: unused variable `stptrm'
o8comm.h:47: warning: unused variable `delta1'
o8comm.h:47: warning: unused variable `stmaxl'
o8comm.h:49: warning: unused variable `level'
o8comm.h:50: warning: unused variable `clow'
o8comm.h:50: warning: unused variable `lastdw'
o8comm.h:50: warning: unused variable `lastup'
o8comm.h:50: warning: unused variable `lastch'
o8comm.h:52: warning: unused variable `prou'
o8comm.h:52: warning: unused variable `meu'
o8comm.h:54: warning: unused variable `ug'
o8comm.h:54: warning: unused variable `og'
o8comm.h:60: warning: unused variable `xst'
o8fint.h:23: warning: unused variable `bloc'
o8fint.h:23: warning: unused variable `valid'
o8fint.h:23: warning: unused variable `corr'
o8fint.h:24: warning: unused variable `difftype'
o8fint.h:25: warning: unused variable `xtr'
o8fint.h:25: warning: unused variable `xsc'
o8fint.h:25: warning: unused variable `fu'
o8fint.h:25: warning: unused variable `fugrad'
o8fint.h:26: warning: unused variable `fud'
o8fint.h:26: warning: unused variable `epsfcn'
o8fint.h:26: warning: unused variable `taubnd'
o8cons.h:4: warning: unused variable `zero'
o8cons.h:4: warning: unused variable `one'
o8cons.h:4: warning: unused variable `two'
o8cons.h:4: warning: unused variable `three'
o8cons.h:4: warning: unused variable `four'
o8cons.h:5: warning: unused variable `five'
o8cons.h:5: warning: unused variable `six'
o8cons.h:5: warning: unused variable `seven'
o8cons.h:6: warning: unused variable `twom2'
o8cons.h:6: warning: unused variable `twop4'
o8cons.h:6: warning: unused variable `twop11'
o8cons.h:6: warning: unused variable `onep3'
o8cons.h:7: warning: unused variable `onep5'
o8cons.h:7: warning: unused variable `p2'
o8cons.h:7: warning: unused variable `p4'
o8cons.h:7: warning: unused variable `p5'
o8cons.h:7: warning: unused variable `p7'
o8cons.h:7: warning: unused variable `p8'
o8cons.h:7: warning: unused variable `p9'
o8cons.h:8: warning: unused variable `c45'
o8cons.h:8: warning: unused variable `tm12'
o8cons.h:9: warning: unused variable `tm10'
o8cons.h:9: warning: unused variable `tm9'
o8cons.h:9: warning: unused variable `tm8'
o8cons.h:9: warning: unused variable `tm7'
o8cons.h:9: warning: unused variable `tm6'
o8cons.h:9: warning: unused variable `tm5'
o8cons.h:10: warning: unused variable `tm4'
o8cons.h:10: warning: unused variable `tm3'
o8cons.h:10: warning: unused variable `tm2'
o8cons.h:10: warning: unused variable `tm1'
o8cons.h:10: warning: unused variable `tp1'
o8cons.h:10: warning: unused variable `tp2'
o8cons.h:11: warning: unused variable `tp3'
o8cons.h:11: warning: unused variable `tp4'
multimgmos.c:586: warning: unused variable `j'
multimgmos.c: In function `setup':
o8fuco.h:5: warning: unused variable `val'
o8fuco.h:5: warning: unused variable `llow'
o8fuco.h:5: warning: unused variable `lup'
o8fuco.h:7: warning: unused variable `nr'
o8fuco.h:7: warning: unused variable `nres'
o8fuco.h:7: warning: unused variable `ndualm'
o8fuco.h:7: warning: unused variable `mdualm'
o8fuco.h:9: warning: unused variable `epsmac'
o8fuco.h:9: warning: unused variable `tolmac'
o8fuco.h:9: warning: unused variable `deldif'
o8fuco.h:11: warning: unused variable `name'
o8fuco.h:15: warning: unused variable `intakt'
o8fuco.h:15: warning: unused variable `te0'
o8fuco.h:15: warning: unused variable `te1'
o8fuco.h:15: warning: unused variable `te2'
o8fuco.h:15: warning: unused variable `te3'
o8fuco.h:15: warning: unused variable `singul'
o8fuco.h:16: warning: unused variable `ident'
o8fuco.h:16: warning: unused variable `eqres'
o8fuco.h:16: warning: unused variable `cold'
o8fuco.h:18: warning: unused variable `icf'
o8fuco.h:18: warning: unused variable `icgf'
o8fuco.h:18: warning: unused variable `cfincr'
o8fuco.h:18: warning: unused variable `cres'
o8fuco.h:18: warning: unused variable `cgres'
o8fuco.h:20: warning: unused variable `ffuerr'
o8fuco.h:20: warning: unused variable `confuerr'
o8fuco.h:25: warning: unused variable `nh'
o8fuco.h:25: warning: unused variable `ng'
o8fuco.h:27: warning: unused variable `nonlinlist'
o8fuco.h:29: warning: unused variable `gunit'
o8fuco.h:31: warning: unused variable `gconst'
o8fuco.h:33: warning: unused variable `cfuerr'
o8comm.h:7: warning: unused variable `runtim'
o8comm.h:8: warning: unused variable `optite'
o8comm.h:9: warning: unused variable `accinf'
o8comm.h:10: warning: unused variable `itstep'
o8comm.h:10: warning: unused variable `phase'
o8comm.h:12: warning: unused variable `upsi'
o8comm.h:12: warning: unused variable `upsi0'
o8comm.h:12: warning: unused variable `upsi1'
o8comm.h:12: warning: unused variable `upsist'
o8comm.h:12: warning: unused variable `psi'
o8comm.h:12: warning: unused variable `psi0'
o8comm.h:13: warning: unused variable `psi1'
o8comm.h:13: warning: unused variable `psist'
o8comm.h:13: warning: unused variable `psimin'
o8comm.h:14: warning: unused variable `phi'
o8comm.h:14: warning: unused variable `phi0'
o8comm.h:14: warning: unused variable `phi1'
o8comm.h:14: warning: unused variable `phimin'
o8comm.h:14: warning: unused variable `fx0'
o8comm.h:14: warning: unused variable `fx1'
o8comm.h:15: warning: unused variable `fxst'
o8comm.h:15: warning: unused variable `donlp2_fmin'
o8comm.h:15: warning: unused variable `b2n'
o8comm.h:15: warning: unused variable `b2n0'
o8comm.h:15: warning: unused variable `xnorm'
o8comm.h:15: warning: unused variable `x0norm'
o8comm.h:15: warning: unused variable `sig0'
o8comm.h:15: warning: unused variable `dscal'
o8comm.h:15: warning: unused variable `ddnorm'
o8comm.h:15: warning: unused variable `d0norm'
o8comm.h:16: warning: unused variable `sig'
o8comm.h:16: warning: unused variable `sigmin'
o8comm.h:16: warning: unused variable `dirder'
o8comm.h:16: warning: unused variable `cosphi'
o8comm.h:16: warning: unused variable `upsim'
o8comm.h:17: warning: unused variable `x0'
o8comm.h:17: warning: unused variable `x1'
o8comm.h:17: warning: unused variable `xmin'
o8comm.h:17: warning: unused variable `d'
o8comm.h:17: warning: unused variable `d0'
o8comm.h:18: warning: unused variable `dd'
o8comm.h:18: warning: unused variable `difx'
o8comm.h:18: warning: unused variable `resmin'
o8comm.h:20: warning: unused variable `gradf'
o8comm.h:20: warning: unused variable `gfn'
o8comm.h:20: warning: unused variable `qgf'
o8comm.h:20: warning: unused variable `gphi0'
o8comm.h:20: warning: unused variable `gphi1'
o8comm.h:21: warning: unused variable `gres'
o8comm.h:21: warning: unused variable `gresn'
o8comm.h:23: warning: unused variable `perm'
o8comm.h:23: warning: unused variable `perm1'
o8comm.h:23: warning: unused variable `colno'
o8comm.h:23: warning: unused variable `rank'
o8comm.h:24: warning: unused variable `qr'
o8comm.h:24: warning: unused variable `betaq'
o8comm.h:24: warning: unused variable `diag'
o8comm.h:25: warning: unused variable `cscal'
o8comm.h:26: warning: unused variable `colle'
o8comm.h:30: warning: unused variable `a'
o8comm.h:30: warning: unused variable `scalm'
o8comm.h:30: warning: unused variable `scalm2'
o8comm.h:30: warning: unused variable `diag0'
o8comm.h:30: warning: unused variable `matsc'
o8comm.h:32: warning: unused variable `violis'
o8comm.h:32: warning: unused variable `alist'
o8comm.h:32: warning: unused variable `o8bind'
o8comm.h:33: warning: unused variable `o8bind0'
o8comm.h:33: warning: unused variable `aalist'
o8comm.h:33: warning: unused variable `clist'
o8comm.h:35: warning: unused variable `u'
o8comm.h:35: warning: unused variable `u0'
o8comm.h:36: warning: unused variable `w'
o8comm.h:36: warning: unused variable `w1'
o8comm.h:36: warning: unused variable `res'
o8comm.h:37: warning: unused variable `res0'
o8comm.h:37: warning: unused variable `res1'
o8comm.h:38: warning: unused variable `resst'
o8comm.h:38: warning: unused variable `scf'
o8comm.h:38: warning: unused variable `scf0'
o8comm.h:39: warning: unused variable `yu'
o8comm.h:39: warning: unused variable `slack'
o8comm.h:39: warning: unused variable `infeas'
o8comm.h:39: warning: unused variable `work'
o8comm.h:42: warning: unused variable `del'
o8comm.h:42: warning: unused variable `del01'
o8comm.h:42: warning: unused variable `delmin'
o8comm.h:42: warning: unused variable `ny'
o8comm.h:43: warning: unused variable `smalld'
o8comm.h:43: warning: unused variable `smallw'
o8comm.h:43: warning: unused variable `rho'
o8comm.h:43: warning: unused variable `rho1'
o8comm.h:43: warning: unused variable `eta'
o8comm.h:43: warning: unused variable `epsx'
o8comm.h:43: warning: unused variable `c1d'
o8comm.h:44: warning: unused variable `scfmax'
o8comm.h:44: warning: unused variable `updmy0'
o8comm.h:44: warning: unused variable `tauqp'
o8comm.h:44: warning: unused variable `taufac'
o8comm.h:44: warning: unused variable `taumax'
o8comm.h:46: warning: unused variable `alpha'
o8comm.h:46: warning: unused variable `bbeta'
o8comm.h:46: warning: unused variable `theta'
o8comm.h:46: warning: unused variable `sigsm'
o8comm.h:46: warning: unused variable `sigla'
o8comm.h:46: warning: unused variable `delta'
o8comm.h:46: warning: unused variable `stptrm'
o8comm.h:47: warning: unused variable `delta1'
o8comm.h:47: warning: unused variable `stmaxl'
o8comm.h:49: warning: unused variable `level'
o8comm.h:50: warning: unused variable `clow'
o8comm.h:50: warning: unused variable `lastdw'
o8comm.h:50: warning: unused variable `lastup'
o8comm.h:50: warning: unused variable `lastch'
o8comm.h:52: warning: unused variable `prou'
o8comm.h:52: warning: unused variable `meu'
o8comm.h:54: warning: unused variable `ug'
o8comm.h:54: warning: unused variable `og'
o8comm.h:60: warning: unused variable `xst'
multimgmos.c: In function `solchk':
o8fuco.h:5: warning: unused variable `val'
o8fuco.h:5: warning: unused variable `llow'
o8fuco.h:5: warning: unused variable `lup'
o8fuco.h:7: warning: unused variable `nr'
o8fuco.h:7: warning: unused variable `nres'
o8fuco.h:7: warning: unused variable `ndualm'
o8fuco.h:7: warning: unused variable `mdualm'
o8fuco.h:9: warning: unused variable `epsmac'
o8fuco.h:9: warning: unused variable `tolmac'
o8fuco.h:9: warning: unused variable `deldif'
o8fuco.h:11: warning: unused variable `name'
o8fuco.h:15: warning: unused variable `intakt'
o8fuco.h:15: warning: unused variable `te0'
o8fuco.h:15: warning: unused variable `te1'
o8fuco.h:15: warning: unused variable `te2'
o8fuco.h:15: warning: unused variable `te3'
o8fuco.h:15: warning: unused variable `singul'
o8fuco.h:16: warning: unused variable `ident'
o8fuco.h:16: warning: unused variable `eqres'
o8fuco.h:16: warning: unused variable `cold'
o8fuco.h:18: warning: unused variable `icf'
o8fuco.h:18: warning: unused variable `icgf'
o8fuco.h:18: warning: unused variable `cfincr'
o8fuco.h:18: warning: unused variable `cres'
o8fuco.h:18: warning: unused variable `cgres'
o8fuco.h:20: warning: unused variable `ffuerr'
o8fuco.h:20: warning: unused variable `confuerr'
o8fuco.h:25: warning: unused variable `nh'
o8fuco.h:25: warning: unused variable `ng'
o8fuco.h:27: warning: unused variable `nonlinlist'
o8fuco.h:29: warning: unused variable `gunit'
o8fuco.h:31: warning: unused variable `gconst'
o8fuco.h:33: warning: unused variable `cfuerr'
o8comm.h:7: warning: unused variable `runtim'
o8comm.h:8: warning: unused variable `optite'
o8comm.h:9: warning: unused variable `accinf'
o8comm.h:10: warning: unused variable `itstep'
o8comm.h:10: warning: unused variable `phase'
o8comm.h:12: warning: unused variable `upsi'
o8comm.h:12: warning: unused variable `upsi0'
o8comm.h:12: warning: unused variable `upsi1'
o8comm.h:12: warning: unused variable `upsist'
o8comm.h:12: warning: unused variable `psi'
o8comm.h:12: warning: unused variable `psi0'
o8comm.h:13: warning: unused variable `psi1'
o8comm.h:13: warning: unused variable `psist'
o8comm.h:13: warning: unused variable `psimin'
o8comm.h:14: warning: unused variable `phi'
o8comm.h:14: warning: unused variable `phi0'
o8comm.h:14: warning: unused variable `phi1'
o8comm.h:14: warning: unused variable `phimin'
o8comm.h:14: warning: unused variable `fx0'
o8comm.h:14: warning: unused variable `fx1'
o8comm.h:15: warning: unused variable `fxst'
o8comm.h:15: warning: unused variable `donlp2_fmin'
o8comm.h:15: warning: unused variable `b2n'
o8comm.h:15: warning: unused variable `b2n0'
o8comm.h:15: warning: unused variable `xnorm'
o8comm.h:15: warning: unused variable `x0norm'
o8comm.h:15: warning: unused variable `sig0'
o8comm.h:15: warning: unused variable `dscal'
o8comm.h:15: warning: unused variable `ddnorm'
o8comm.h:15: warning: unused variable `d0norm'
o8comm.h:16: warning: unused variable `sig'
o8comm.h:16: warning: unused variable `sigmin'
o8comm.h:16: warning: unused variable `dirder'
o8comm.h:16: warning: unused variable `cosphi'
o8comm.h:16: warning: unused variable `upsim'
o8comm.h:17: warning: unused variable `x0'
o8comm.h:17: warning: unused variable `x1'
o8comm.h:17: warning: unused variable `xmin'
o8comm.h:17: warning: unused variable `d'
o8comm.h:17: warning: unused variable `d0'
o8comm.h:18: warning: unused variable `dd'
o8comm.h:18: warning: unused variable `difx'
o8comm.h:18: warning: unused variable `resmin'
o8comm.h:20: warning: unused variable `gradf'
o8comm.h:20: warning: unused variable `gfn'
o8comm.h:20: warning: unused variable `qgf'
o8comm.h:20: warning: unused variable `gphi0'
o8comm.h:20: warning: unused variable `gphi1'
o8comm.h:21: warning: unused variable `gres'
o8comm.h:21: warning: unused variable `gresn'
o8comm.h:23: warning: unused variable `perm'
o8comm.h:23: warning: unused variable `perm1'
o8comm.h:23: warning: unused variable `colno'
o8comm.h:23: warning: unused variable `rank'
o8comm.h:24: warning: unused variable `qr'
o8comm.h:24: warning: unused variable `betaq'
o8comm.h:24: warning: unused variable `diag'
o8comm.h:25: warning: unused variable `cscal'
o8comm.h:26: warning: unused variable `colle'
o8comm.h:30: warning: unused variable `a'
o8comm.h:30: warning: unused variable `scalm'
o8comm.h:30: warning: unused variable `scalm2'
o8comm.h:30: warning: unused variable `diag0'
o8comm.h:30: warning: unused variable `matsc'
o8comm.h:32: warning: unused variable `violis'
o8comm.h:32: warning: unused variable `alist'
o8comm.h:32: warning: unused variable `o8bind'
o8comm.h:33: warning: unused variable `o8bind0'
o8comm.h:33: warning: unused variable `aalist'
o8comm.h:33: warning: unused variable `clist'
o8comm.h:35: warning: unused variable `u'
o8comm.h:35: warning: unused variable `u0'
o8comm.h:36: warning: unused variable `w'
o8comm.h:36: warning: unused variable `w1'
o8comm.h:36: warning: unused variable `res'
o8comm.h:37: warning: unused variable `res0'
o8comm.h:37: warning: unused variable `res1'
o8comm.h:38: warning: unused variable `resst'
o8comm.h:38: warning: unused variable `scf'
o8comm.h:38: warning: unused variable `scf0'
o8comm.h:39: warning: unused variable `yu'
o8comm.h:39: warning: unused variable `slack'
o8comm.h:39: warning: unused variable `infeas'
o8comm.h:39: warning: unused variable `work'
o8comm.h:42: warning: unused variable `del'
o8comm.h:42: warning: unused variable `del01'
o8comm.h:42: warning: unused variable `delmin'
o8comm.h:42: warning: unused variable `ny'
o8comm.h:43: warning: unused variable `smalld'
o8comm.h:43: warning: unused variable `smallw'
o8comm.h:43: warning: unused variable `rho'
o8comm.h:43: warning: unused variable `rho1'
o8comm.h:43: warning: unused variable `eta'
o8comm.h:43: warning: unused variable `epsx'
o8comm.h:43: warning: unused variable `c1d'
o8comm.h:44: warning: unused variable `scfmax'
o8comm.h:44: warning: unused variable `updmy0'
o8comm.h:44: warning: unused variable `tauqp'
o8comm.h:44: warning: unused variable `taufac'
o8comm.h:44: warning: unused variable `taumax'
o8comm.h:46: warning: unused variable `alpha'
o8comm.h:46: warning: unused variable `bbeta'
o8comm.h:46: warning: unused variable `theta'
o8comm.h:46: warning: unused variable `sigsm'
o8comm.h:46: warning: unused variable `sigla'
o8comm.h:46: warning: unused variable `delta'
o8comm.h:46: warning: unused variable `stptrm'
o8comm.h:47: warning: unused variable `delta1'
o8comm.h:47: warning: unused variable `stmaxl'
o8comm.h:49: warning: unused variable `level'
o8comm.h:50: warning: unused variable `clow'
o8comm.h:50: warning: unused variable `lastdw'
o8comm.h:50: warning: unused variable `lastup'
o8comm.h:50: warning: unused variable `lastch'
o8comm.h:52: warning: unused variable `prou'
o8comm.h:52: warning: unused variable `meu'
o8comm.h:54: warning: unused variable `ug'
o8comm.h:54: warning: unused variable `og'
o8comm.h:60: warning: unused variable `xst'
o8cons.h:4: warning: unused variable `zero'
o8cons.h:4: warning: unused variable `one'
o8cons.h:4: warning: unused variable `two'
o8cons.h:4: warning: unused variable `three'
o8cons.h:4: warning: unused variable `four'
o8cons.h:5: warning: unused variable `five'
o8cons.h:5: warning: unused variable `six'
o8cons.h:5: warning: unused variable `seven'
o8cons.h:6: warning: unused variable `twom2'
o8cons.h:6: warning: unused variable `twop4'
o8cons.h:6: warning: unused variable `twop11'
o8cons.h:6: warning: unused variable `onep3'
o8cons.h:7: warning: unused variable `onep5'
o8cons.h:7: warning: unused variable `p2'
o8cons.h:7: warning: unused variable `p4'
o8cons.h:7: warning: unused variable `p5'
o8cons.h:7: warning: unused variable `p7'
o8cons.h:7: warning: unused variable `p8'
o8cons.h:7: warning: unused variable `p9'
o8cons.h:8: warning: unused variable `c45'
o8cons.h:8: warning: unused variable `tm12'
o8cons.h:9: warning: unused variable `tm10'
o8cons.h:9: warning: unused variable `tm9'
o8cons.h:9: warning: unused variable `tm8'
o8cons.h:9: warning: unused variable `tm7'
o8cons.h:9: warning: unused variable `tm6'
o8cons.h:9: warning: unused variable `tm5'
o8cons.h:10: warning: unused variable `tm4'
o8cons.h:10: warning: unused variable `tm3'
o8cons.h:10: warning: unused variable `tm2'
o8cons.h:10: warning: unused variable `tm1'
o8cons.h:10: warning: unused variable `tp1'
o8cons.h:10: warning: unused variable `tp2'
o8cons.h:11: warning: unused variable `tp3'
o8cons.h:11: warning: unused variable `tp4'
multimgmos.c: In function `ef':
o8fuco.h:5: warning: unused variable `val'
o8fuco.h:5: warning: unused variable `llow'
o8fuco.h:5: warning: unused variable `lup'
o8fuco.h:7: warning: unused variable `nr'
o8fuco.h:7: warning: unused variable `nres'
o8fuco.h:7: warning: unused variable `ndualm'
o8fuco.h:7: warning: unused variable `mdualm'
o8fuco.h:9: warning: unused variable `epsmac'
o8fuco.h:9: warning: unused variable `tolmac'
o8fuco.h:9: warning: unused variable `deldif'
o8fuco.h:11: warning: unused variable `name'
o8fuco.h:15: warning: unused variable `intakt'
o8fuco.h:15: warning: unused variable `te0'
o8fuco.h:15: warning: unused variable `te1'
o8fuco.h:15: warning: unused variable `te2'
o8fuco.h:15: warning: unused variable `te3'
o8fuco.h:15: warning: unused variable `singul'
o8fuco.h:16: warning: unused variable `ident'
o8fuco.h:16: warning: unused variable `eqres'
o8fuco.h:16: warning: unused variable `cold'
o8fuco.h:18: warning: unused variable `icf'
o8fuco.h:18: warning: unused variable `icgf'
o8fuco.h:18: warning: unused variable `cfincr'
o8fuco.h:18: warning: unused variable `cres'
o8fuco.h:18: warning: unused variable `cgres'
o8fuco.h:20: warning: unused variable `ffuerr'
o8fuco.h:20: warning: unused variable `confuerr'
o8fuco.h:25: warning: unused variable `nh'
o8fuco.h:25: warning: unused variable `ng'
o8fuco.h:27: warning: unused variable `nonlinlist'
o8fuco.h:29: warning: unused variable `gunit'
o8fuco.h:31: warning: unused variable `gconst'
o8fuco.h:33: warning: unused variable `cfuerr'
multimgmos.c:699: warning: unused variable `s5'
multimgmos.c: In function `egradf':
multimgmos.c:819: warning: missing braces around initializer
multimgmos.c:819: warning: (near initialization for `s2[0]')
o8fuco.h:5: warning: unused variable `val'
o8fuco.h:5: warning: unused variable `llow'
o8fuco.h:5: warning: unused variable `lup'
o8fuco.h:7: warning: unused variable `nr'
o8fuco.h:7: warning: unused variable `nres'
o8fuco.h:7: warning: unused variable `ndualm'
o8fuco.h:7: warning: unused variable `mdualm'
o8fuco.h:9: warning: unused variable `epsmac'
o8fuco.h:9: warning: unused variable `tolmac'
o8fuco.h:9: warning: unused variable `deldif'
o8fuco.h:11: warning: unused variable `name'
o8fuco.h:15: warning: unused variable `intakt'
o8fuco.h:15: warning: unused variable `te0'
o8fuco.h:15: warning: unused variable `te1'
o8fuco.h:15: warning: unused variable `te2'
o8fuco.h:15: warning: unused variable `te3'
o8fuco.h:15: warning: unused variable `singul'
o8fuco.h:16: warning: unused variable `ident'
o8fuco.h:16: warning: unused variable `eqres'
o8fuco.h:16: warning: unused variable `cold'
o8fuco.h:18: warning: unused variable `icf'
o8fuco.h:18: warning: unused variable `icgf'
o8fuco.h:18: warning: unused variable `cfincr'
o8fuco.h:18: warning: unused variable `cres'
o8fuco.h:18: warning: unused variable `cgres'
o8fuco.h:20: warning: unused variable `ffuerr'
o8fuco.h:20: warning: unused variable `confuerr'
o8fuco.h:25: warning: unused variable `nh'
o8fuco.h:25: warning: unused variable `ng'
o8fuco.h:27: warning: unused variable `nonlinlist'
o8fuco.h:29: warning: unused variable `gunit'
o8fuco.h:31: warning: unused variable `gconst'
o8fuco.h:33: warning: unused variable `cfuerr'
multimgmos.c: In function `econ':
o8fuco.h:5: warning: unused variable `val'
o8fuco.h:5: warning: unused variable `llow'
o8fuco.h:5: warning: unused variable `lup'
o8fuco.h:7: warning: unused variable `nr'
o8fuco.h:7: warning: unused variable `nres'
o8fuco.h:7: warning: unused variable `ndualm'
o8fuco.h:7: warning: unused variable `mdualm'
o8fuco.h:9: warning: unused variable `epsmac'
o8fuco.h:9: warning: unused variable `tolmac'
o8fuco.h:9: warning: unused variable `deldif'
o8fuco.h:11: warning: unused variable `name'
o8fuco.h:15: warning: unused variable `intakt'
o8fuco.h:15: warning: unused variable `te0'
o8fuco.h:15: warning: unused variable `te1'
o8fuco.h:15: warning: unused variable `te2'
o8fuco.h:15: warning: unused variable `te3'
o8fuco.h:15: warning: unused variable `singul'
o8fuco.h:16: warning: unused variable `ident'
o8fuco.h:16: warning: unused variable `eqres'
o8fuco.h:16: warning: unused variable `cold'
o8fuco.h:18: warning: unused variable `icf'
o8fuco.h:18: warning: unused variable `icgf'
o8fuco.h:18: warning: unused variable `cfincr'
o8fuco.h:18: warning: unused variable `cres'
o8fuco.h:18: warning: unused variable `cgres'
o8fuco.h:20: warning: unused variable `ffuerr'
o8fuco.h:20: warning: unused variable `confuerr'
o8fuco.h:25: warning: unused variable `nh'
o8fuco.h:25: warning: unused variable `ng'
o8fuco.h:27: warning: unused variable `nonlinlist'
o8fuco.h:29: warning: unused variable `gunit'
o8fuco.h:31: warning: unused variable `gconst'
o8fuco.h:33: warning: unused variable `cfuerr'
multimgmos.c: In function `econgrad':
o8fuco.h:5: warning: unused variable `val'
o8fuco.h:5: warning: unused variable `llow'
o8fuco.h:5: warning: unused variable `lup'
o8fuco.h:7: warning: unused variable `nr'
o8fuco.h:7: warning: unused variable `nres'
o8fuco.h:7: warning: unused variable `ndualm'
o8fuco.h:7: warning: unused variable `mdualm'
o8fuco.h:9: warning: unused variable `epsmac'
o8fuco.h:9: warning: unused variable `tolmac'
o8fuco.h:9: warning: unused variable `deldif'
o8fuco.h:11: warning: unused variable `name'
o8fuco.h:15: warning: unused variable `intakt'
o8fuco.h:15: warning: unused variable `te0'
o8fuco.h:15: warning: unused variable `te1'
o8fuco.h:15: warning: unused variable `te2'
o8fuco.h:15: warning: unused variable `te3'
o8fuco.h:15: warning: unused variable `singul'
o8fuco.h:16: warning: unused variable `ident'
o8fuco.h:16: warning: unused variable `eqres'
o8fuco.h:16: warning: unused variable `cold'
o8fuco.h:18: warning: unused variable `icf'
o8fuco.h:18: warning: unused variable `icgf'
o8fuco.h:18: warning: unused variable `cfincr'
o8fuco.h:18: warning: unused variable `cres'
o8fuco.h:18: warning: unused variable `cgres'
o8fuco.h:20: warning: unused variable `ffuerr'
o8fuco.h:20: warning: unused variable `confuerr'
o8fuco.h:25: warning: unused variable `nh'
o8fuco.h:25: warning: unused variable `ng'
o8fuco.h:27: warning: unused variable `nonlinlist'
o8fuco.h:29: warning: unused variable `gunit'
o8fuco.h:31: warning: unused variable `gconst'
o8fuco.h:33: warning: unused variable `cfuerr'
multimgmos.c: In function `eval_extern':
o8fuco.h:5: warning: unused variable `val'
o8fuco.h:5: warning: unused variable `llow'
o8fuco.h:5: warning: unused variable `lup'
o8fuco.h:7: warning: unused variable `nr'
o8fuco.h:7: warning: unused variable `nres'
o8fuco.h:7: warning: unused variable `ndualm'
o8fuco.h:7: warning: unused variable `mdualm'
o8fuco.h:9: warning: unused variable `epsmac'
o8fuco.h:9: warning: unused variable `tolmac'
o8fuco.h:9: warning: unused variable `deldif'
o8fuco.h:11: warning: unused variable `name'
o8fuco.h:15: warning: unused variable `intakt'
o8fuco.h:15: warning: unused variable `te0'
o8fuco.h:15: warning: unused variable `te1'
o8fuco.h:15: warning: unused variable `te2'
o8fuco.h:15: warning: unused variable `te3'
o8fuco.h:15: warning: unused variable `singul'
o8fuco.h:16: warning: unused variable `ident'
o8fuco.h:16: warning: unused variable `eqres'
o8fuco.h:16: warning: unused variable `cold'
o8fuco.h:18: warning: unused variable `icf'
o8fuco.h:18: warning: unused variable `icgf'
o8fuco.h:18: warning: unused variable `cfincr'
o8fuco.h:18: warning: unused variable `cres'
o8fuco.h:18: warning: unused variable `cgres'
o8fuco.h:20: warning: unused variable `ffuerr'
o8fuco.h:20: warning: unused variable `confuerr'
o8fuco.h:25: warning: unused variable `nh'
o8fuco.h:25: warning: unused variable `ng'
o8fuco.h:27: warning: unused variable `nonlinlist'
o8fuco.h:29: warning: unused variable `gunit'
o8fuco.h:31: warning: unused variable `gconst'
o8fuco.h:33: warning: unused variable `cfuerr'
o8comm.h:7: warning: unused variable `runtim'
o8comm.h:8: warning: unused variable `optite'
o8comm.h:9: warning: unused variable `accinf'
o8comm.h:10: warning: unused variable `itstep'
o8comm.h:10: warning: unused variable `phase'
o8comm.h:12: warning: unused variable `upsi'
o8comm.h:12: warning: unused variable `upsi0'
o8comm.h:12: warning: unused variable `upsi1'
o8comm.h:12: warning: unused variable `upsist'
o8comm.h:12: warning: unused variable `psi'
o8comm.h:12: warning: unused variable `psi0'
o8comm.h:13: warning: unused variable `psi1'
o8comm.h:13: warning: unused variable `psist'
o8comm.h:13: warning: unused variable `psimin'
o8comm.h:14: warning: unused variable `phi'
o8comm.h:14: warning: unused variable `phi0'
o8comm.h:14: warning: unused variable `phi1'
o8comm.h:14: warning: unused variable `phimin'
o8comm.h:14: warning: unused variable `fx'
o8comm.h:14: warning: unused variable `fx0'
o8comm.h:14: warning: unused variable `fx1'
o8comm.h:15: warning: unused variable `fxst'
o8comm.h:15: warning: unused variable `donlp2_fmin'
o8comm.h:15: warning: unused variable `b2n'
o8comm.h:15: warning: unused variable `b2n0'
o8comm.h:15: warning: unused variable `xnorm'
o8comm.h:15: warning: unused variable `x0norm'
o8comm.h:15: warning: unused variable `sig0'
o8comm.h:15: warning: unused variable `dscal'
o8comm.h:15: warning: unused variable `ddnorm'
o8comm.h:15: warning: unused variable `d0norm'
o8comm.h:16: warning: unused variable `sig'
o8comm.h:16: warning: unused variable `sigmin'
o8comm.h:16: warning: unused variable `dirder'
o8comm.h:16: warning: unused variable `cosphi'
o8comm.h:16: warning: unused variable `upsim'
o8comm.h:17: warning: unused variable `donlp2_x'
o8comm.h:17: warning: unused variable `x0'
o8comm.h:17: warning: unused variable `x1'
o8comm.h:17: warning: unused variable `xmin'
o8comm.h:17: warning: unused variable `d'
o8comm.h:17: warning: unused variable `d0'
o8comm.h:18: warning: unused variable `dd'
o8comm.h:18: warning: unused variable `difx'
o8comm.h:18: warning: unused variable `resmin'
o8comm.h:20: warning: unused variable `gradf'
o8comm.h:20: warning: unused variable `gfn'
o8comm.h:20: warning: unused variable `qgf'
o8comm.h:20: warning: unused variable `gphi0'
o8comm.h:20: warning: unused variable `gphi1'
o8comm.h:21: warning: unused variable `gres'
o8comm.h:21: warning: unused variable `gresn'
o8comm.h:23: warning: unused variable `perm'
o8comm.h:23: warning: unused variable `perm1'
o8comm.h:23: warning: unused variable `colno'
o8comm.h:23: warning: unused variable `rank'
o8comm.h:24: warning: unused variable `qr'
o8comm.h:24: warning: unused variable `betaq'
o8comm.h:24: warning: unused variable `diag'
o8comm.h:25: warning: unused variable `cscal'
o8comm.h:26: warning: unused variable `colle'
o8comm.h:30: warning: unused variable `a'
o8comm.h:30: warning: unused variable `scalm'
o8comm.h:30: warning: unused variable `scalm2'
o8comm.h:30: warning: unused variable `diag0'
o8comm.h:30: warning: unused variable `matsc'
o8comm.h:32: warning: unused variable `violis'
o8comm.h:32: warning: unused variable `alist'
o8comm.h:32: warning: unused variable `o8bind'
o8comm.h:33: warning: unused variable `o8bind0'
o8comm.h:33: warning: unused variable `aalist'
o8comm.h:33: warning: unused variable `clist'
o8comm.h:35: warning: unused variable `u'
o8comm.h:35: warning: unused variable `u0'
o8comm.h:36: warning: unused variable `w'
o8comm.h:36: warning: unused variable `w1'
o8comm.h:36: warning: unused variable `res'
o8comm.h:37: warning: unused variable `res0'
o8comm.h:37: warning: unused variable `res1'
o8comm.h:38: warning: unused variable `resst'
o8comm.h:38: warning: unused variable `scf'
o8comm.h:38: warning: unused variable `scf0'
o8comm.h:39: warning: unused variable `yu'
o8comm.h:39: warning: unused variable `slack'
o8comm.h:39: warning: unused variable `infeas'
o8comm.h:39: warning: unused variable `work'
o8comm.h:42: warning: unused variable `del'
o8comm.h:42: warning: unused variable `del01'
o8comm.h:42: warning: unused variable `delmin'
o8comm.h:42: warning: unused variable `ny'
o8comm.h:43: warning: unused variable `smalld'
o8comm.h:43: warning: unused variable `smallw'
o8comm.h:43: warning: unused variable `rho'
o8comm.h:43: warning: unused variable `rho1'
o8comm.h:43: warning: unused variable `eta'
o8comm.h:43: warning: unused variable `epsx'
o8comm.h:43: warning: unused variable `c1d'
o8comm.h:44: warning: unused variable `scfmax'
o8comm.h:44: warning: unused variable `updmy0'
o8comm.h:44: warning: unused variable `tauqp'
o8comm.h:44: warning: unused variable `taufac'
o8comm.h:44: warning: unused variable `taumax'
o8comm.h:46: warning: unused variable `alpha'
o8comm.h:46: warning: unused variable `bbeta'
o8comm.h:46: warning: unused variable `theta'
o8comm.h:46: warning: unused variable `sigsm'
o8comm.h:46: warning: unused variable `sigla'
o8comm.h:46: warning: unused variable `delta'
o8comm.h:46: warning: unused variable `stptrm'
o8comm.h:47: warning: unused variable `delta1'
o8comm.h:47: warning: unused variable `stmaxl'
o8comm.h:49: warning: unused variable `level'
o8comm.h:50: warning: unused variable `clow'
o8comm.h:50: warning: unused variable `lastdw'
o8comm.h:50: warning: unused variable `lastup'
o8comm.h:50: warning: unused variable `lastch'
o8comm.h:52: warning: unused variable `prou'
o8comm.h:52: warning: unused variable `meu'
o8comm.h:54: warning: unused variable `ug'
o8comm.h:54: warning: unused variable `og'
o8comm.h:60: warning: unused variable `xst'
o8fint.h:23: warning: unused variable `bloc'
o8fint.h:23: warning: unused variable `valid'
o8fint.h:23: warning: unused variable `corr'
o8fint.h:24: warning: unused variable `difftype'
o8fint.h:25: warning: unused variable `xtr'
o8fint.h:25: warning: unused variable `xsc'
o8fint.h:25: warning: unused variable `fu'
o8fint.h:25: warning: unused variable `fugrad'
o8fint.h:26: warning: unused variable `fud'
o8fint.h:26: warning: unused variable `epsfcn'
o8fint.h:26: warning: unused variable `taubnd'
o8cons.h:4: warning: unused variable `zero'
o8cons.h:4: warning: unused variable `one'
o8cons.h:4: warning: unused variable `two'
o8cons.h:4: warning: unused variable `three'
o8cons.h:4: warning: unused variable `four'
o8cons.h:5: warning: unused variable `five'
o8cons.h:5: warning: unused variable `six'
o8cons.h:5: warning: unused variable `seven'
o8cons.h:6: warning: unused variable `twom2'
o8cons.h:6: warning: unused variable `twop4'
o8cons.h:6: warning: unused variable `twop11'
o8cons.h:6: warning: unused variable `onep3'
o8cons.h:7: warning: unused variable `onep5'
o8cons.h:7: warning: unused variable `p2'
o8cons.h:7: warning: unused variable `p4'
o8cons.h:7: warning: unused variable `p5'
o8cons.h:7: warning: unused variable `p7'
o8cons.h:7: warning: unused variable `p8'
o8cons.h:7: warning: unused variable `p9'
o8cons.h:8: warning: unused variable `c45'
o8cons.h:8: warning: unused variable `tm12'
o8cons.h:9: warning: unused variable `tm10'
o8cons.h:9: warning: unused variable `tm9'
o8cons.h:9: warning: unused variable `tm8'
o8cons.h:9: warning: unused variable `tm7'
o8cons.h:9: warning: unused variable `tm6'
o8cons.h:9: warning: unused variable `tm5'
o8cons.h:10: warning: unused variable `tm4'
o8cons.h:10: warning: unused variable `tm3'
o8cons.h:10: warning: unused variable `tm2'
o8cons.h:10: warning: unused variable `tm1'
o8cons.h:10: warning: unused variable `tp1'
o8cons.h:10: warning: unused variable `tp2'
o8cons.h:11: warning: unused variable `tp3'
o8cons.h:11: warning: unused variable `tp4'
gcc -Ie:/biocbld/bbs-2.1-bioc/R/include -Wall -O3 -std=gnu99 -c newx.c -o newx.o
gcc -Ie:/biocbld/bbs-2.1-bioc/R/include -Wall -O3 -std=gnu99 -c user_eval.c -o user_eval.o
user_eval.c: In function `user_eval':
o8fuco.h:5: warning: unused variable `val'
o8fuco.h:5: warning: unused variable `llow'
o8fuco.h:5: warning: unused variable `lup'
o8fuco.h:7: warning: unused variable `nr'
o8fuco.h:7: warning: unused variable `nres'
o8fuco.h:7: warning: unused variable `nstep'
o8fuco.h:7: warning: unused variable `ndualm'
o8fuco.h:7: warning: unused variable `mdualm'
o8fuco.h:9: warning: unused variable `epsmac'
o8fuco.h:9: warning: unused variable `tolmac'
o8fuco.h:11: warning: unused variable `name'
o8fuco.h:13: warning: unused variable `epsdif'
o8fuco.h:15: warning: unused variable `intakt'
o8fuco.h:15: warning: unused variable `te0'
o8fuco.h:15: warning: unused variable `te1'
o8fuco.h:15: warning: unused variable `te2'
o8fuco.h:15: warning: unused variable `te3'
o8fuco.h:15: warning: unused variable `singul'
o8fuco.h:16: warning: unused variable `ident'
o8fuco.h:16: warning: unused variable `eqres'
o8fuco.h:16: warning: unused variable `silent'
o8fuco.h:16: warning: unused variable `cold'
o8fuco.h:18: warning: unused variable `icf'
o8fuco.h:18: warning: unused variable `icgf'
o8fuco.h:18: warning: unused variable `cfincr'
o8fuco.h:18: warning: unused variable `cres'
o8fuco.h:18: warning: unused variable `cgres'
o8fuco.h:20: warning: unused variable `ffuerr'
o8fuco.h:20: warning: unused variable `confuerr'
o8fuco.h:25: warning: unused variable `nh'
o8fuco.h:25: warning: unused variable `ng'
o8fuco.h:27: warning: unused variable `nonlinlist'
o8fuco.h:29: warning: unused variable `gunit'
o8fuco.h:31: warning: unused variable `gconst'
o8fuco.h:33: warning: unused variable `cfuerr'
o8comm.h:7: warning: unused variable `runtim'
o8comm.h:8: warning: unused variable `optite'
o8comm.h:9: warning: unused variable `accinf'
o8comm.h:10: warning: unused variable `itstep'
o8comm.h:10: warning: unused variable `phase'
o8comm.h:12: warning: unused variable `upsi'
o8comm.h:12: warning: unused variable `upsi0'
o8comm.h:12: warning: unused variable `upsi1'
o8comm.h:12: warning: unused variable `upsist'
o8comm.h:12: warning: unused variable `psi'
o8comm.h:12: warning: unused variable `psi0'
o8comm.h:13: warning: unused variable `psi1'
o8comm.h:13: warning: unused variable `psist'
o8comm.h:13: warning: unused variable `psimin'
o8comm.h:14: warning: unused variable `phi'
o8comm.h:14: warning: unused variable `phi0'
o8comm.h:14: warning: unused variable `phi1'
o8comm.h:14: warning: unused variable `phimin'
o8comm.h:14: warning: unused variable `fx'
o8comm.h:14: warning: unused variable `fx0'
o8comm.h:14: warning: unused variable `fx1'
o8comm.h:15: warning: unused variable `fxst'
o8comm.h:15: warning: unused variable `donlp2_fmin'
o8comm.h:15: warning: unused variable `b2n'
o8comm.h:15: warning: unused variable `b2n0'
o8comm.h:15: warning: unused variable `xnorm'
o8comm.h:15: warning: unused variable `x0norm'
o8comm.h:15: warning: unused variable `sig0'
o8comm.h:15: warning: unused variable `dscal'
o8comm.h:15: warning: unused variable `ddnorm'
o8comm.h:15: warning: unused variable `d0norm'
o8comm.h:16: warning: unused variable `sig'
o8comm.h:16: warning: unused variable `sigmin'
o8comm.h:16: warning: unused variable `dirder'
o8comm.h:16: warning: unused variable `cosphi'
o8comm.h:16: warning: unused variable `upsim'
o8comm.h:17: warning: unused variable `donlp2_x'
o8comm.h:17: warning: unused variable `x0'
o8comm.h:17: warning: unused variable `x1'
o8comm.h:17: warning: unused variable `xmin'
o8comm.h:17: warning: unused variable `d'
o8comm.h:17: warning: unused variable `d0'
o8comm.h:18: warning: unused variable `dd'
o8comm.h:18: warning: unused variable `difx'
o8comm.h:18: warning: unused variable `resmin'
o8comm.h:20: warning: unused variable `gradf'
o8comm.h:20: warning: unused variable `gfn'
o8comm.h:20: warning: unused variable `qgf'
o8comm.h:20: warning: unused variable `gphi0'
o8comm.h:20: warning: unused variable `gphi1'
o8comm.h:21: warning: unused variable `gres'
o8comm.h:21: warning: unused variable `gresn'
o8comm.h:23: warning: unused variable `perm'
o8comm.h:23: warning: unused variable `perm1'
o8comm.h:23: warning: unused variable `colno'
o8comm.h:23: warning: unused variable `rank'
o8comm.h:24: warning: unused variable `qr'
o8comm.h:24: warning: unused variable `betaq'
o8comm.h:24: warning: unused variable `diag'
o8comm.h:25: warning: unused variable `cscal'
o8comm.h:26: warning: unused variable `colle'
o8comm.h:30: warning: unused variable `a'
o8comm.h:30: warning: unused variable `scalm'
o8comm.h:30: warning: unused variable `scalm2'
o8comm.h:30: warning: unused variable `diag0'
o8comm.h:30: warning: unused variable `matsc'
o8comm.h:32: warning: unused variable `violis'
o8comm.h:32: warning: unused variable `alist'
o8comm.h:32: warning: unused variable `o8bind'
o8comm.h:33: warning: unused variable `o8bind0'
o8comm.h:33: warning: unused variable `aalist'
o8comm.h:33: warning: unused variable `clist'
o8comm.h:35: warning: unused variable `u'
o8comm.h:35: warning: unused variable `u0'
o8comm.h:36: warning: unused variable `w'
o8comm.h:36: warning: unused variable `w1'
o8comm.h:36: warning: unused variable `res'
o8comm.h:37: warning: unused variable `res0'
o8comm.h:37: warning: unused variable `res1'
o8comm.h:38: warning: unused variable `resst'
o8comm.h:38: warning: unused variable `scf'
o8comm.h:38: warning: unused variable `scf0'
o8comm.h:39: warning: unused variable `yu'
o8comm.h:39: warning: unused variable `slack'
o8comm.h:39: warning: unused variable `infeas'
o8comm.h:39: warning: unused variable `work'
o8comm.h:41: warning: unused variable `iterma'
o8comm.h:42: warning: unused variable `del'
o8comm.h:42: warning: unused variable `del0'
o8comm.h:42: warning: unused variable `del01'
o8comm.h:42: warning: unused variable `delmin'
o8comm.h:42: warning: unused variable `tau0'
o8comm.h:42: warning: unused variable `tau'
o8comm.h:42: warning: unused variable `ny'
o8comm.h:43: warning: unused variable `smalld'
o8comm.h:43: warning: unused variable `smallw'
o8comm.h:43: warning: unused variable `rho'
o8comm.h:43: warning: unused variable `rho1'
o8comm.h:43: warning: unused variable `eta'
o8comm.h:43: warning: unused variable `epsx'
o8comm.h:43: warning: unused variable `c1d'
o8comm.h:44: warning: unused variable `scfmax'
o8comm.h:44: warning: unused variable `updmy0'
o8comm.h:44: warning: unused variable `tauqp'
o8comm.h:44: warning: unused variable `taufac'
o8comm.h:44: warning: unused variable `taumax'
o8comm.h:46: warning: unused variable `alpha'
o8comm.h:46: warning: unused variable `bbeta'
o8comm.h:46: warning: unused variable `theta'
o8comm.h:46: warning: unused variable `sigsm'
o8comm.h:46: warning: unused variable `sigla'
o8comm.h:46: warning: unused variable `delta'
o8comm.h:46: warning: unused variable `stptrm'
o8comm.h:47: warning: unused variable `delta1'
o8comm.h:47: warning: unused variable `stmaxl'
o8comm.h:49: warning: unused variable `level'
o8comm.h:50: warning: unused variable `clow'
o8comm.h:50: warning: unused variable `lastdw'
o8comm.h:50: warning: unused variable `lastup'
o8comm.h:50: warning: unused variable `lastch'
o8comm.h:52: warning: unused variable `prou'
o8comm.h:52: warning: unused variable `meu'
o8comm.h:54: warning: unused variable `ug'
o8comm.h:54: warning: unused variable `og'
o8comm.h:56: warning: unused variable `low'
o8comm.h:56: warning: unused variable `up'
o8comm.h:56: warning: unused variable `big'
o8comm.h:58: warning: unused variable `nreset'
o8comm.h:60: warning: unused variable `xst'
o8fint.h:23: warning: unused variable `bloc'
o8fint.h:23: warning: unused variable `corr'
o8cons.h:4: warning: unused variable `two'
o8cons.h:5: warning: unused variable `five'
o8cons.h:5: warning: unused variable `six'
o8cons.h:6: warning: unused variable `twom2'
o8cons.h:6: warning: unused variable `twop4'
o8cons.h:6: warning: unused variable `twop11'
o8cons.h:6: warning: unused variable `onep3'
o8cons.h:7: warning: unused variable `onep5'
o8cons.h:7: warning: unused variable `p2'
o8cons.h:7: warning: unused variable `p5'
o8cons.h:7: warning: unused variable `p7'
o8cons.h:7: warning: unused variable `p8'
o8cons.h:7: warning: unused variable `p9'
o8cons.h:8: warning: unused variable `tm12'
o8cons.h:9: warning: unused variable `tm10'
o8cons.h:9: warning: unused variable `tm9'
o8cons.h:9: warning: unused variable `tm8'
o8cons.h:9: warning: unused variable `tm7'
o8cons.h:9: warning: unused variable `tm6'
o8cons.h:9: warning: unused variable `tm5'
o8cons.h:10: warning: unused variable `tm4'
o8cons.h:10: warning: unused variable `tm3'
o8cons.h:10: warning: unused variable `tp1'
o8cons.h:10: warning: unused variable `tp2'
o8cons.h:11: warning: unused variable `tp3'
o8cons.h:11: warning: unused variable `tp4'
windres -I e:/biocbld/bbs-2.1-bioc/R/include -i mmgmos_res.rc -o mmgmos_res.o
gcc -shared -s -o mmgmos.dll mmgmos.def donlp2.o multimgmos.o newx.o user_eval.o mmgmos_res.o -Le:/biocbld/bbs-2.1-bioc/R/bin -lR
... DLL made
installing DLL
installing R files
installing inst files
installing data files
installing man source files
installing indices
not zipping data
installing help
Note: unmatched right brace in 'hgu95aphis' on or after line 21
Note: unmatched right brace in 'hgu95aphis.Rd' on or after line 21
>>> Building/Updating help pages for package 'mmgmos'
Formats: text html latex example chm
exprReslt-class text html latex example chm
hgu95aphis text html latex chm
justmgMOS text html latex example chm
justmmgMOS text html latex example chm
mgmos text html latex example chm
mmgmos text html latex example chm
Microsoft HTML Help Compiler 4.74.8702
Compiling e:\biocbld\bbs-2.1-bioc\meat\mmgmos\chm\mmgmos.chm
Compile time: 0 minutes, 1 second
7 Topics
43 Local links
0 Internet links
1 Graphic
Created e:\biocbld\bbs-2.1-bioc\meat\mmgmos\chm\mmgmos.chm, 25,929 bytes
Compression decreased file by 13,274 bytes.
adding MD5 sums
* DONE (mmgmos)
* creating vignettes ... OK
* cleaning src
* removing junk files
* checking for LF line-endings in source files
* checking for empty or unneeded directories
* building 'mmgmos_1.7.0.tar.gz'