Back to the "Multiple platform build/check report"
| IMPORTANT NOTE: R was configured with --enable-strict-barrier on lamb1 |
| Package 45/247 | Hostname | OS | Arch | BUILD | CHECK | BUILD BIN |
Category2.3.28S. FalconLast Changed Date: 2007-08-23 15:18:34 -0700 Last Changed Rev: 26614 | lamb1 | Linux (SUSE 10.1) | x86_64 | OK | OK | |
| wellington | Linux (SUSE 9.2) | i686 | OK | OK | ||
| liverpool | Windows Server 2003 R2 (32-bit) | x64 | [ OK ] | OK | OK | |
| pitt | Mac OS X (10.4.10) | i386 | OK | OK | OK |
| Package: Category |
| Version: 2.3.28 |
| Command: E:\biocbld\bbs-2.1-bioc\R\bin\R.exe CMD build Category |
| RetCode: 0 |
| Time: 48.8 seconds |
| Status: OK |
| PackageFile: Category_2.3.28.tar.gz |
* checking for file 'Category/DESCRIPTION' ... OK
* preparing 'Category':
* checking DESCRIPTION meta-information ... OK
* installing the package to re-build vignettes
installing R.css in E:/biocbld/bbs-2.1-bioc/tmpdir/Rinst157234698
---------- Making package Category ------------
adding build stamp to DESCRIPTION
installing NAMESPACE file and metadata
installing R files
installing inst files
preparing package Category for lazy loading
Loading required package: Biobase
Loading required package: tools
Welcome to Bioconductor
Vignettes contain introductory material. To view, type
'openVignette()'. To cite Bioconductor, see
'citation("Biobase")' and for packages 'citation(pkgname)'.
Loading required package: graph
Loading required package: annotate
Loading required package: AnnotationDbi
Loading required package: DBI
Loading required package: RSQLite
Loading required package: genefilter
Loading required package: survival
Loading required package: splines
installing man source files
installing indices
installing help
>>> Building/Updating help pages for package 'Category'
Formats: text html latex example chm
ChrBandTree-class text html latex example chm
ChrMapHyperGParams-class text html latex example chm
ChrMapHyperGResult-class text html latex example chm
DatPkg-class text html latex example chm
GOHyperGParams-class text html latex chm
HyperGParams-class text html latex chm
HyperGResult-accessors text html latex chm
HyperGResult-class text html latex chm
HyperGResultBase-class text html latex chm
KEGGHyperGParams-class text html latex chm
MAPAmat text html latex example chm
NewChrBandTree text html latex chm
applyByCategory text html latex example chm
cateGOryMatrix text html latex example chm
categoryToEntrezBuilder text html latex chm
cb_contingency text html latex chm
cb_parse_band_hsa text html latex example chm
cb_test text html latex chm
chrBandInciMat text html latex example chm
exampleLevels text html latex chm
findAMstats text html latex example chm
geneGoHyperGeoTest text html latex chm
geneKeggHyperGeoTest text html latex chm
getPathNames text html latex example chm
gseaperm text html latex example chm
hyperGTest text html latex chm
makeChrBandGraph text html latex example chm
makeEBcontr text html latex example chm
makeValidParams text html latex chm
probes2MAP text html latex example chm
probes2Path text html latex example chm
tree_iter text html latex chm
ttperm text html latex example chm
universeBuilder text html latex chm
Microsoft HTML Help Compiler 4.74.8702
Compiling e:\biocbld\bbs-2.1-bioc\meat\Category\chm\Category.chm
Compile time: 0 minutes, 1 second
35 Topics
256 Local links
0 Internet links
1 Graphic
Created e:\biocbld\bbs-2.1-bioc\meat\Category\chm\Category.chm, 66,803 bytes
Compression decreased file by 104,409 bytes.
adding MD5 sums
* DONE (Category)
* creating vignettes ... OK
* removing junk files
* checking for LF line-endings in source files
* checking for empty or unneeded directories
* building 'Category_2.3.28.tar.gz'