Back to the "Multiple platform build/check report"
| IMPORTANT NOTE: R was configured with --enable-strict-barrier on lamb1 |
| Package 194/247 | Hostname | OS | Arch | BUILD | CHECK | BUILD BIN |
Resourcerer1.11.0Jianhua ZhangLast Changed Date: 2007-08-01 13:23:31 -0700 Last Changed Rev: 26107 | lamb1 | Linux (SUSE 10.1) | x86_64 | OK | OK | |
| wellington | Linux (SUSE 9.2) | i686 | OK | OK | ||
| liverpool | Windows Server 2003 R2 (32-bit) | x64 | [ OK ] | OK | OK | |
| pitt | Mac OS X (10.4.10) | i386 | OK | OK | OK |
| Package: Resourcerer |
| Version: 1.11.0 |
| Command: E:\biocbld\bbs-2.1-bioc\R\bin\R.exe CMD build Resourcerer |
| RetCode: 0 |
| Time: 29.3 seconds |
| Status: OK |
| PackageFile: Resourcerer_1.11.0.tar.gz |
* checking for file 'Resourcerer/DESCRIPTION' ... OK
* preparing 'Resourcerer':
* checking DESCRIPTION meta-information ... OK
* installing the package to re-build vignettes
installing R.css in E:/biocbld/bbs-2.1-bioc/tmpdir/Rinst419652999
---------- Making package Resourcerer ------------
adding build stamp to DESCRIPTION
installing NAMESPACE file and metadata
installing R files
installing inst files
preparing package Resourcerer for lazy loading
Loading required package: Biobase
Loading required package: tools
Welcome to Bioconductor
Vignettes contain introductory material. To view, type
'openVignette()'. To cite Bioconductor, see
'citation("Biobase")' and for packages 'citation(pkgname)'.
Loading required package: AnnBuilder
Loading required package: XML
Loading required package: annotate
Loading required package: AnnotationDbi
Loading required package: DBI
Loading required package: RSQLite
installing man source files
installing indices
installing help
Note: unmatched right brace in 'getRsourcerer' on or after line 56
Note: unmatched right brace in 'getRsourcerer.Rd' on or after line 56
>>> Building/Updating help pages for package 'Resourcerer'
Formats: text html latex example chm
getRsourcerer text html latex example chm
resourcerer2BioC text html latex example chm
Microsoft HTML Help Compiler 4.74.8702
Compiling e:\biocbld\bbs-2.1-bioc\meat\Resourcerer\chm\Resourcerer.chm
Compile time: 0 minutes, 1 second
3 Topics
6 Local links
2 Internet links
1 Graphic
Created e:\biocbld\bbs-2.1-bioc\meat\Resourcerer\chm\Resourcerer.chm, 19,916 bytes
Compression increased file by 4,881 bytes.
adding MD5 sums
* DONE (Resourcerer)
* creating vignettes ... OK
* removing junk files
* checking for LF line-endings in source files
* checking for empty or unneeded directories
* building 'Resourcerer_1.11.0.tar.gz'