Back to the "Multiple platform build/check report"
| IMPORTANT NOTE: R was configured with --enable-strict-barrier on lamb1 |
| Package 208/247 | Hostname | OS | Arch | BUILD | CHECK | BUILD BIN |
Ruuid1.15.1Biocore Team c/o BioC user listLast Changed Date: 2007-08-20 09:33:20 -0700 Last Changed Rev: 26527 | lamb1 | Linux (SUSE 10.1) | x86_64 | OK | WARNINGS | |
| wellington | Linux (SUSE 9.2) | i686 | OK | WARNINGS | ||
| liverpool | Windows Server 2003 R2 (32-bit) | x64 | [ OK ] | WARNINGS | OK | |
| pitt | Mac OS X (10.4.10) | i386 | OK | WARNINGS | OK |
| Package: Ruuid |
| Version: 1.15.1 |
| Command: E:\biocbld\bbs-2.1-bioc\R\bin\R.exe CMD build Ruuid |
| RetCode: 0 |
| Time: 41.3 seconds |
| Status: OK |
| PackageFile: Ruuid_1.15.1.tar.gz |
* checking for file 'Ruuid/DESCRIPTION' ... OK
* preparing 'Ruuid':
* checking DESCRIPTION meta-information ... OK
* cleaning src
rm -f Ruuid.dll *.a Ruuid.o pack.o parse.o Rinit.o unpack.o unparse.o Ruuid.def
* installing the package to re-build vignettes
installing R.css in E:/biocbld/bbs-2.1-bioc/tmpdir/Rinst480475900
---------- Making package Ruuid ------------
**********************************************
WARNING: this package has a configure script
It probably needs manual configuration
**********************************************
adding build stamp to DESCRIPTION
installing NAMESPACE file and metadata
running src/Makefile.win ...
gcc -Ie:/biocbld/bbs-2.1-bioc/R/src/include -O2 -DWin32 -c Ruuid.c -o Ruuid.o
gcc -Ie:/biocbld/bbs-2.1-bioc/R/src/include -O2 -DWin32 -c pack.c -o pack.o
gcc -Ie:/biocbld/bbs-2.1-bioc/R/src/include -O2 -DWin32 -c parse.c -o parse.o
gcc -Ie:/biocbld/bbs-2.1-bioc/R/src/include -O2 -DWin32 -c Rinit.c -o Rinit.o
gcc -Ie:/biocbld/bbs-2.1-bioc/R/src/include -O2 -DWin32 -c unpack.c -o unpack.o
gcc -Ie:/biocbld/bbs-2.1-bioc/R/src/include -O2 -DWin32 -c unparse.c -o unparse.o
rm -f -f Ruuid.a
ar cr Ruuid.a *.o
ranlib Ruuid.a
gcc -shared -o Ruuid.dll Ruuid.def Ruuid.a -Le:/biocbld/bbs-2.1-bioc/R/bin -lrpcrt4 -lg2c -lRblas -lR
... done
installing DLL
installing R files
installing inst files
preparing package Ruuid for lazy loading
installing man source files
installing indices
installing help
>>> Building/Updating help pages for package 'Ruuid'
Formats: text html latex example chm
Ruuid-class text html latex example chm
getuuid text html latex example chm
uuidt-class text html latex example chm
Microsoft HTML Help Compiler 4.74.8702
Compiling e:\biocbld\bbs-2.1-bioc\meat\Ruuid\chm\Ruuid.chm
Compile time: 0 minutes, 1 second
4 Topics
24 Local links
3 Internet links
1 Graphic
Created e:\biocbld\bbs-2.1-bioc\meat\Ruuid\chm\Ruuid.chm, 18,660 bytes
Compression increased file by 1,960 bytes.
adding MD5 sums
* DONE (Ruuid)
* creating vignettes ... OK
* cleaning src
rm -f Ruuid.dll *.a Ruuid.o pack.o parse.o Rinit.o unpack.o unparse.o Ruuid.def
* removing junk files
* checking for LF line-endings in source files
* checking for empty or unneeded directories
* building 'Ruuid_1.15.1.tar.gz'