Back to the "Multiple platform build/check report"
| IMPORTANT NOTE: R was configured with --enable-strict-barrier on lamb1 |
| Package 56/247 | Hostname | OS | Arch | BUILD | CHECK | BUILD BIN |
CORREP1.3.0Dongxiao ZhuLast Changed Date: 2007-04-24 11:31:42 -0700 Last Changed Rev: 24217 | lamb1 | Linux (SUSE 10.1) | x86_64 | OK | OK | |
| wellington | Linux (SUSE 9.2) | i686 | OK | OK | ||
| liverpool | Windows Server 2003 R2 (32-bit) | x64 | [ OK ] | OK | OK | |
| pitt | Mac OS X (10.4.10) | i386 | OK | OK | OK |
| Package: CORREP |
| Version: 1.3.0 |
| Command: E:\biocbld\bbs-2.1-bioc\R\bin\R.exe CMD build CORREP |
| RetCode: 0 |
| Time: 48.5 seconds |
| Status: OK |
| PackageFile: CORREP_1.3.0.tar.gz |
* checking for file 'CORREP/DESCRIPTION' ... OK
* preparing 'CORREP':
* checking DESCRIPTION meta-information ... OK
* installing the package to re-build vignettes
installing R.css in E:/biocbld/bbs-2.1-bioc/tmpdir/Rinst167296771
---------- Making package CORREP ------------
adding build stamp to DESCRIPTION
installing R files
installing inst files
installing data files
installing man source files
installing indices
not zipping data
installing help
>>> Building/Updating help pages for package 'CORREP'
Formats: text html latex example chm
CORREP-package text html latex example chm
cor.LRtest text html latex example chm
cor.LRtest.std text html latex example chm
cor.balance text html latex example chm
cor.bootci text html latex example chm
cor.unbalance text html latex example chm
gal_all text html latex example chm
permutest text html latex example chm
true.member text html latex example chm
Microsoft HTML Help Compiler 4.74.8702
Compiling e:\biocbld\bbs-2.1-bioc\meat\CORREP\chm\CORREP.chm
Compile time: 0 minutes, 1 second
10 Topics
30 Local links
0 Internet links
1 Graphic
Created e:\biocbld\bbs-2.1-bioc\meat\CORREP\chm\CORREP.chm, 28,909 bytes
Compression decreased file by 11,850 bytes.
adding MD5 sums
* DONE (CORREP)
* creating vignettes ... OK
* removing junk files
* checking for LF line-endings in source files
* checking for empty or unneeded directories
* building 'CORREP_1.3.0.tar.gz'