Back to the "Multiple platform build/check report"
| IMPORTANT NOTE: R was configured with --enable-strict-barrier on lamb1 |
| Package 105/247 | Hostname | OS | Arch | BUILD | CHECK | BUILD BIN |
GSEABase0.2.27Biocore Team c/o BioC user listLast Changed Date: 2007-08-20 09:33:20 -0700 Last Changed Rev: 26527 | lamb1 | Linux (SUSE 10.1) | x86_64 | OK | WARNINGS | |
| wellington | Linux (SUSE 9.2) | i686 | OK | WARNINGS | ||
| liverpool | Windows Server 2003 R2 (32-bit) | x64 | [ OK ] | WARNINGS | OK | |
| pitt | Mac OS X (10.4.10) | i386 | OK | WARNINGS | OK |
| Package: GSEABase |
| Version: 0.2.27 |
| Command: E:\biocbld\bbs-2.1-bioc\R\bin\R.exe CMD build GSEABase |
| RetCode: 0 |
| Time: 45.8 seconds |
| Status: OK |
| PackageFile: GSEABase_0.2.27.tar.gz |
* checking for file 'GSEABase/DESCRIPTION' ... OK
* preparing 'GSEABase':
* checking DESCRIPTION meta-information ... OK
* installing the package to re-build vignettes
installing R.css in E:/biocbld/bbs-2.1-bioc/tmpdir/Rinst577245541
---------- Making package GSEABase ------------
adding build stamp to DESCRIPTION
installing NAMESPACE file and metadata
installing R files
installing inst files
preparing package GSEABase for lazy loading
Loading required package: Biobase
Loading required package: tools
Welcome to Bioconductor
Vignettes contain introductory material. To view, type
'openVignette()'. To cite Bioconductor, see
'citation("Biobase")' and for packages 'citation(pkgname)'.
Loading required package: XML
Loading required package: AnnotationDbi
Loading required package: DBI
Loading required package: RSQLite
installing man source files
installing indices
installing help
>>> Building/Updating help pages for package 'GSEABase'
Formats: text html latex example chm
CollectionType-class text html latex example chm
CollectionType-constructors text html latex example chm
GSEABase-package text html latex example chm
GeneColorSet-class text html latex example chm
GeneColorSet-methods text html latex chm
GeneIdentifierType-class text html latex example chm
GeneIdentifierType-constructors text html latex example chm
GeneSet-class text html latex example chm
GeneSet-methods text html latex example chm
GeneSetCollection-class text html latex example chm
GeneSetCollection-methods text html latex example chm
getBroadSets text html latex example chm
incidence-methods text html latex example chm
mapIdentifiers-methods text html latex chm
Microsoft HTML Help Compiler 4.74.8702
Compiling e:\biocbld\bbs-2.1-bioc\meat\GSEABase\chm\GSEABase.chm
Compile time: 0 minutes, 1 second
15 Topics
262 Local links
1 Internet link
1 Graphic
Created e:\biocbld\bbs-2.1-bioc\meat\GSEABase\chm\GSEABase.chm, 49,217 bytes
Compression decreased file by 98,031 bytes.
adding MD5 sums
* DONE (GSEABase)
* creating vignettes ... OK
* removing junk files
* checking for LF line-endings in source files
* checking for empty or unneeded directories
* building 'GSEABase_0.2.27.tar.gz'