Back to the "Multiple platform build/check report"
| IMPORTANT NOTE: R was configured with --enable-strict-barrier on lamb1 |
| Package 229/247 | Hostname | OS | Arch | BUILD | CHECK | BUILD BIN |
splots1.3.1Oleg SklyarLast Changed Date: 2007-08-19 15:00:56 -0700 Last Changed Rev: 26513 | lamb1 | Linux (SUSE 10.1) | x86_64 | OK | OK | |
| wellington | Linux (SUSE 9.2) | i686 | OK | OK | ||
| liverpool | Windows Server 2003 R2 (32-bit) | x64 | OK | OK | [ OK ] | |
| pitt | Mac OS X (10.4.10) | i386 | OK | OK | OK |
| Package: splots |
| Version: 1.3.1 |
| Command: E:\biocbld\bbs-2.1-bioc\R\bin\R.exe CMD INSTALL --build --library=splots.buildbin-libdir splots_1.3.1.tar.gz |
| RetCode: 0 |
| Time: 16.8 seconds |
| Status: OK |
| PackageFile: splots_1.3.1.zip |
installing R.css in E:/biocbld/bbs-2.1-bioc/meat/splots.buildbin-libdir
Using auto-selected zip options ''
---------- Making package splots ------------
adding build stamp to DESCRIPTION
installing NAMESPACE file and metadata
installing R files
installing inst files
installing data files
preparing package splots for lazy loading
Loading required package: grid
installing man source files
installing indices
not zipping data
installing help
>>> Building/Updating help pages for package 'splots'
Formats: text html latex example chm
internals text html latex chm
plotScreen text html latex example chm
Microsoft HTML Help Compiler 4.74.8702
Compiling e:\biocbld\bbs-2.1-bioc\meat\R.INSTALL.412\splots\chm\splots.chm
Compile time: 0 minutes, 0 seconds
3 Topics
3 Local links
0 Internet links
1 Graphic
Created e:\biocbld\bbs-2.1-bioc\meat\R.INSTALL.412\splots\chm\splots.chm, 18,105 bytes
Compression increased file by 7,651 bytes.
adding MD5 sums
packaged installation of package 'splots' as splots_1.3.1.zip
* DONE (splots)