Back to the "Multiple platform build/check report"
| IMPORTANT NOTE: R was configured with --enable-strict-barrier on lamb1 |
| Package 181/247 | Hostname | OS | Arch | BUILD | CHECK | BUILD BIN |
PROcess1.13.0Xiaochun LiLast Changed Date: 2007-05-11 21:56:41 -0700 Last Changed Rev: 24616 | lamb1 | Linux (SUSE 10.1) | x86_64 | OK | OK | |
| wellington | Linux (SUSE 9.2) | i686 | OK | OK | ||
| liverpool | Windows Server 2003 R2 (32-bit) | x64 | OK | OK | [ OK ] | |
| pitt | Mac OS X (10.4.10) | i386 | OK | OK | OK |
| Package: PROcess |
| Version: 1.13.0 |
| Command: E:\biocbld\bbs-2.1-bioc\R\bin\R.exe CMD INSTALL --build --library=PROcess.buildbin-libdir PROcess_1.13.0.tar.gz |
| RetCode: 0 |
| Time: 20.9 seconds |
| Status: OK |
| PackageFile: PROcess_1.13.0.zip |
installing R.css in E:/biocbld/bbs-2.1-bioc/meat/PROcess.buildbin-libdir
Using auto-selected zip options ''
---------- Making package PROcess ------------
adding build stamp to DESCRIPTION
installing NAMESPACE file and metadata
installing R files
installing inst files
preparing package PROcess for lazy loading
Loading required package: Icens
Loading required package: survival
Loading required package: splines
installing man source files
installing indices
installing help
>>> Building/Updating help pages for package 'PROcess'
Formats: text html latex example chm
align text html latex chm
aveSpec text html latex example chm
avesd text html latex chm
binning text html latex chm
bslnoff text html latex example chm
gelmap text html latex chm
getMzs text html latex chm
getPeaks text html latex example chm
getPeaks2 text html latex chm
intg text html latex example chm
is.multiple text html latex example chm
isPeak text html latex example chm
lnn text html latex chm
peaks text html latex example chm
pk2bmkr text html latex example chm
quality text html latex example chm
read.files text html latex chm
renorm text html latex example chm
rmBaseline text html latex example chm
specZoom text html latex example chm
Microsoft HTML Help Compiler 4.74.8702
Compiling e:\biocbld\bbs-2.1-bioc\meat\R.INSTALL.4344\PROcess\chm\PROcess.chm
Compile time: 0 minutes, 1 second
21 Topics
47 Local links
0 Internet links
1 Graphic
Created e:\biocbld\bbs-2.1-bioc\meat\R.INSTALL.4344\PROcess\chm\PROcess.chm, 33,802 bytes
Compression decreased file by 17,660 bytes.
adding MD5 sums
packaged installation of package 'PROcess' as PROcess_1.13.0.zip
* DONE (PROcess)