Back to the "Multiple platform build/check report"
| IMPORTANT NOTE: R was configured with --enable-strict-barrier on lamb1 |
| Package 74/247 | Hostname | OS | Arch | BUILD | CHECK | BUILD BIN |
fdrame1.9.0Effi KenigsbergLast Changed Date: 2007-04-24 11:31:42 -0700 Last Changed Rev: 24217 | lamb1 | Linux (SUSE 10.1) | x86_64 | OK | WARNINGS | |
| wellington | Linux (SUSE 9.2) | i686 | OK | WARNINGS | ||
| liverpool | Windows Server 2003 R2 (32-bit) | x64 | OK | WARNINGS | [ OK ] | |
| pitt | Mac OS X (10.4.10) | i386 | OK | WARNINGS | OK |
| Package: fdrame |
| Version: 1.9.0 |
| Command: E:\biocbld\bbs-2.1-bioc\R\bin\R.exe CMD INSTALL --build --library=fdrame.buildbin-libdir fdrame_1.9.0.tar.gz |
| RetCode: 0 |
| Time: 24.7 seconds |
| Status: OK |
| PackageFile: fdrame_1.9.0.zip |
installing R.css in E:/biocbld/bbs-2.1-bioc/meat/fdrame.buildbin-libdir
Using auto-selected zip options 'fdrame-ZIPDATA=zip'
---------- Making package fdrame ------------
adding build stamp to DESCRIPTION
making DLL ...
making fdr.d from fdr.c
gcc -IE:/biocbld/bbs-2.1-bioc/R/include -Wall -O3 -std=gnu99 -c fdr.c -o fdr.o
windres -I E:/biocbld/bbs-2.1-bioc/R/include -i fdrame_res.rc -o fdrame_res.o
gcc -shared -s -o fdrame.dll fdrame.def fdr.o fdrame_res.o -LE:/biocbld/bbs-2.1-bioc/R/bin -lR
... DLL made
installing DLL
installing R files
installing inst files
installing data files
installing man source files
installing indices
zipping data
installing help
>>> Building/Updating help pages for package 'fdrame'
Formats: text html latex example chm
design text html latex example chm
exp.arr text html latex example chm
fdr-internal text html latex chm
fdrgui text html latex example chm
fdrma text html latex example chm
Microsoft HTML Help Compiler 4.74.8702
Compiling e:\biocbld\bbs-2.1-bioc\meat\R.INSTALL.6084\fdrame\chm\fdrame.chm
Compile time: 0 minutes, 1 second
6 Topics
9 Local links
0 Internet links
1 Graphic
Created e:\biocbld\bbs-2.1-bioc\meat\R.INSTALL.6084\fdrame\chm\fdrame.chm, 21,629 bytes
Compression decreased file by 495 bytes.
preparing package fdrame for lazy loading
adding MD5 sums
packaged installation of package 'fdrame' as fdrame_1.9.0.zip
* DONE (fdrame)