Back to the "Multiple platform build/check report"
| IMPORTANT NOTE: R was configured with --enable-strict-barrier on lamb1 |
| Package 102/247 | Hostname | OS | Arch | BUILD | CHECK | BUILD BIN |
gpls1.9.0Biocore Team c/o BioC user listLast Changed Date: 2007-08-20 09:33:20 -0700 Last Changed Rev: 26527 | lamb1 | Linux (SUSE 10.1) | x86_64 | OK | OK | |
| wellington | Linux (SUSE 9.2) | i686 | OK | OK | ||
| liverpool | Windows Server 2003 R2 (32-bit) | x64 | OK | OK | [ OK ] | |
| pitt | Mac OS X (10.4.10) | i386 | OK | OK | OK |
| Package: gpls |
| Version: 1.9.0 |
| Command: E:\biocbld\bbs-2.1-bioc\R\bin\R.exe CMD INSTALL --build --library=gpls.buildbin-libdir gpls_1.9.0.tar.gz |
| RetCode: 0 |
| Time: 15.5 seconds |
| Status: OK |
| PackageFile: gpls_1.9.0.zip |
installing R.css in E:/biocbld/bbs-2.1-bioc/meat/gpls.buildbin-libdir
Using auto-selected zip options ''
---------- Making package gpls ------------
adding build stamp to DESCRIPTION
installing NAMESPACE file and metadata
installing R files
installing inst files
installing man source files
installing indices
installing help
>>> Building/Updating help pages for package 'gpls'
Formats: text html latex example chm
glpls1a text html latex example chm
glpls1a.cv.error text html latex example chm
glpls1a.logit.all text html latex example chm
glpls1a.mlogit text html latex example chm
glpls1a.mlogit.cv.error text html latex example chm
glpls1a.train.test.error text html latex example chm
gpls text html latex example chm
predict.gpls text html latex example chm
Microsoft HTML Help Compiler 4.74.8702
Compiling e:\biocbld\bbs-2.1-bioc\meat\R.INSTALL.4940\gpls\chm\gpls.chm
Compile time: 0 minutes, 0 seconds
9 Topics
51 Local links
0 Internet links
1 Graphic
Created e:\biocbld\bbs-2.1-bioc\meat\R.INSTALL.4940\gpls\chm\gpls.chm, 25,545 bytes
Compression decreased file by 13,051 bytes.
adding MD5 sums
packaged installation of package 'gpls' as gpls_1.9.0.zip
* DONE (gpls)