Back to the "Multiple platform build/check report"
| IMPORTANT NOTE: R was configured with --enable-strict-barrier on lamb1 |
| Package 169/247 | Hostname | OS | Arch | BUILD | CHECK | BUILD BIN |
pdInfoBuilder1.1.9Seth FalconLast Changed Date: 2007-08-01 22:50:01 -0700 Last Changed Rev: 26123 | lamb1 | Linux (SUSE 10.1) | x86_64 | OK | WARNINGS | |
| wellington | Linux (SUSE 9.2) | i686 | OK | WARNINGS | ||
| liverpool | Windows Server 2003 R2 (32-bit) | x64 | [ OK ] | WARNINGS | OK | |
| pitt | Mac OS X (10.4.10) | i386 | OK | WARNINGS | OK |
| Package: pdInfoBuilder |
| Version: 1.1.9 |
| Command: E:\biocbld\bbs-2.1-bioc\R\bin\R.exe CMD build pdInfoBuilder |
| RetCode: 0 |
| Time: 23.4 seconds |
| Status: OK |
| PackageFile: pdInfoBuilder_1.1.9.tar.gz |
* checking for file 'pdInfoBuilder/DESCRIPTION' ... OK
* preparing 'pdInfoBuilder':
* checking DESCRIPTION meta-information ... OK
* cleaning src
* installing the package to re-build vignettes
installing R.css in E:/biocbld/bbs-2.1-bioc/tmpdir/Rinst478809155
---------- Making package pdInfoBuilder ------------
adding build stamp to DESCRIPTION
installing NAMESPACE file and metadata
making DLL ...
making pdInfoBuilder.d from pdInfoBuilder.c
gcc -Ie:/biocbld/bbs-2.1-bioc/R/include -Wall -O3 -std=gnu99 -c pdInfoBuilder.c -o pdInfoBuilder.o
windres -I e:/biocbld/bbs-2.1-bioc/R/include -i pdInfoBuilder_res.rc -o pdInfoBuilder_res.o
gcc -shared -s -o pdInfoBuilder.dll pdInfoBuilder.def pdInfoBuilder.o pdInfoBuilder_res.o -Le:/biocbld/bbs-2.1-bioc/R/bin -lR
... DLL made
installing DLL
installing R files
installing inst files
preparing package pdInfoBuilder for lazy loading
Loading required package: Biobase
Loading required package: tools
Welcome to Bioconductor
Vignettes contain introductory material. To view, type
'openVignette()'. To cite Bioconductor, see
'citation("Biobase")' and for packages 'citation(pkgname)'.
Loading required package: RSQLite
Loading required package: DBI
Loading required package: affxparser
Loading required package: oligo
Loading required package: affyio
Loading required package: splines
Loading required package: BufferedMatrix
Loading required package: BufferedMatrixMethods
Loading required package: preprocessCore
Loading required package: AnnotationDbi
This is the oligo package
installing man source files
installing indices
installing help
>>> Building/Updating help pages for package 'pdInfoBuilder'
Formats: text html latex example chm
AffySNPPDInfoPkgSeed-class text html latex example chm
PDInfoPkgSeed-class text html latex example chm
PkgSeed-class text html latex example chm
chipName text html latex chm
makePdInfoPackage text html latex example chm
Microsoft HTML Help Compiler 4.74.8702
Compiling e:\biocbld\bbs-2.1-bioc\meat\pdInfoBuilder\chm\pdInfoBuilder.chm
Compile time: 0 minutes, 0 seconds
6 Topics
16 Local links
0 Internet links
1 Graphic
Created e:\biocbld\bbs-2.1-bioc\meat\pdInfoBuilder\chm\pdInfoBuilder.chm, 21,728 bytes
Compression increased file by 437 bytes.
adding MD5 sums
* DONE (pdInfoBuilder)
* creating vignettes ... OK
* cleaning src
* removing junk files
* checking for LF line-endings in source files
* checking for empty or unneeded directories
* building 'pdInfoBuilder_1.1.9.tar.gz'