Back to the "Multiple platform build/check report"
| IMPORTANT NOTE: R was configured with --enable-strict-barrier on lamb1 | 
| Package 129/247 | Hostname | OS | Arch | BUILD | CHECK | BUILD BIN | 
| macat1.11.3Joern ToedlingLast Changed Date: 2007-05-16 02:03:53 -0700 Last Changed Rev: 24699 | lamb1 | Linux (SUSE 10.1) | x86_64 | OK | OK | |
| wellington | Linux (SUSE 9.2) | i686 | OK | OK | ||
| liverpool | Windows Server 2003 R2 (32-bit) | x64 | OK | OK | [ OK ] | |
| pitt | Mac OS X (10.4.10) | i386 | OK | OK | OK | 
| Package: macat | 
| Version: 1.11.3 | 
| Command: E:\biocbld\bbs-2.1-bioc\R\bin\R.exe CMD INSTALL --build --library=macat.buildbin-libdir macat_1.11.3.tar.gz | 
| RetCode: 0 | 
| Time: 23.7 seconds | 
| Status: OK | 
| PackageFile: macat_1.11.3.zip | 
installing R.css in E:/biocbld/bbs-2.1-bioc/meat/macat.buildbin-libdir
Using auto-selected zip options 'macat-ZIPDATA=zip macat-HELP=ziponly'
---------- Making package macat ------------
  adding build stamp to DESCRIPTION
  installing NAMESPACE file and metadata
  installing R files
  installing demos
  installing inst files
  installing data files
  installing man source files
  installing indices
  zipping data
  installing help
 >>> Building/Updating help pages for package 'macat'
     Formats: text html latex example chm 
  buildMACAT                        text    html    latex   example chm
  compute.sliding                   text    html    latex   example chm
  discreteKernelize                 text    html    latex   example chm
  discretize                        text    html    latex           chm
  discretize.tscores                text    html    latex   example chm
  discretizeAll                     text    html    latex   example chm
  evalScoring                       text    html    latex   example chm
  evaluateParameters                text    html    latex   example chm
  get.results                       text    html    latex   example chm
  html                              text    html    latex           chm
  kernelize                         text    html    latex   example chm
  kernelizeAll                      text    html    latex   example chm
  kernelizeToPython                 text    html    latex   example chm
  kernels                           text    html    latex   example chm
  loaddatapkg                       text    html    latex   example chm
  macat-internal                    text    html    latex           chm
  plot.MACATevalScoring             text    html    latex   example chm
  preprocessedLoader                text    html    latex   example chm
  pythondata                        text    html    latex   example chm
  scoring                           text    html    latex   example chm
  stjd                              text    html    latex   example chm
  zipping help files
Microsoft HTML Help Compiler 4.74.8702
Compiling e:\biocbld\bbs-2.1-bioc\meat\R.INSTALL.3904\macat\chm\macat.chm
Compile time: 0 minutes, 0 seconds
22	Topics
85	Local links
0	Internet links
1	Graphic
Created e:\biocbld\bbs-2.1-bioc\meat\R.INSTALL.3904\macat\chm\macat.chm, 45,196 bytes
Compression decreased file by 38,192 bytes.
  preparing package macat for lazy loading
Loading required package: Biobase
Loading required package: tools
Welcome to Bioconductor
  Vignettes contain introductory material. To view, type
  'openVignette()'. To cite Bioconductor, see
  'citation("Biobase")' and for packages 'citation(pkgname)'.
Loading required package: annotate
Loading required package: AnnotationDbi
Loading required package: DBI
Loading required package: RSQLite
  adding MD5 sums
packaged installation of package 'macat' as macat_1.11.3.zip
* DONE (macat)