Back to the "Multiple platform build/check report"
| IMPORTANT NOTE: R was configured with --enable-strict-barrier on lamb1 |
| Package 52/247 | Hostname | OS | Arch | BUILD | CHECK | BUILD BIN |
CoCiteStats1.9.3R. GentlemanLast Changed Date: 2007-06-07 09:48:37 -0700 Last Changed Rev: 25252 | lamb1 | Linux (SUSE 10.1) | x86_64 | OK | OK | |
| wellington | Linux (SUSE 9.2) | i686 | OK | OK | ||
| liverpool | Windows Server 2003 R2 (32-bit) | x64 | [ OK ] | OK | OK | |
| pitt | Mac OS X (10.4.10) | i386 | OK | OK | OK |
| Package: CoCiteStats |
| Version: 1.9.3 |
| Command: E:\biocbld\bbs-2.1-bioc\R\bin\R.exe CMD build CoCiteStats |
| RetCode: 0 |
| Time: 2.8 seconds |
| Status: OK |
| PackageFile: CoCiteStats_1.9.3.tar.gz |
* checking for file 'CoCiteStats/DESCRIPTION' ... OK * preparing 'CoCiteStats': * checking DESCRIPTION meta-information ... OK * removing junk files * checking for LF line-endings in source files * checking for empty or unneeded directories * building 'CoCiteStats_1.9.3.tar.gz'