Back to the "Multiple platform build/check report"
| IMPORTANT NOTE: R was configured with --enable-strict-barrier on lamb1 |
| Package 134/247 | Hostname | OS | Arch | BUILD | CHECK | BUILD BIN |
makePlatformDesign1.1.3Benilton CarvalhoLast Changed Date: 2007-08-06 23:20:53 -0700 Last Changed Rev: 26204 | lamb1 | Linux (SUSE 10.1) | x86_64 | OK | OK | |
| wellington | Linux (SUSE 9.2) | i686 | OK | OK | ||
| liverpool | Windows Server 2003 R2 (32-bit) | x64 | [ OK ] | OK | OK | |
| pitt | Mac OS X (10.4.10) | i386 | OK | OK | OK |
| Package: makePlatformDesign |
| Version: 1.1.3 |
| Command: E:\biocbld\bbs-2.1-bioc\R\bin\R.exe CMD build makePlatformDesign |
| RetCode: 0 |
| Time: 2.8 seconds |
| Status: OK |
| PackageFile: makePlatformDesign_1.1.3.tar.gz |
* checking for file 'makePlatformDesign/DESCRIPTION' ... OK * preparing 'makePlatformDesign': * checking DESCRIPTION meta-information ... OK * cleaning src * removing junk files * checking for LF line-endings in source files * checking for empty or unneeded directories WARNING: directory 'makePlatformDesign/inst/Code/data' is empty WARNING: directory 'makePlatformDesign/inst/Code/man' is empty * building 'makePlatformDesign_1.1.3.tar.gz'