Back to the "Multiple platform build/check report"
| IMPORTANT NOTE: R was configured with --enable-strict-barrier on lamb1 |
| Package 49/247 | Hostname | OS | Arch | BUILD | CHECK | BUILD BIN |
cghMCR1.7.2J. ZhangLast Changed Date: 2007-07-27 12:41:22 -0700 Last Changed Rev: 26004 | lamb1 | Linux (SUSE 10.1) | x86_64 | OK | WARNINGS | |
| wellington | Linux (SUSE 9.2) | i686 | OK | WARNINGS | ||
| liverpool | Windows Server 2003 R2 (32-bit) | x64 | OK | WARNINGS | [ OK ] | |
| pitt | Mac OS X (10.4.10) | i386 | OK | WARNINGS | OK |
| Package: cghMCR |
| Version: 1.7.2 |
| Command: E:\biocbld\bbs-2.1-bioc\R\bin\R.exe CMD INSTALL --build --library=cghMCR.buildbin-libdir cghMCR_1.7.2.tar.gz |
| RetCode: 0 |
| Time: 21.0 seconds |
| Status: OK |
| PackageFile: cghMCR_1.7.2.zip |
installing R.css in E:/biocbld/bbs-2.1-bioc/meat/cghMCR.buildbin-libdir
Using auto-selected zip options 'cghMCR-ZIPDATA=zip'
---------- Making package cghMCR ------------
adding build stamp to DESCRIPTION
installing NAMESPACE file and metadata
installing R files
installing inst files
installing data files
preparing package cghMCR for lazy loading
Loading required package: DNAcopy
Loading required package: marray
Loading required package: limma
Loading required package: arrayQuality
Loading required package: convert
Loading required package: Biobase
Loading required package: tools
Welcome to Bioconductor
Vignettes contain introductory material. To view, type
'openVignette()'. To cite Bioconductor, see
'citation("Biobase")' and for packages 'citation(pkgname)'.
Loading required package: hexbin
Loading required package: grid
Loading required package: lattice
Loading required package: gridBase
Loading required package: RColorBrewer
Warning in namespaceImportFrom(self, asNamespace(ns)) :
replacing previous import: summary
Creating a new generic function for "print" in "cghMCR"
installing man source files
installing indices
zipping data
installing help
>>> Building/Updating help pages for package 'cghMCR'
Formats: text html latex example chm
cghMCR-class text html latex example chm
cghMCR text html latex example chm
mergeMCRProbes text html latex example chm
plot.DNAcopy text html latex example chm
Microsoft HTML Help Compiler 4.74.8702
Compiling e:\biocbld\bbs-2.1-bioc\meat\R.INSTALL.5368\cghMCR\chm\cghMCR.chm
Compile time: 0 minutes, 0 seconds
5 Topics
27 Local links
0 Internet links
1 Graphic
Created e:\biocbld\bbs-2.1-bioc\meat\R.INSTALL.5368\cghMCR\chm\cghMCR.chm, 22,135 bytes
Compression increased file by 124 bytes.
adding MD5 sums
packaged installation of package 'cghMCR' as cghMCR_1.7.2.zip
* DONE (cghMCR)