Back to the "Multiple platform build/check report"
| IMPORTANT NOTE: R was configured with --enable-strict-barrier on lamb1 |
| Package 25/247 | Hostname | OS | Arch | BUILD | CHECK | BUILD BIN |
arrayQCplot2.5.0Eun-kyung LeeLast Changed Date: 2007-04-24 11:31:42 -0700 Last Changed Rev: 24217 | lamb1 | Linux (SUSE 10.1) | x86_64 | OK | WARNINGS | |
| wellington | Linux (SUSE 9.2) | i686 | OK | ERROR | ||
| liverpool | Windows Server 2003 R2 (32-bit) | x64 | OK | ERROR | [ ERROR ] | |
| pitt | Mac OS X (10.4.10) | i386 | OK | WARNINGS | OK |
| Package: arrayQCplot |
| Version: 2.5.0 |
| Command: E:\biocbld\bbs-2.1-bioc\R\bin\R.exe CMD INSTALL --build --library=arrayQCplot.buildbin-libdir arrayQCplot_2.5.0.tar.gz |
| RetCode: 1 |
| Time: 18.1 seconds |
| Status: ERROR |
| PackageFile: None |
installing R.css in E:/biocbld/bbs-2.1-bioc/meat/arrayQCplot.buildbin-libdir
Using auto-selected zip options ''
---------- Making package arrayQCplot ------------
adding build stamp to DESCRIPTION
installing R files
installing inst files
installing man source files
installing indices
installing help
>>> Building/Updating help pages for package 'arrayQCplot'
Formats: text html latex example chm
arrayQC.plot text html latex example chm
Microsoft HTML Help Compiler 4.74.8702
Compiling e:\biocbld\bbs-2.1-bioc\meat\R.INSTALL.1720\arrayQCplot\chm\arrayQCplot.chm
Compile time: 0 minutes, 0 seconds
2 Topics
2 Local links
0 Internet links
1 Graphic
Created e:\biocbld\bbs-2.1-bioc\meat\R.INSTALL.1720\arrayQCplot\chm\arrayQCplot.chm, 15,728 bytes
Compression increased file by 9,087 bytes.
preparing package arrayQCplot for lazy loading
Loading required package: RGtk2
Error in dyn.load(file, ...) :
unable to load shared library 'E:/biocbld/bbs-2.1-bioc/R/library/RGtk2/libs/RGtk2.dll':
LoadLibrary failure: The specified procedure could not be found.
Error in fun(...) :
Failed to load RGtk2 dynamic library: Error in dyn.load(file, ...) :
unable to load shared library 'E:/biocbld/bbs-2.1-bioc/R/library/RGtk2/libs/RGtk2.dll':
LoadLibrary failure: The specified procedure could not be found.
Please install the latest GTK+ runtime from http://gladewin32.sf.net/ and restart R
Error : .onLoad failed in 'loadNamespace' for 'RGtk2'
Error: package 'RGtk2' could not be loaded
Execution halted
make: *** [lazyload] Error 1
*** Installation of arrayQCplot failed ***
Removing 'E:/biocbld/bbs-2.1-bioc/meat/arrayQCplot.buildbin-libdir/arrayQCplot'