Back to the "Multiple platform build/check report"
| IMPORTANT NOTE: R was configured with --enable-strict-barrier on lamb1 | 
| Package 153/247 | Hostname | OS | Arch | BUILD | CHECK | BUILD BIN | 
| nudge1.5.1N. DeanLast Changed Date: 2007-04-19 15:27:45 -0700 Last Changed Rev: 24052 | lamb1 | Linux (SUSE 10.1) | x86_64 | OK | ERROR | |
| wellington | Linux (SUSE 9.2) | i686 | OK | ERROR | ||
| liverpool | Windows Server 2003 R2 (32-bit) | x64 | [ OK ] | ERROR | OK | |
| pitt | Mac OS X (10.4.10) | i386 | OK | ERROR | OK | 
| Package: nudge | 
| Version: 1.5.1 | 
| Command: E:\biocbld\bbs-2.1-bioc\R\bin\R.exe CMD build nudge | 
| RetCode: 0 | 
| Time: 34.5 seconds | 
| Status: OK | 
| PackageFile: nudge_1.5.1.tar.gz | 
* checking for file 'nudge/DESCRIPTION' ... OK
* preparing 'nudge':
* checking DESCRIPTION meta-information ... OK
* installing the package to re-build vignettes
installing R.css in E:/biocbld/bbs-2.1-bioc/tmpdir/Rinst403640197
---------- Making package nudge ------------
  adding build stamp to DESCRIPTION
  installing R files
  installing inst files
  installing data files
  installing man source files
  installing indices
  not zipping data
  installing help
 >>> Building/Updating help pages for package 'nudge'
     Formats: text html latex example chm 
  hiv                               text    html    latex           chm
  like                              text    html    latex           chm
  neg.contr                         text    html    latex           chm
  norm1a                            text    html    latex   example chm
  norm1b                            text    html    latex   example chm
  norm1c                            text    html    latex   example chm
  norm1d                            text    html    latex   example chm
  norm2c                            text    html    latex   example chm
  norm2d                            text    html    latex   example chm
  nudge1                            text    html    latex   example chm
  nudge2                            text    html    latex   example chm
  pos.contr                         text    html    latex           chm
Microsoft HTML Help Compiler 4.74.8702
Compiling e:\biocbld\bbs-2.1-bioc\meat\nudge\chm\nudge.chm
Compile time: 0 minutes, 1 second
13	Topics
74	Local links
12	Internet links
1	Graphic
Created e:\biocbld\bbs-2.1-bioc\meat\nudge\chm\nudge.chm, 32,208 bytes
Compression decreased file by 24,584 bytes.
  adding MD5 sums
* DONE (nudge)
* creating vignettes ... OK
* removing junk files
* checking for LF line-endings in source files
* checking for empty or unneeded directories
* building 'nudge_1.5.1.tar.gz'