Back to the "Multiple platform build/check report"
| IMPORTANT NOTE: R was configured with --enable-strict-barrier on lamb1 |
| Package 166/247 | Hostname | OS | Arch | BUILD | CHECK | BUILD BIN |
pathRender1.5.0Li LongLast Changed Date: 2007-05-11 21:56:41 -0700 Last Changed Rev: 24616 | lamb1 | Linux (SUSE 10.1) | x86_64 | OK | OK | |
| wellington | Linux (SUSE 9.2) | i686 | OK | OK | ||
| liverpool | Windows Server 2003 R2 (32-bit) | x64 | OK | [ OK ] | OK | |
| pitt | Mac OS X (10.4.10) | i386 | OK | OK | OK |
| Package: pathRender |
| Version: 1.5.0 |
| Command: E:\biocbld\bbs-2.1-bioc\R\bin\R.exe CMD check pathRender_1.5.0.tar.gz |
| RetCode: 0 |
| Time: 40.8 seconds |
| Status: OK |
| CheckDir: pathRender.Rcheck |
| Warnings: 0 |
* checking for working latex ... OK * using log directory 'E:/biocbld/bbs-2.1-bioc/meat/pathRender.Rcheck' * using R version 2.6.0 Under development (unstable) (2007-08-06 r42439) * checking for file 'pathRender/DESCRIPTION' ... OK * this is package 'pathRender' version '1.5.0' * checking package name space information ... OK * checking package dependencies ... OK * checking if this is a source package ... OK * checking whether package 'pathRender' can be installed ... OK * checking package directory ... OK * checking for portable file names ... OK * checking DESCRIPTION meta-information ... OK * checking top-level files ... OK * checking index information ... OK * checking package subdirectories ... OK * checking R files for non-ASCII characters ... OK * checking R files for syntax errors ... OK * checking whether the package can be loaded ... OK * checking whether the package can be loaded with stated dependencies ... OK * checking whether the name space can be loaded with stated dependencies ... OK * checking for unstated dependencies in R code ... OK * checking S3 generic/method consistency ... OK * checking replacement functions ... OK * checking foreign function calls ... OK * checking R code for possible problems ... OK * checking Rd files ... OK * checking Rd cross-references ... OK * checking for missing documentation entries ... OK * checking for code/documentation mismatches ... OK * checking Rd \usage sections ... OK * creating pathRender-Ex.R ... OK * checking examples ... OK * creating pathRender-manual.tex ... OK * checking pathRender-manual.tex ... OK
pathRender.Rcheck/00install.out:
installing R.css in E:/biocbld/bbs-2.1-bioc/meat/pathRender.Rcheck
---------- Making package pathRender ------------
adding build stamp to DESCRIPTION
installing NAMESPACE file and metadata
installing R files
preparing package pathRender for lazy loading
Loading required package: graph
Loading required package: Rgraphviz
Loading required package: cMAP
installing man source files
installing indices
installing help
>>> Building/Updating help pages for package 'pathRender'
Formats: text html latex example chm
rendercMAP text html latex example chm
Microsoft HTML Help Compiler 4.74.8702
Compiling e:\biocbld\bbs-2.1-bioc\meat\pathRender.Rcheck\00_pkg_src\pathRender\chm\pathRender.chm
Compile time: 0 minutes, 0 seconds
2 Topics
2 Local links
0 Internet links
1 Graphic
Created e:\biocbld\bbs-2.1-bioc\meat\pathRender.Rcheck\00_pkg_src\pathRender\chm\pathRender.chm, 16,287 bytes
Compression increased file by 8,966 bytes.
adding MD5 sums
* DONE (pathRender)