Back to the "Multiple platform build/check report"
| IMPORTANT NOTE: R was configured with --enable-strict-barrier on lamb1 |
| Package 157/247 | Hostname | OS | Arch | BUILD | CHECK | BUILD BIN |
oligoClasses0.0.2Benilton CarvalhoLast Changed Date: 2007-08-22 06:27:40 -0700 Last Changed Rev: 26586 | lamb1 | Linux (SUSE 10.1) | x86_64 | OK | WARNINGS | |
| wellington | Linux (SUSE 9.2) | i686 | OK | WARNINGS | ||
| liverpool | Windows Server 2003 R2 (32-bit) | x64 | OK | WARNINGS | [ OK ] | |
| pitt | Mac OS X (10.4.10) | i386 | OK | WARNINGS | OK |
| Package: oligoClasses |
| Version: 0.0.2 |
| Command: E:\biocbld\bbs-2.1-bioc\R\bin\R.exe CMD INSTALL --build --library=oligoClasses.buildbin-libdir oligoClasses_0.0.2.tar.gz |
| RetCode: 0 |
| Time: 13.6 seconds |
| Status: OK |
| PackageFile: oligoClasses_0.0.2.zip |
installing R.css in E:/biocbld/bbs-2.1-bioc/meat/oligoClasses.buildbin-libdir
Using auto-selected zip options ''
---------- Making package oligoClasses ------------
adding build stamp to DESCRIPTION
installing NAMESPACE file and metadata
installing R files
preparing package oligoClasses for lazy loading
Loading required package: Biobase
Loading required package: tools
Welcome to Bioconductor
Vignettes contain introductory material. To view, type
'openVignette()'. To cite Bioconductor, see
'citation("Biobase")' and for packages 'citation(pkgname)'.
no man files in this package
installing indices
installing help
adding MD5 sums
packaged installation of package 'oligoClasses' as oligoClasses_0.0.2.zip
* DONE (oligoClasses)