Back to the "Multiple platform build/check report"
| IMPORTANT NOTE: R was configured with --enable-strict-barrier on lamb1 |
| Package 236/247 | Hostname | OS | Arch | BUILD | CHECK | BUILD BIN |
timecourse1.8.1Yu Chuan TaiLast Changed Date: 2007-06-06 09:54:12 -0700 Last Changed Rev: 25228 | lamb1 | Linux (SUSE 10.1) | x86_64 | OK | OK | |
| wellington | Linux (SUSE 9.2) | i686 | OK | OK | ||
| liverpool | Windows Server 2003 R2 (32-bit) | x64 | OK | OK | [ OK ] | |
| pitt | Mac OS X (10.4.10) | i386 | OK | OK | OK |
| Package: timecourse |
| Version: 1.8.1 |
| Command: E:\biocbld\bbs-2.1-bioc\R\bin\R.exe CMD INSTALL --build --library=timecourse.buildbin-libdir timecourse_1.8.1.tar.gz |
| RetCode: 0 |
| Time: 19.4 seconds |
| Status: OK |
| PackageFile: timecourse_1.8.1.zip |
installing R.css in E:/biocbld/bbs-2.1-bioc/meat/timecourse.buildbin-libdir
Using auto-selected zip options 'timecourse-ZIPDATA=zip'
---------- Making package timecourse ------------
adding build stamp to DESCRIPTION
installing R files
installing inst files
installing data files
installing man source files
installing indices
zipping data
installing help
>>> Building/Updating help pages for package 'timecourse'
Formats: text html latex example chm
abs2ratio text html latex chm
fruitfly text html latex chm
marrayTC-class text html latex chm
matrix.cov text html latex chm
mb.MANOVA text html latex example chm
mb.long text html latex example chm
ot.helmert text html latex chm
plotProfile text html latex chm
univ.func text html latex chm
Microsoft HTML Help Compiler 4.74.8702
Compiling e:\biocbld\bbs-2.1-bioc\meat\R.INSTALL.5432\timecourse\chm\timecourse.chm
Compile time: 0 minutes, 1 second
10 Topics
27 Local links
2 Internet links
1 Graphic
Created e:\biocbld\bbs-2.1-bioc\meat\R.INSTALL.5432\timecourse\chm\timecourse.chm, 35,015 bytes
Compression decreased file by 16,479 bytes.
preparing package timecourse for lazy loading
Loading required package: limma
Loading required package: MASS
Loading required package: Biobase
Loading required package: tools
Welcome to Bioconductor
Vignettes contain introductory material. To view, type
'openVignette()'. To cite Bioconductor, see
'citation("Biobase")' and for packages 'citation(pkgname)'.
adding MD5 sums
packaged installation of package 'timecourse' as timecourse_1.8.1.zip
* DONE (timecourse)