Back to the "Multiple platform build/check report"
| IMPORTANT NOTE: R was configured with --enable-strict-barrier on lamb1 |
| Package 43/247 | Hostname | OS | Arch | BUILD | CHECK | BUILD BIN |
BufferedMatrixMethods1.1.4B. M. BolstadLast Changed Date: 2007-07-13 06:56:00 -0700 Last Changed Rev: 25798 | lamb1 | Linux (SUSE 10.1) | x86_64 | OK | OK | |
| wellington | Linux (SUSE 9.2) | i686 | OK | OK | ||
| liverpool | Windows Server 2003 R2 (32-bit) | x64 | OK | OK | [ OK ] | |
| pitt | Mac OS X (10.4.10) | i386 | OK | OK | OK |
| Package: BufferedMatrixMethods |
| Version: 1.1.4 |
| Command: E:\biocbld\bbs-2.1-bioc\R\bin\R.exe CMD INSTALL --build --library=BufferedMatrixMethods.buildbin-libdir BufferedMatrixMethods_1.1.4.tar.gz |
| RetCode: 0 |
| Time: 16.6 seconds |
| Status: OK |
| PackageFile: BufferedMatrixMethods_1.1.4.zip |
installing R.css in E:/biocbld/bbs-2.1-bioc/meat/BufferedMatrixMethods.buildbin-libdir
Using auto-selected zip options ''
---------- Making package BufferedMatrixMethods ------------
adding build stamp to DESCRIPTION
making DLL ...
making init_package.d from init_package.c
making preprocess_bm.d from preprocess_bm.c
gcc -IE:/biocbld/bbs-2.1-bioc/R/include -I"E:/biocbld/bbs-2.1-bioc/R/library/BufferedMatrix/include" -Wall -O3 -std=gnu99 -c init_package.c -o init_package.o
gcc -IE:/biocbld/bbs-2.1-bioc/R/include -I"E:/biocbld/bbs-2.1-bioc/R/library/BufferedMatrix/include" -Wall -O3 -std=gnu99 -c preprocess_bm.c -o preprocess_bm.o
preprocess_bm.c: In function `bm_rma_bg_correct':
preprocess_bm.c:342: warning: unused variable `i'
preprocess_bm.c: In function `R_bm_rma_bg_correct':
preprocess_bm.c:376: warning: unused variable `current_mode'
preprocess_bm.c: In function `R_bm_quantile_normalize':
preprocess_bm.c:591: warning: unused variable `current_mode'
preprocess_bm.c: At top level:
preprocess_bm.c:451: warning: 'min' defined but not used
windres -I E:/biocbld/bbs-2.1-bioc/R/include -i BufferedMatrixMethods_res.rc -o BufferedMatrixMethods_res.o
gcc -shared -s -o BufferedMatrixMethods.dll BufferedMatrixMethods.def init_package.o preprocess_bm.o BufferedMatrixMethods_res.o -LE:/biocbld/bbs-2.1-bioc/R/bin -lR
... DLL made
installing DLL
installing R files
installing man source files
installing indices
installing help
>>> Building/Updating help pages for package 'BufferedMatrixMethods'
Formats: text html latex example chm
rmapreprocess.bufferedmatrix text html latex chm
Microsoft HTML Help Compiler 4.74.8702
Compiling e:\biocbld\bbs-2.1-bioc\meat\R.INSTALL.4620\BufferedMatrixMethods\chm\BufferedMatrixMethods.chm
Compile time: 0 minutes, 0 seconds
2 Topics
5 Local links
0 Internet links
1 Graphic
Created e:\biocbld\bbs-2.1-bioc\meat\R.INSTALL.4620\BufferedMatrixMethods\chm\BufferedMatrixMethods.chm, 16,676 bytes
Compression increased file by 7,001 bytes.
adding MD5 sums
packaged installation of package 'BufferedMatrixMethods' as BufferedMatrixMethods_1.1.4.zip
* DONE (BufferedMatrixMethods)