Back to the "Multiple platform build/check report"
| IMPORTANT NOTE: R was configured with --enable-strict-barrier on lamb1 |
| Package 210/247 | Hostname | OS | Arch | BUILD | CHECK | BUILD BIN |
safe1.9.0William T. BarryLast Changed Date: 2007-04-24 11:31:42 -0700 Last Changed Rev: 24217 | lamb1 | Linux (SUSE 10.1) | x86_64 | OK | OK | |
| wellington | Linux (SUSE 9.2) | i686 | OK | OK | ||
| liverpool | Windows Server 2003 R2 (32-bit) | x64 | OK | OK | [ OK ] | |
| pitt | Mac OS X (10.4.10) | i386 | OK | OK | OK |
| Package: safe |
| Version: 1.9.0 |
| Command: E:\biocbld\bbs-2.1-bioc\R\bin\R.exe CMD INSTALL --build --library=safe.buildbin-libdir safe_1.9.0.tar.gz |
| RetCode: 0 |
| Time: 14.3 seconds |
| Status: OK |
| PackageFile: safe_1.9.0.zip |
installing R.css in E:/biocbld/bbs-2.1-bioc/meat/safe.buildbin-libdir
Using auto-selected zip options ''
---------- Making package safe ------------
adding build stamp to DESCRIPTION
installing R files
installing inst files
installing man source files
installing indices
installing help
>>> Building/Updating help pages for package 'safe'
Formats: text html latex example chm
SAFE-class text html latex chm
getCmatrix text html latex example chm
getPImatrix text html latex example chm
safe-internal text html latex chm
safe text html latex example chm
safeplot text html latex example chm
Microsoft HTML Help Compiler 4.74.8702
Compiling e:\biocbld\bbs-2.1-bioc\meat\R.INSTALL.5656\safe\chm\safe.chm
Compile time: 0 minutes, 0 seconds
7 Topics
26 Local links
0 Internet links
1 Graphic
Created e:\biocbld\bbs-2.1-bioc\meat\R.INSTALL.5656\safe\chm\safe.chm, 27,849 bytes
Compression decreased file by 4,736 bytes.
adding MD5 sums
packaged installation of package 'safe' as safe_1.9.0.zip
* DONE (safe)