Back to the "Multiple platform build/check report"
| IMPORTANT NOTE: R was configured with --enable-strict-barrier on lamb1 |
| Package 177/247 | Hostname | OS | Arch | BUILD | CHECK | BUILD BIN |
ppiStats1.3.8Tony ChiangLast Changed Date: 2007-07-06 03:09:46 -0700 Last Changed Rev: 25673 | lamb1 | Linux (SUSE 10.1) | x86_64 | OK | WARNINGS | |
| wellington | Linux (SUSE 9.2) | i686 | OK | WARNINGS | ||
| liverpool | Windows Server 2003 R2 (32-bit) | x64 | [ OK ] | WARNINGS | OK | |
| pitt | Mac OS X (10.4.10) | i386 | OK | WARNINGS | OK |
| Package: ppiStats |
| Version: 1.3.8 |
| Command: E:\biocbld\bbs-2.1-bioc\R\bin\R.exe CMD build ppiStats |
| RetCode: 0 |
| Time: 71.8 seconds |
| Status: OK |
| PackageFile: ppiStats_1.3.8.tar.gz |
* checking for file 'ppiStats/DESCRIPTION' ... OK
* preparing 'ppiStats':
* checking DESCRIPTION meta-information ... OK
* installing the package to re-build vignettes
installing R.css in E:/biocbld/bbs-2.1-bioc/tmpdir/Rinst438469299
---------- Making package ppiStats ------------
adding build stamp to DESCRIPTION
installing R files
installing inst files
installing man source files
installing indices
installing help
>>> Building/Updating help pages for package 'ppiStats'
Formats: text html latex example chm
assessSymmetry text html latex example chm
bpMatrix text html latex example chm
calcInOutDegStats text html latex example chm
estErrProbMethodOfMoments text html latex example chm
genBPGraph text html latex example chm
hgParams text html latex example chm
hgTests text html latex example chm
idProteinErrorType text html latex example chm
idProteinType text html latex example chm
nullDistDoublyTestedEdges text html latex example chm
twPERM text html latex example chm
Microsoft HTML Help Compiler 4.74.8702
Compiling e:\biocbld\bbs-2.1-bioc\meat\ppiStats\chm\ppiStats.chm
Compile time: 0 minutes, 0 seconds
12 Topics
28 Local links
2 Internet links
1 Graphic
Created e:\biocbld\bbs-2.1-bioc\meat\ppiStats\chm\ppiStats.chm, 34,007 bytes
Compression decreased file by 12,062 bytes.
adding MD5 sums
* DONE (ppiStats)
* creating vignettes ... OK
* removing junk files
* checking for LF line-endings in source files
* checking for empty or unneeded directories
* building 'ppiStats_1.3.8.tar.gz'