Back to the "Multiple platform build/check report"
| IMPORTANT NOTE: R was configured with --enable-strict-barrier on lamb1 | 
| Package 64/247 | Hostname | OS | Arch | BUILD | CHECK | BUILD BIN | 
DynDoc1.15.0Biocore Team c/o BioC user listLast Changed Date: 2007-08-20 09:33:20 -0700 Last Changed Rev: 26527  | lamb1 | Linux (SUSE 10.1) | x86_64 | OK | OK | |
| wellington | Linux (SUSE 9.2) | i686 | OK | OK | ||
| liverpool | Windows Server 2003 R2 (32-bit) | x64 | OK | [ OK ] | OK | |
| pitt | Mac OS X (10.4.10) | i386 | OK | OK | OK | 
| Package: DynDoc | 
| Version: 1.15.0 | 
| Command: E:\biocbld\bbs-2.1-bioc\R\bin\R.exe CMD check DynDoc_1.15.0.tar.gz | 
| RetCode: 0 | 
| Time: 35.2 seconds | 
| Status: OK | 
| CheckDir: DynDoc.Rcheck | 
| Warnings: 0 | 
* checking for working latex ... OK * using log directory 'E:/biocbld/bbs-2.1-bioc/meat/DynDoc.Rcheck' * using R version 2.6.0 Under development (unstable) (2007-08-06 r42439) * checking for file 'DynDoc/DESCRIPTION' ... OK * this is package 'DynDoc' version '1.15.0' * checking package name space information ... OK * checking package dependencies ... OK * checking if this is a source package ... OK * checking whether package 'DynDoc' can be installed ... OK * checking package directory ... OK * checking for portable file names ... OK * checking DESCRIPTION meta-information ... OK * checking top-level files ... OK * checking index information ... OK * checking package subdirectories ... OK * checking R files for non-ASCII characters ... OK * checking R files for syntax errors ... OK * checking whether the package can be loaded ... OK * checking whether the package can be loaded with stated dependencies ... OK * checking whether the name space can be loaded with stated dependencies ... OK * checking for unstated dependencies in R code ... OK * checking S3 generic/method consistency ... OK * checking replacement functions ... OK * checking foreign function calls ... OK * checking R code for possible problems ... NOTE editVignetteCode : copyEnv: no visible global function definition for 'l2e' getVignette: no visible global function definition for 'buildVersionNumber' * checking Rd files ... OK * checking Rd cross-references ... OK * checking for missing documentation entries ... OK * checking for code/documentation mismatches ... OK * checking Rd \usage sections ... OK * creating DynDoc-Ex.R ... OK * checking examples ... OK * creating DynDoc-manual.tex ... OK * checking DynDoc-manual.tex ... OK
DynDoc.Rcheck/00install.out:
installing R.css in E:/biocbld/bbs-2.1-bioc/meat/DynDoc.Rcheck
---------- Making package DynDoc ------------
  adding build stamp to DESCRIPTION
  installing NAMESPACE file and metadata
  installing R files
  preparing package DynDoc for lazy loading
Creating a new generic function for "summary" in "DynDoc"
  installing man source files
  installing indices
  installing help
 >>> Building/Updating help pages for package 'DynDoc'
     Formats: text html latex example chm 
  DynDoc-class                      text    html    latex           chm
  SweaveOptions-class               text    html    latex           chm
  Vignette-class                    text    html    latex           chm
  chunkList-class                   text    html    latex   example chm
  codeChunk-class                   text    html    latex   example chm
  getPkgVigList                     text    html    latex   example chm
  getVignette                       text    html    latex           chm
  getVignetteCode                   text    html    latex           chm
  getVignetteHeader                 text    html    latex           chm
  tangleToR                         text    html    latex   example chm
  vignetteCode-class                text    html    latex           chm
Microsoft HTML Help Compiler 4.74.8702
Compiling e:\biocbld\bbs-2.1-bioc\meat\DynDoc.Rcheck\00_pkg_src\DynDoc\chm\DynDoc.chm
Compile time: 0 minutes, 0 seconds
12	Topics
119	Local links
0	Internet links
1	Graphic
Created e:\biocbld\bbs-2.1-bioc\meat\DynDoc.Rcheck\00_pkg_src\DynDoc\chm\DynDoc.chm, 30,341 bytes
Compression decreased file by 39,862 bytes.
  adding MD5 sums
* DONE (DynDoc)