Back to the "Multiple platform build/check report"
| IMPORTANT NOTE: R was configured with --enable-strict-barrier on lamb1 |
| Package 51/247 | Hostname | OS | Arch | BUILD | CHECK | BUILD BIN |
clusterStab1.9.0James W. MacDonaldLast Changed Date: 2007-05-16 13:40:25 -0700 Last Changed Rev: 24725 | lamb1 | Linux (SUSE 10.1) | x86_64 | OK | OK | |
| wellington | Linux (SUSE 9.2) | i686 | OK | OK | ||
| liverpool | Windows Server 2003 R2 (32-bit) | x64 | [ OK ] | OK | OK | |
| pitt | Mac OS X (10.4.10) | i386 | OK | OK | OK |
| Package: clusterStab |
| Version: 1.9.0 |
| Command: E:\biocbld\bbs-2.1-bioc\R\bin\R.exe CMD build clusterStab |
| RetCode: 0 |
| Time: 25.9 seconds |
| Status: OK |
| PackageFile: clusterStab_1.9.0.tar.gz |
* checking for file 'clusterStab/DESCRIPTION' ... OK
* preparing 'clusterStab':
* checking DESCRIPTION meta-information ... OK
* installing the package to re-build vignettes
installing R.css in E:/biocbld/bbs-2.1-bioc/tmpdir/Rinst484078637
---------- Making package clusterStab ------------
adding build stamp to DESCRIPTION
installing R files
installing inst files
preparing package clusterStab for lazy loading
Loading required package: Biobase
Loading required package: tools
Welcome to Bioconductor
Vignettes contain introductory material. To view, type
'openVignette()'. To cite Bioconductor, see
'citation("Biobase")' and for packages 'citation(pkgname)'.
installing man source files
installing indices
installing help
>>> Building/Updating help pages for package 'clusterStab'
Formats: text html latex example chm
benhur-class text html latex chm
benhur text html latex example chm
clusterComp-class text html latex chm
clusterComp text html latex example chm
Microsoft HTML Help Compiler 4.74.8702
Compiling e:\biocbld\bbs-2.1-bioc\meat\clusterStab\chm\clusterStab.chm
Compile time: 0 minutes, 0 seconds
5 Topics
22 Local links
0 Internet links
1 Graphic
Created e:\biocbld\bbs-2.1-bioc\meat\clusterStab\chm\clusterStab.chm, 23,082 bytes
Compression decreased file by 1,934 bytes.
adding MD5 sums
* DONE (clusterStab)
* creating vignettes ... OK
* removing junk files
* checking for LF line-endings in source files
* checking for empty or unneeded directories
* building 'clusterStab_1.9.0.tar.gz'