Back to the "Multiple platform build/check report"
| IMPORTANT NOTE: R was configured with --enable-strict-barrier on lamb1 |
| Package 106/247 | Hostname | OS | Arch | BUILD | CHECK | BUILD BIN |
gtkWidgets0.11.0Jianhua ZhangLast Changed Date: 2007-08-01 13:23:31 -0700 Last Changed Rev: 26107 | lamb1 | Linux (SUSE 10.1) | x86_64 | OK | WARNINGS | |
| wellington | Linux (SUSE 9.2) | i686 | OK | WARNINGS | ||
| liverpool | Windows Server 2003 R2 (32-bit) | x64 | OK | ERROR | [ OK ] | |
| pitt | Mac OS X (10.4.10) | i386 | OK | WARNINGS | OK |
| Package: gtkWidgets |
| Version: 0.11.0 |
| Command: E:\biocbld\bbs-2.1-bioc\R\bin\R.exe CMD INSTALL --build --library=gtkWidgets.buildbin-libdir gtkWidgets_0.11.0.tar.gz |
| RetCode: 0 |
| Time: 17.4 seconds |
| Status: OK |
| PackageFile: gtkWidgets_0.11.0.zip |
installing R.css in E:/biocbld/bbs-2.1-bioc/meat/gtkWidgets.buildbin-libdir
Using auto-selected zip options ''
---------- Making package gtkWidgets ------------
adding build stamp to DESCRIPTION
installing R files
installing inst files
preparing package gtkWidgets for lazy loading
Loading required package: DynDoc
installing man source files
installing indices
installing help
>>> Building/Updating help pages for package 'gtkWidgets'
Formats: text html latex example chm
DPExplorer text html latex example chm
bioCMenu-class text html latex example chm
edgeTrimmer text html latex example chm
getCListWithVHScroll text html latex example chm
menuItem-class text html latex example chm
objectBrowser text html latex example chm
subExprSet text html latex example chm
vExplorer text html latex example chm
Microsoft HTML Help Compiler 4.74.8702
Compiling e:\biocbld\bbs-2.1-bioc\meat\R.INSTALL.3076\gtkWidgets\chm\gtkWidgets.chm
Compile time: 0 minutes, 1 second
9 Topics
58 Local links
2 Internet links
1 Graphic
Created e:\biocbld\bbs-2.1-bioc\meat\R.INSTALL.3076\gtkWidgets\chm\gtkWidgets.chm, 30,653 bytes
Compression decreased file by 16,247 bytes.
adding MD5 sums
packaged installation of package 'gtkWidgets' as gtkWidgets_0.11.0.zip
* DONE (gtkWidgets)