Back to the "Multiple platform build/check report"
| IMPORTANT NOTE: R was configured with --enable-strict-barrier on lamb1 |
| Package 47/247 | Hostname | OS | Arch | BUILD | CHECK | BUILD BIN |
cellHTS22.0.7Ligia BrasLast Changed Date: 2007-08-19 12:32:24 -0700 Last Changed Rev: 26509 | lamb1 | Linux (SUSE 10.1) | x86_64 | OK | OK | |
| wellington | Linux (SUSE 9.2) | i686 | OK | OK | ||
| liverpool | Windows Server 2003 R2 (32-bit) | x64 | OK | OK | [ OK ] | |
| pitt | Mac OS X (10.4.10) | i386 | OK | OK | OK |
| Package: cellHTS2 |
| Version: 2.0.7 |
| Command: E:\biocbld\bbs-2.1-bioc\R\bin\R.exe CMD INSTALL --build --library=cellHTS2.buildbin-libdir cellHTS2_2.0.7.tar.gz |
| RetCode: 0 |
| Time: 25.5 seconds |
| Status: OK |
| PackageFile: cellHTS2_2.0.7.zip |
installing R.css in E:/biocbld/bbs-2.1-bioc/meat/cellHTS2.buildbin-libdir
Using auto-selected zip options 'cellHTS2-ZIPDATA=zip cellHTS2-HELP=ziponly'
---------- Making package cellHTS2 ------------
adding build stamp to DESCRIPTION
installing NAMESPACE file and metadata
installing R files
installing inst files
installing data files
installing man source files
installing indices
zipping data
installing help
>>> Building/Updating help pages for package 'cellHTS2'
Formats: text html latex example chm
Bscore text html latex example chm
ROC-class text html latex example chm
ROC text html latex example chm
annotate text html latex example chm
cellHTS-class text html latex example chm
cellHTS-package text html latex chm
configure text html latex example chm
data-KcViab text html latex example chm
data-KcViabSmall text html latex example chm
description text html latex chm
getDynamicRange text html latex example chm
getMeasureRepAgreement text html latex example chm
getReplicatesMatrix text html latex example chm
getTopTable text html latex example chm
getZfactor text html latex example chm
imageScreen text html latex example chm
normalizePlates text html latex example chm
oneRowPerId text html latex example chm
plateEffects text html latex chm
plotSpatialEffects text html latex example chm
rawdata text html latex chm
readPlateData text html latex example chm
scores text html latex chm
spatialNormalization text html latex example chm
state text html latex chm
summarizeChannels text html latex example chm
summarizeReplicates text html latex example chm
wellAnno text html latex chm
write.tabdel text html latex example chm
writeReport text html latex example chm
writeTab text html latex example chm
zipping help files
Microsoft HTML Help Compiler 4.74.8702
Compiling e:\biocbld\bbs-2.1-bioc\meat\R.INSTALL.2416\cellHTS2\chm\cellHTS2.chm
Compile time: 0 minutes, 1 second
32 Topics
274 Local links
0 Internet links
1 Graphic
Created e:\biocbld\bbs-2.1-bioc\meat\R.INSTALL.2416\cellHTS2\chm\cellHTS2.chm, 74,125 bytes
Compression decreased file by 98,444 bytes.
preparing package cellHTS2 for lazy loading
Loading required package: prada
Loading required package: Biobase
Loading required package: tools
Welcome to Bioconductor
Vignettes contain introductory material. To view, type
'openVignette()'. To cite Bioconductor, see
'citation("Biobase")' and for packages 'citation(pkgname)'.
Loading required package: RColorBrewer
Loading required package: grid
KernSmooth 2.22 installed
Copyright M. P. Wand 1997
Loading required package: genefilter
Loading required package: survival
Loading required package: splines
Loading required package: locfit
Loading required package: akima
Loading required package: lattice
adding MD5 sums
packaged installation of package 'cellHTS2' as cellHTS2_2.0.7.zip
* DONE (cellHTS2)