Back to the "Multiple platform build/check report"
| IMPORTANT NOTE: R was configured with --enable-strict-barrier on lamb1 |
| Package 36/247 | Hostname | OS | Arch | BUILD | CHECK | BUILD BIN |
bioDist1.9.1Biocore Team c/o BioC user listLast Changed Date: 2007-08-20 09:33:20 -0700 Last Changed Rev: 26527 | lamb1 | Linux (SUSE 10.1) | x86_64 | OK | OK | |
| wellington | Linux (SUSE 9.2) | i686 | OK | OK | ||
| liverpool | Windows Server 2003 R2 (32-bit) | x64 | OK | OK | [ OK ] | |
| pitt | Mac OS X (10.4.10) | i386 | OK | OK | OK |
| Package: bioDist |
| Version: 1.9.1 |
| Command: E:\biocbld\bbs-2.1-bioc\R\bin\R.exe CMD INSTALL --build --library=bioDist.buildbin-libdir bioDist_1.9.1.tar.gz |
| RetCode: 0 |
| Time: 16.4 seconds |
| Status: OK |
| PackageFile: bioDist_1.9.1.zip |
installing R.css in E:/biocbld/bbs-2.1-bioc/meat/bioDist.buildbin-libdir
Using auto-selected zip options ''
---------- Making package bioDist ------------
adding build stamp to DESCRIPTION
installing NAMESPACE file and metadata
installing R files
installing man source files
installing indices
installing help
>>> Building/Updating help pages for package 'bioDist'
Formats: text html latex example chm
KLD.matrix text html latex example chm
KLdist.matrix text html latex example chm
closest.top text html latex example chm
cor.dist text html latex example chm
euc text html latex example chm
man text html latex example chm
mutualInfo text html latex example chm
spearman.dist text html latex example chm
tau.dist text html latex example chm
Microsoft HTML Help Compiler 4.74.8702
Compiling e:\biocbld\bbs-2.1-bioc\meat\R.INSTALL.5004\bioDist\chm\bioDist.chm
Compile time: 0 minutes, 1 second
10 Topics
103 Local links
0 Internet links
1 Graphic
Created e:\biocbld\bbs-2.1-bioc\meat\R.INSTALL.5004\bioDist\chm\bioDist.chm, 23,010 bytes
Compression decreased file by 16,412 bytes.
adding MD5 sums
packaged installation of package 'bioDist' as bioDist_1.9.1.zip
* DONE (bioDist)